BEGIN:VCALENDAR
VERSION:2.0
PRODID:-//Universidad de la Costa CUC - ECPv6.15.20//NONSGML v1.0//EN
CALSCALE:GREGORIAN
METHOD:PUBLISH
X-ORIGINAL-URL:https://www.cuc.edu.co
X-WR-CALDESC:Eventos para Universidad de la Costa CUC
REFRESH-INTERVAL;VALUE=DURATION:PT1H
X-Robots-Tag:noindex
X-PUBLISHED-TTL:PT1H
BEGIN:VTIMEZONE
TZID:America/New_York
BEGIN:DAYLIGHT
TZOFFSETFROM:-0500
TZOFFSETTO:-0400
TZNAME:EDT
DTSTART:20230312T070000
END:DAYLIGHT
BEGIN:STANDARD
TZOFFSETFROM:-0400
TZOFFSETTO:-0500
TZNAME:EST
DTSTART:20231105T060000
END:STANDARD
BEGIN:DAYLIGHT
TZOFFSETFROM:-0500
TZOFFSETTO:-0400
TZNAME:EDT
DTSTART:20240310T070000
END:DAYLIGHT
BEGIN:STANDARD
TZOFFSETFROM:-0400
TZOFFSETTO:-0500
TZNAME:EST
DTSTART:20241103T060000
END:STANDARD
BEGIN:DAYLIGHT
TZOFFSETFROM:-0500
TZOFFSETTO:-0400
TZNAME:EDT
DTSTART:20250309T070000
END:DAYLIGHT
BEGIN:STANDARD
TZOFFSETFROM:-0400
TZOFFSETTO:-0500
TZNAME:EST
DTSTART:20251102T060000
END:STANDARD
END:VTIMEZONE
BEGIN:VEVENT
DTSTART;VALUE=DATE:20241021
DTEND;VALUE=DATE:20241228
DTSTAMP:20260424T004959
CREATED:20240618T015435Z
LAST-MODIFIED:20240618T015435Z
UID:20043-1729468800-1735343999@www.cuc.edu.co
SUMMARY:Misión Académica internacional “Tendencias para la gerencia de las organizaciones”
DESCRIPTION:El Departamento de Productividad e Innovación de la Universidad de la Costa en el marco del fortalecimiento de sus procesos académicos y de internacionalización\, pone al servicio de la comunidad académica y empresarial de la Región Caribe\, su Misión Académica internacional “Tendencias para la gerencia de las organizaciones” la cual se llevará a cabo del 21 al 27 de octubre en las ciudades de Río de Janeiro y Sao Carlos (Sao Paulo) en Brasil. \nLa misión involucra charlas y talleres con expertos en la Pontificia Universidad Católica de Rio de Janeiro y la Escuela de Ingeniería de la Universidad de Sao Paulo. Así como una agenda nutrida de visitas empresariales y sesiones de networking. \nEjes temáticos:  \n\nInteligencia artificial y automatización en la gestión de proyectos\nRobótica aplicada a la gestión empresarial\nMetodologías ágiles en la gestión de proyectos\nTendencias en la gestión del talento humano (enfocado en bienestar laboral\, salario emocional y flexibilidad en las jornadas de trabajo).\nNegocios sostenibles y nuevas energías\nPolíticas públicas en el marco de los ODS (enfocado en los ODS8: Trabajo decente y crecimiento económico\, ODS9: Industria\, innovación e infraestructura y ODS11: Ciudades y comunidades sostenibles).\n\n  \nDirigida a: \nComunidad académica de la Universidad de la Costa (estudiantes\, profesores\, directivos\, administrativos y graduados) con interés en las temáticas de la misión. \nExternos con interés en participar. \n  \nOrganizan: \n\nEspecialización en Gerencia Estratégica\nEspecialización y Maestría en Gerencia de Proyectos\nEspecialización y Maestría en Gerencia en Seguridad y Salud en el trabajo\nDepartamento de Productividad e Innovación\n\nApoya: \nConsulado Honorario de Brasil en Colombia (Regional Norte y Santanderes). \nInformes: \nLaura Rivera: lrivera8@cuc.edu.co \nLucelys Vidal: lvidal2@cuc.edu.co \nMayra Macías: mmacias3@cuc.edu.co
URL:https://www.cuc.edu.co/evento/mision-academica-internacional-tendencias-para-la-gerencia-de-las-organizaciones
CATEGORIES:Eventos Principales
ATTACH;FMTTYPE=image/jpeg:https://www.cuc.edu.co/wp-content/uploads/2024/06/sol666b36d052490.jpg
END:VEVENT
BEGIN:VEVENT
DTSTART;TZID=America/New_York:20241106T000000
DTEND;TZID=America/New_York:20241106T235900
DTSTAMP:20260424T004959
CREATED:20241025T160707Z
LAST-MODIFIED:20241025T163557Z
UID:21619-1730851200-1730937540@www.cuc.edu.co
SUMMARY:Foro Empresas 2030: + Tecnologías Emergentes + Sostenibilidad Empresarial
DESCRIPTION:Foro Empresas 2030: + Tecnologías Emergentes + Sostenibilidad Empresarial\nEl Foro Empresas 2030 es un espacio innovador donde se discutirán las tendencias tecnológicas y estrategias de sostenibilidad que están transformando el panorama empresarial. Este evento reunirá a expertos de diferentes sectores para ofrecer perspectivas claves en el uso de tecnologías emergentes y prácticas sostenibles. \nFecha: 6 de noviembre de 2024\nLugar: Coliseo de Competencias\, Universidad de la Costa \nAgenda Destacada: \n\n7:30 a.m. Registro e ingreso al evento\n8:00 a.m. Instalación y bienvenida\nConferencias: Expertos como Gonzalo Nieto Porto (PROCAPS)\, Juan Pablo Ramírez (Wenia)\, y Roger Pinzón (Super Brix) compartirán sus conocimientos en innovación y sostenibilidad.\nTalleres Simultáneos (2:00 p.m. – 4:00 p.m.): Temas como pagos digitales\, comunicación climática\, blockchain y más.\n\nInversión: \n\n$100.000 para estudiantes\n$150.000 para empresas y externos\n\n¡No te pierdas esta oportunidad de prepararte para el futuro empresarial! Inscríbete ahora y sé parte del cambio. \nPonentes: \nModerador Panel: Reinaldo Niebles \n \nRoberto Morales \n \nCarlos Quemba \n \nHarold Combita \n \nRoger Pinzón \n \nJuan Pablo Ramírez \n \nDiego Narváez \n \nGonzalo Nieto Porto \n \n\nLink de inscripción al evento: https://forms.office.com/r/7f4v052D4c
URL:https://www.cuc.edu.co/evento/foro-empresas-2030-tecnologias-emergentes-sostenibilidad-empresarial
CATEGORIES:Eventos Principales
ATTACH;FMTTYPE=image/jpeg:https://www.cuc.edu.co/wp-content/uploads/2024/10/PIEZA-PORTADA-EVENTO-FORO-EMPRESA-1.jpg
END:VEVENT
END:VCALENDAR