BEGIN:VCALENDAR
VERSION:2.0
PRODID:-//Universidad de la Costa CUC - ECPv6.15.20//NONSGML v1.0//EN
CALSCALE:GREGORIAN
METHOD:PUBLISH
X-ORIGINAL-URL:https://www.cuc.edu.co
X-WR-CALDESC:Eventos para Universidad de la Costa CUC
REFRESH-INTERVAL;VALUE=DURATION:PT1H
X-Robots-Tag:noindex
X-PUBLISHED-TTL:PT1H
BEGIN:VTIMEZONE
TZID:America/New_York
BEGIN:DAYLIGHT
TZOFFSETFROM:-0500
TZOFFSETTO:-0400
TZNAME:EDT
DTSTART:20230312T070000
END:DAYLIGHT
BEGIN:STANDARD
TZOFFSETFROM:-0400
TZOFFSETTO:-0500
TZNAME:EST
DTSTART:20231105T060000
END:STANDARD
BEGIN:DAYLIGHT
TZOFFSETFROM:-0500
TZOFFSETTO:-0400
TZNAME:EDT
DTSTART:20240310T070000
END:DAYLIGHT
BEGIN:STANDARD
TZOFFSETFROM:-0400
TZOFFSETTO:-0500
TZNAME:EST
DTSTART:20241103T060000
END:STANDARD
BEGIN:DAYLIGHT
TZOFFSETFROM:-0500
TZOFFSETTO:-0400
TZNAME:EDT
DTSTART:20250309T070000
END:DAYLIGHT
BEGIN:STANDARD
TZOFFSETFROM:-0400
TZOFFSETTO:-0500
TZNAME:EST
DTSTART:20251102T060000
END:STANDARD
END:VTIMEZONE
BEGIN:VEVENT
DTSTART;VALUE=DATE:20240611
DTEND;VALUE=DATE:20240612
DTSTAMP:20260424T085404
CREATED:20240606T165833Z
LAST-MODIFIED:20240606T165833Z
UID:19916-1718064000-1718150399@www.cuc.edu.co
SUMMARY:Rights of Nature: A dialog between Latin America and Europe
DESCRIPTION:Te invitamos a participar en este espacio en el cual se abordarán los distintos aspectos y facetas del nuevo debate jurídico y político suscitado por el reconocimiento constitucional y legal de los derechos de la naturaleza. \nMayor información en el PDF adjunto.
URL:https://www.cuc.edu.co/evento/rights-of-nature-a-dialog-between-latin-america-and-europe
CATEGORIES:Eventos Principales
ATTACH;FMTTYPE=image/jpeg:https://www.cuc.edu.co/wp-content/uploads/2024/06/online-colloquium.jpg
END:VEVENT
BEGIN:VEVENT
DTSTART;TZID=America/New_York:20240612T090000
DTEND;TZID=America/New_York:20240613T180000
DTSTAMP:20260424T085404
CREATED:20240604T165106Z
LAST-MODIFIED:20240604T165106Z
UID:19882-1718182800-1718301600@www.cuc.edu.co
SUMMARY:Open House
DESCRIPTION:En la CUC\, ¡abrimos nuestras puertas!  \nVen\, vive una experiencia PROfesional en nuestro Open House y escoge la carrera perfecta para ti. \nReserva tu entrada\, sin costo\, en el siguiente LINK
URL:https://www.cuc.edu.co/evento/open-house
CATEGORIES:Eventos Principales
ATTACH;FMTTYPE=image/png:https://www.cuc.edu.co/wp-content/uploads/2024/06/OPEN-HOUSE-2024-1-noticosta.png
END:VEVENT
BEGIN:VEVENT
DTSTART;TZID=America/New_York:20240613T100000
DTEND;TZID=America/New_York:20240613T120000
DTSTAMP:20260424T085404
CREATED:20240606T165320Z
LAST-MODIFIED:20240607T165937Z
UID:19910-1718272800-1718280000@www.cuc.edu.co
SUMMARY:Uso del libro como mediador entre el profesor y el estudiante
DESCRIPTION:A través del uso estratégico de libros de texto\, especialmente en disciplinas como las matemáticas\, se busca enriquecer las estrategias didácticas y fomentar una cultura académica sólida y colaborativa. \nParticipa en esta formación está alineada con las siguientes competencias para tu PDP: Gestión de la información\, Competencias digitales y Flexibilidad \nConéctate el próximo jueves 13 de junio ingresando al siguiente LINK o asiste de manera presencial en bloque 2 piso 2.
URL:https://www.cuc.edu.co/evento/uso-del-libro-como-mediador-entre-el-profesor-y-el-estudiante
CATEGORIES:Eventos Principales
ATTACH;FMTTYPE=image/png:https://www.cuc.edu.co/wp-content/uploads/2024/06/MicrosoftTeams-image-2-1.png
END:VEVENT
BEGIN:VEVENT
DTSTART;TZID=America/New_York:20240613T100000
DTEND;TZID=America/New_York:20240613T120000
DTSTAMP:20260424T085404
CREATED:20240606T165503Z
LAST-MODIFIED:20240606T165503Z
UID:19913-1718272800-1718280000@www.cuc.edu.co
SUMMARY:La importancia de hablar bien
DESCRIPTION:Colaborador CUC  \nTe invitamos a participar en este encuentro en el que abordaremos la importancia de la comunicación verbal y escrita tanto en el ámbito personal como profesional. Esta formación está alineada con las siguientes competencias que aplican para tu PDP: Comunicación efectiva\, Liderazgo e influencia\, Visión y anticipación.  \nConéctate el próximo jueves 13 de junio ingresando al siguiente LINK o asiste de manera presencial en bloque 2 piso 2.
URL:https://www.cuc.edu.co/evento/la-importancia-de-hablar-bien
CATEGORIES:Eventos Principales
ATTACH;FMTTYPE=image/png:https://www.cuc.edu.co/wp-content/uploads/2024/06/sol665f6f69196c7-1-1.png
END:VEVENT
BEGIN:VEVENT
DTSTART;TZID=America/New_York:20240620T140000
DTEND;TZID=America/New_York:20240620T170000
DTSTAMP:20260424T085404
CREATED:20240604T165357Z
LAST-MODIFIED:20240607T170059Z
UID:19885-1718892000-1718902800@www.cuc.edu.co
SUMMARY:Socialización de resultados en el marco del programa ‘Becas de Excelencia Doctoral del Bicentenario Departamento del Atlántico’
DESCRIPTION:Te esperamos en la socialización de resultados en el marco del programa ‘Becas de Excelencia Doctoral del Bicentenario Departamento del Atlántico’\, este espacio se llevará a cabo el próximo jueves 20 de junio a partir de las 2:00 p.m. en el bloque 11\, piso 8\, Salón de Fundadores. \nMayores informes: posgrados@cuc.edu.co
URL:https://www.cuc.edu.co/evento/socializacion-de-resultados-en-el-marco-del-programa-becas-de-excelencia-doctoral-del-bicentenario-departamento-del-atlantico
CATEGORIES:Eventos Principales
ATTACH;FMTTYPE=image/jpeg:https://www.cuc.edu.co/wp-content/uploads/2024/06/sol665a1c4285db1.jpg
END:VEVENT
BEGIN:VEVENT
DTSTART;TZID=America/New_York:20240621T143000
DTEND;TZID=America/New_York:20240621T143000
DTSTAMP:20260424T085404
CREATED:20240619T204851Z
LAST-MODIFIED:20240619T210725Z
UID:20072-1718980200-1718980200@www.cuc.edu.co
SUMMARY:CUC X - Un espacio para el aprendizaje y la colaboración
DESCRIPTION:El Departamento de Posgrados te invita a participar en CUC X\, un espacio para el aprendizaje y la colaboración diseñado para el personal administrativo y docente de la universidad. \nTe esperamos este viernes 21 de junio a las 2:20 p.m. en el Coliseo de Competencias.
URL:https://www.cuc.edu.co/evento/cuc-x-un-espacio-para-el-aprendizaje-y-la-colaboracion
ATTACH;FMTTYPE=image/jpeg:https://www.cuc.edu.co/wp-content/uploads/2024/06/Image-3.jpg
END:VEVENT
END:VCALENDAR