BEGIN:VCALENDAR
VERSION:2.0
PRODID:-//Universidad de la Costa CUC - ECPv6.15.20//NONSGML v1.0//EN
CALSCALE:GREGORIAN
METHOD:PUBLISH
X-WR-CALNAME:Universidad de la Costa CUC
X-ORIGINAL-URL:https://www.cuc.edu.co
X-WR-CALDESC:Eventos para Universidad de la Costa CUC
REFRESH-INTERVAL;VALUE=DURATION:PT1H
X-Robots-Tag:noindex
X-PUBLISHED-TTL:PT1H
BEGIN:VTIMEZONE
TZID:America/New_York
BEGIN:DAYLIGHT
TZOFFSETFROM:-0500
TZOFFSETTO:-0400
TZNAME:EDT
DTSTART:20230312T070000
END:DAYLIGHT
BEGIN:STANDARD
TZOFFSETFROM:-0400
TZOFFSETTO:-0500
TZNAME:EST
DTSTART:20231105T060000
END:STANDARD
BEGIN:DAYLIGHT
TZOFFSETFROM:-0500
TZOFFSETTO:-0400
TZNAME:EDT
DTSTART:20240310T070000
END:DAYLIGHT
BEGIN:STANDARD
TZOFFSETFROM:-0400
TZOFFSETTO:-0500
TZNAME:EST
DTSTART:20241103T060000
END:STANDARD
BEGIN:DAYLIGHT
TZOFFSETFROM:-0500
TZOFFSETTO:-0400
TZNAME:EDT
DTSTART:20250309T070000
END:DAYLIGHT
BEGIN:STANDARD
TZOFFSETFROM:-0400
TZOFFSETTO:-0500
TZNAME:EST
DTSTART:20251102T060000
END:STANDARD
END:VTIMEZONE
BEGIN:VEVENT
DTSTART;TZID=America/New_York:20240123T170000
DTEND;TZID=America/New_York:20240123T170000
DTSTAMP:20260424T163517
CREATED:20240123T192026Z
LAST-MODIFIED:20240123T192026Z
UID:18546-1706029200-1706029200@www.cuc.edu.co
SUMMARY:Selección de propuestas para la convocatoria N°36 de Ciencias Básicas y del espacio
DESCRIPTION:la comunidad de investigadores a participar en la selección de proyectos a presentar por la Universidad\, en la convocatoria SGR 36 de la asignación para la ciencia\, tecnología e innovación del Sistema General de Regalías para la conformación de un listado de proyectos elegibles en ciencias básicas y del espacio para mover la frontera del conocimiento en el país y fortalecer capacidades en los territorios\, promovida por el Ministerio de Ciencia\, Tecnología e Innovación. \nEsta convocatoria tiene como objetivo general conformar un listado de proyectos elegibles de investigación en ciencias básicas y del espacio que\, teniendo en cuenta las demandas territoriales enmarcadas en los retos del plan bienal de convocatorias 2023-2024\, fomenten las capacidades de investigación a través de la generación y transferencia de conocimiento y el fortalecimiento de Infraestructuras de Investigación\, para mover la frontera del conocimiento\, contribuyendo al desarrollo de los territorios. \nAlcance: \nLos proyectos presentados en el marco de la presente convocatoria deberán responder a uno (1) o más retos definidos en el Plan Bienal de Convocatorias 2022-2023\, a través de la atención a las demandas territoriales de los departamentos objeto del proyecto en los que se ubican los miembros de la alianza. Para ello\, los proyectos deberán conformar alianzas entre entidades del SNCTI que muevan la frontera del conocimiento\, fortalezcan capacidades y transfieran conocimiento en Ciencias Básicas y/o del Espacio a través de tres componentes que deberán ser abordados de manera integral: \nComponente 1: Generación de nuevo conocimiento en Ciencias Básicas. y/o del Espacio. Este componente debe generar nuevo conocimiento enmarcado en las Ciencias Básicas y/o del Espacio para dar respuesta a necesidades (de conocimiento u otras)\, problemas u oportunidades identificadas en el plan bienal de convocatorias. \nComponente 2: Fortalecimiento de Infraestructuras de Investigación (IdeI). Para efectos de la formulación de proyectos en esta convocatoria se consideran IdeI: laboratorios (Complejos de infraestructura e instalaciones multiusuario\, Equipos científicos o de laboratorio robustos o importantes) y colecciones (Recursos basados en conocimiento\, Archivos y colecciones de datos científicos). \nComponente 3: Apropiación social del Conocimiento. Los proyectos deberán incluir las acciones mediante las cuales se promoverá la integración y/o el intercambio de conocimiento a partir de: Generar conocimiento a partir de trabajos colaborativos realizados con Actores Diferenciales para el Cambio (Mujeres\, LGBTIQ+\, Víctimas\, Niñas\, Niños y Adolescentes\, Pueblos y Comunidades Étnicas\, Jóvenes\, Personas con Discapacidad y Campesinos). \nComponente transversal: Estrategia de descentralización. Las alianzas deberán incluir una estrategia de descentralización de las capacidades instaladas donde se incorporen al menos de dos de las siguientes: movilidad de investigadores y/o estudiantes\, apropiación social del conocimiento y fortalecimiento de capacidades en los departamentos con IDIC bajo y medio bajo. \nLos proyectos deberán atender al menos un (1) reto a través de al menos una (1) de las demandas territoriales de los departamentos (al menos 3 regiones del SGR) objeto del proyecto y en los que se ejecutarán los componentes descritos. \nDuración y financiación \n  \n\nEl término de la ejecución de los proyectos será de hasta sesenta (60) meses.\nLos proyectos podrán solicitar recursos al SGR desde diez mil millones de pesos M/CTE ($10.000.000.000) hasta treinta y seis mil quinientos millones de pesos M/CTE ($36.500.000.000).\n\n  \nCronograma \nEste cronograma corresponde a las fechas institucionales para la selección de los 3 proyectos que se postularán en la convocatoria de Minciencias. \nApertura de convocatoria: 20 de diciembre de 2023 \nCierra de la convocatoria: 23 de enero de 2024 \nPeriodo de evaluación de propuestas presentadas: Del 24 al 31 de enero de 2024 \nPublicación de propuestas seleccionadas: 1 de febrero de 2024 \nLas propuestas serán seleccionadas por un comité de evaluación designado por la Vicerrectoría de Ciencia\, Tecnología e Innovación VCTeI. \n  \n Si quieres participar\, registra tu propuesta en el siguiente formulario \nConsulta la información completa de esta convocatoria AQUÍ. \n Más información:  \nsdelahoz2@cuc.edu.co \nunidaddeproyectos@cuc.edu.co
URL:https://www.cuc.edu.co/evento/seleccion-de-propuestas-para-la-convocatoria-n36-de-ciencias-basicas-y-del-espacio
CATEGORIES:Eventos Principales
ATTACH;FMTTYPE=image/png:https://www.cuc.edu.co/wp-content/uploads/2024/01/sol65aef6d185b54.png
END:VEVENT
BEGIN:VEVENT
DTSTART;VALUE=DATE:20240129
DTEND;VALUE=DATE:20240201
DTSTAMP:20260424T163517
CREATED:20231114T193632Z
LAST-MODIFIED:20240118T155922Z
UID:18025-1706486400-1706745599@www.cuc.edu.co
SUMMARY:Jornada de inducción y bienvenida 2024 - 1
DESCRIPTION:Comunidad UniCosta\, te invitamos a participar en la jornada de inducción y bienvenida al semestre académico 2024-1\, que se estará llevando a cabo los días 29\, 30 y 31 de enero.
URL:https://www.cuc.edu.co/evento/jornada-de-induccion-y-bienvenida-2024-1
CATEGORIES:Eventos Principales
ATTACH;FMTTYPE=image/jpeg:https://www.cuc.edu.co/wp-content/uploads/2023/11/sol654e53289549f.jpg
END:VEVENT
BEGIN:VEVENT
DTSTART;TZID=America/New_York:20240131T170000
DTEND;TZID=America/New_York:20240131T170000
DTSTAMP:20260424T163517
CREATED:20240118T155850Z
LAST-MODIFIED:20240118T155952Z
UID:18530-1706720400-1706720400@www.cuc.edu.co
SUMMARY:Bienvenida Padres Unicosta 2024 - 1
DESCRIPTION:Estimada comunidad\, el próximo miércoles 31 de enero se estará realizando la inducción y bienvenida a los Padres UniCosta 2024-1. \nLa actividad se estará realizando en el Coliseo de Competencias desde las 5:00 p.m. y tendrá transmisión simultanea por nuestro canal de YouTube.
URL:https://www.cuc.edu.co/evento/jornada-de-induccion-y-bienvenida-2024-1-2
CATEGORIES:Eventos Principales
ATTACH;FMTTYPE=image/jpeg:https://www.cuc.edu.co/wp-content/uploads/2024/01/Padres.jpg
END:VEVENT
END:VCALENDAR