BEGIN:VCALENDAR
VERSION:2.0
PRODID:-//Universidad de la Costa CUC - ECPv6.15.20//NONSGML v1.0//EN
CALSCALE:GREGORIAN
METHOD:PUBLISH
X-WR-CALNAME:Universidad de la Costa CUC
X-ORIGINAL-URL:https://www.cuc.edu.co
X-WR-CALDESC:Eventos para Universidad de la Costa CUC
REFRESH-INTERVAL;VALUE=DURATION:PT1H
X-Robots-Tag:noindex
X-PUBLISHED-TTL:PT1H
BEGIN:VTIMEZONE
TZID:America/New_York
BEGIN:DAYLIGHT
TZOFFSETFROM:-0500
TZOFFSETTO:-0400
TZNAME:EDT
DTSTART:20220313T070000
END:DAYLIGHT
BEGIN:STANDARD
TZOFFSETFROM:-0400
TZOFFSETTO:-0500
TZNAME:EST
DTSTART:20221106T060000
END:STANDARD
BEGIN:DAYLIGHT
TZOFFSETFROM:-0500
TZOFFSETTO:-0400
TZNAME:EDT
DTSTART:20230312T070000
END:DAYLIGHT
BEGIN:STANDARD
TZOFFSETFROM:-0400
TZOFFSETTO:-0500
TZNAME:EST
DTSTART:20231105T060000
END:STANDARD
BEGIN:DAYLIGHT
TZOFFSETFROM:-0500
TZOFFSETTO:-0400
TZNAME:EDT
DTSTART:20240310T070000
END:DAYLIGHT
BEGIN:STANDARD
TZOFFSETFROM:-0400
TZOFFSETTO:-0500
TZNAME:EST
DTSTART:20241103T060000
END:STANDARD
END:VTIMEZONE
BEGIN:VEVENT
DTSTART;VALUE=DATE:20231127
DTEND;VALUE=DATE:20231202
DTSTAMP:20260424T181055
CREATED:20231024T211652Z
LAST-MODIFIED:20231024T211652Z
UID:17805-1701043200-1701475199@www.cuc.edu.co
SUMMARY:Misión Académica Innovación en Salud
DESCRIPTION:Misión Académica Innovación en Salud  \nLa misión académica internacional\, se realizará en la Universidad Andrés Bello (UNAB)\, Campus República\, en Santiago de Chile del 27 de noviembre al 1 de diciembre. \nSi deseas más información o tienes dudas sobre el contenido de la misión\, puedes contactarte con Tulia Beltrán\, directora de la Maestría en Gestión de Servicios de Salud \ntbeltran1@cuc.edu.co \n¡Anímate a vivir esta gran experiencia académica y cultural!
URL:https://www.cuc.edu.co/evento/mision-academica-innovacion-en-salud
CATEGORIES:Eventos Principales
ATTACH;FMTTYPE=image/jpeg:https://www.cuc.edu.co/wp-content/uploads/2023/10/sol652ff73809c7e.jpg
END:VEVENT
BEGIN:VEVENT
DTSTART;TZID=America/New_York:20231202T080000
DTEND;TZID=America/New_York:20231202T080000
DTSTAMP:20260424T181055
CREATED:20231130T193613Z
LAST-MODIFIED:20231130T193613Z
UID:18267-1701504000-1701504000@www.cuc.edu.co
SUMMARY:Charla “Branding: De lo personal a las organizaciones”
DESCRIPTION:La Universidad de la Costa te invita a participar en la charla “Branding: De lo personal a las organizaciones” que se realizará este sábado 2 de diciembre a partir de las 8:00 a.m. en la sala de conferencias 2\, Bloque 11 Piso 5. \nInvitada: Gysell Zapotitla – Líder regional de educación de ARL SURA. \nCupos limitados. \nLa participación es gratuita y los interesados pueden inscribirse AQUÍ \n  \nOrganiza: \nDepartamento de Productividad e Innovación \nEspecialización en Gerencia de Proyectos \nMayores informes: \nIng. Mayra A. Macías mmacias3@cuc.edu.co
URL:https://www.cuc.edu.co/evento/charla-branding-de-lo-personal-a-las-organizaciones
CATEGORIES:Eventos Principales
ATTACH;FMTTYPE=image/png:https://www.cuc.edu.co/wp-content/uploads/2023/11/sol65660a2176d7a.png
END:VEVENT
BEGIN:VEVENT
DTSTART;TZID=America/New_York:20231204T170000
DTEND;TZID=America/New_York:20231204T170000
DTSTAMP:20260424T181055
CREATED:20231130T194353Z
LAST-MODIFIED:20231130T194353Z
UID:18288-1701709200-1701709200@www.cuc.edu.co
SUMMARY:Webinar sobre “Evaluación de riesgos en la seguridad alimentaria”
DESCRIPTION:Extendemos una cordial invitación a nuestro destacado Webinar sobre “Evaluación de riesgos en la seguridad alimentaria” por consumo de especies ícticas en el departamento de La Guajira. \nSi estás interesado en participar inscríbete en el siguiente LINK
URL:https://www.cuc.edu.co/evento/webinar-sobre-evaluacion-de-riesgos-en-la-seguridad-alimentaria
CATEGORIES:Eventos Principales
ATTACH;FMTTYPE=image/jpeg:https://www.cuc.edu.co/wp-content/uploads/2023/11/Seguridad-Alimentaria3-08-1-3-1-scaled.jpg
END:VEVENT
BEGIN:VEVENT
DTSTART;TZID=America/New_York:20231212T143000
DTEND;TZID=America/New_York:20231212T143000
DTSTAMP:20260424T181055
CREATED:20231128T025419Z
LAST-MODIFIED:20231128T025419Z
UID:18246-1702391400-1702391400@www.cuc.edu.co
SUMMARY:¡Juntos aprendimos a generar soluciones para el sector empresarial!
DESCRIPTION:La Universidad de la Costa realizará el próximo martes 12 de diciembre la clausura del ‘Programa Retos’\, estrategia institucional que busca el aseguramiento del aprendizaje estudiantil mediante la aplicación del enfoque pedagógico ABR -Aprendizaje Basado en Retos\, y el uso de la metodología Desingn Thinking. El cierre del programa se realizará en la sala de conferencias 1 del Bloque 11\, piso 3 y contará con la participación de las empresas y estudiantes que hicieron parte de la estrategia durante el período 2023-2 \nEl objetivo principal del programa es fortalecer la competitividad y la innovación de los profesionales en formación de la UniCosta\, desde el relacionamiento con el tejido empresarial\, para la co-creación de potenciales soluciones que conduzcan a la aplicación y generación de conocimientos en diferentes áreas de formación y a generar innovación para la solución de retos en contextos reales.
URL:https://www.cuc.edu.co/evento/juntos-aprendimos-a-generar-soluciones-para-el-sector-empresarial-2
CATEGORIES:Eventos Principales
ATTACH;FMTTYPE=image/jpeg:https://www.cuc.edu.co/wp-content/uploads/2023/11/sol655f5cf8e89d6.jpg
END:VEVENT
END:VCALENDAR