BEGIN:VCALENDAR
VERSION:2.0
PRODID:-//Universidad de la Costa CUC - ECPv6.15.20//NONSGML v1.0//EN
CALSCALE:GREGORIAN
METHOD:PUBLISH
X-WR-CALNAME:Universidad de la Costa CUC
X-ORIGINAL-URL:https://www.cuc.edu.co
X-WR-CALDESC:Eventos para Universidad de la Costa CUC
REFRESH-INTERVAL;VALUE=DURATION:PT1H
X-Robots-Tag:noindex
X-PUBLISHED-TTL:PT1H
BEGIN:VTIMEZONE
TZID:America/New_York
BEGIN:DAYLIGHT
TZOFFSETFROM:-0500
TZOFFSETTO:-0400
TZNAME:EDT
DTSTART:20220313T070000
END:DAYLIGHT
BEGIN:STANDARD
TZOFFSETFROM:-0400
TZOFFSETTO:-0500
TZNAME:EST
DTSTART:20221106T060000
END:STANDARD
BEGIN:DAYLIGHT
TZOFFSETFROM:-0500
TZOFFSETTO:-0400
TZNAME:EDT
DTSTART:20230312T070000
END:DAYLIGHT
BEGIN:STANDARD
TZOFFSETFROM:-0400
TZOFFSETTO:-0500
TZNAME:EST
DTSTART:20231105T060000
END:STANDARD
BEGIN:DAYLIGHT
TZOFFSETFROM:-0500
TZOFFSETTO:-0400
TZNAME:EDT
DTSTART:20240310T070000
END:DAYLIGHT
BEGIN:STANDARD
TZOFFSETFROM:-0400
TZOFFSETTO:-0500
TZNAME:EST
DTSTART:20241103T060000
END:STANDARD
END:VTIMEZONE
BEGIN:VEVENT
DTSTART;VALUE=DATE:20230901
DTEND;VALUE=DATE:20231101
DTSTAMP:20260424T214836
CREATED:20230905T152720Z
LAST-MODIFIED:20230905T152720Z
UID:17533-1693526400-1698796799@www.cuc.edu.co
SUMMARY:En Septiembre Agéndate con Salud Unicosta
DESCRIPTION:Estudiante UniCosta: \nTe invitamos a participar de los servicios que Salud UniCosta tiene para ti este mes de septiembre. \nPara participar inscríbete en el siguiente ENLACE
URL:https://www.cuc.edu.co/evento/en-septiembre-agendate-con-salud-unicosta
CATEGORIES:Eventos Principales
ATTACH;FMTTYPE=image/png:https://www.cuc.edu.co/wp-content/uploads/2023/09/sol64f0a2efb610e.png
END:VEVENT
BEGIN:VEVENT
DTSTART;TZID=America/New_York:20230911T090000
DTEND;TZID=America/New_York:20231011T160000
DTSTAMP:20260424T214836
CREATED:20230905T152604Z
LAST-MODIFIED:20230905T152604Z
UID:17530-1694422800-1697040000@www.cuc.edu.co
SUMMARY:A cuidarte con Unicosta - Estudiantes
DESCRIPTION:Apreciado Estudiante \nDesde la Vicerrectoría de bienestar universitario a través de la coordinación de salud integral\, queremos invitarte a participar de las actividades que tenemos preparadas para ti en el marco de la semana de la salud. \nPara participar inscríbete AQUÍ
URL:https://www.cuc.edu.co/evento/a-cuidarte-con-unicosta-estudiantes
CATEGORIES:Eventos Principales
ATTACH;FMTTYPE=image/png:https://www.cuc.edu.co/wp-content/uploads/2023/09/sol64f0a03f509ff.png
END:VEVENT
BEGIN:VEVENT
DTSTART;VALUE=DATE:20230912
DTEND;VALUE=DATE:20231004
DTSTAMP:20260424T214836
CREATED:20230919T211316Z
LAST-MODIFIED:20230919T211316Z
UID:17600-1694476800-1696377599@www.cuc.edu.co
SUMMARY:Entrenamientos Personalizados - PASPE
DESCRIPTION:Estimado estudiante te invitamos a participar en los entrenamientos personalizados liderados por PASPE. Inscríbete a través del código QR que se encuentra visible en la imagen o ingresa al siguiente LINK.
URL:https://www.cuc.edu.co/evento/entrenamientos-personalizados-paspe
CATEGORIES:Eventos Principales
ATTACH;FMTTYPE=image/jpeg:https://www.cuc.edu.co/wp-content/uploads/2023/09/24344d2c-210e-4c12-ab66-a98d4d8bd73b.jpeg
END:VEVENT
BEGIN:VEVENT
DTSTART;TZID=America/New_York:20231001T140000
DTEND;TZID=America/New_York:20231001T160000
DTSTAMP:20260424T214836
CREATED:20230921T190220Z
LAST-MODIFIED:20230921T190220Z
UID:17627-1696168800-1696176000@www.cuc.edu.co
SUMMARY:II Festival Gastronómico - Sabor Barrio Abajo
DESCRIPTION:Comunidad UniCosta \nTe invitamos a deleitar tu paladar en la muestra representativa del festival gastronómico Sabor Barrio Abajo\, que se realizará este viernes 22 de septiembre en la plazoleta verde de 2:00 p.m. a 4:00 p.m.  \nNo te pierdas la oportunidad de degustar la deliciosa sazón de nuestras matronas. \n¡Te esperamos!
URL:https://www.cuc.edu.co/evento/ii-festival-gastronomico-sabor-barrio-abajo
CATEGORIES:Eventos Principales
ATTACH;FMTTYPE=image/jpeg:https://www.cuc.edu.co/wp-content/uploads/2023/09/WhatsApp-Image-2023-09-21-at-1.08.05-PM.jpeg
END:VEVENT
BEGIN:VEVENT
DTSTART;VALUE=DATE:20231002
DTEND;VALUE=DATE:20231107
DTSTAMP:20260424T214836
CREATED:20230829T181319Z
LAST-MODIFIED:20230829T181319Z
UID:17492-1696204800-1699315199@www.cuc.edu.co
SUMMARY:Misión Académica Internacional - Universidad de Buenos Aires
DESCRIPTION:Te invitamos a participar en la misión académica internacional\, Universidad de Buenos Aires\, Argentina que se llevará a cabo del 2 al 6 de octubre de 2023\, enfocada en el tema de Innovación y Blockchain. \nLa realización de la misión\, tiene una inversión de $1.980.000\, que incluye sesiones de formación\, visita empresarial y certificación. \nSi deseas más información o tienes dudas sobre el contenido de la misión\, puedes contactarte a amena4@cuc.edu.co
URL:https://www.cuc.edu.co/evento/mision-academica-internacional-universidad-de-buenos-aires
CATEGORIES:Eventos Principales
ATTACH;FMTTYPE=image/jpeg:https://www.cuc.edu.co/wp-content/uploads/2023/08/sol64e63016061ba.jpeg
END:VEVENT
BEGIN:VEVENT
DTSTART;VALUE=DATE:20231016
DTEND;VALUE=DATE:20231022
DTSTAMP:20260424T214836
CREATED:20230905T153823Z
LAST-MODIFIED:20230905T153823Z
UID:17542-1697414400-1697932799@www.cuc.edu.co
SUMMARY:Misión académica internacional a España
DESCRIPTION:Te invitamos a participar en la misión académica internacional a España\, en la Universidad Politécnica de Valencia que se llevará a cabo del 16 al 21 de octubre de 2023\, enfocada en el tema de Innovación y Gestión del Riesgo Laboral. \nMayor información: Luz Borrero – lborrero2@cuc.edu.co \nLucelys Vidal – lvidal2@cuc.edu.co
URL:https://www.cuc.edu.co/evento/mision-academica-internacional-a-espana
CATEGORIES:Eventos Principales
ATTACH;FMTTYPE=image/png:https://www.cuc.edu.co/wp-content/uploads/2023/09/sol64f102079669d.png
END:VEVENT
BEGIN:VEVENT
DTSTART;TZID=America/New_York:20231019T140000
DTEND;TZID=America/New_York:20231019T180000
DTSTAMP:20260424T214836
CREATED:20231003T203727Z
LAST-MODIFIED:20231003T203727Z
UID:17724-1697724000-1697738400@www.cuc.edu.co
SUMMARY:I Simposio Internacional en Neurociencias y Educación
DESCRIPTION:Les invitamos al I Simposio Internacional en Neurociencias y Educación que estaremos realizando el día 19 de octubre en el Coliseo de Competencias y con transmisión en vivo vía teams. Este evento se está gestando desde el área de procesos neuropsicológicos y educación del programa de psicología de la Universidad de la Costa. \nEl evento tendrá un costo de 60.000 pesos colombianos para estudiantes y 100.000 pesos colombianos para profesionales. \n15 dólares estudiantes y 25 dólares profesionales. \nMg. Juan Felipe Vanegas. Perfil neuropsicológico de niños con coeficiente intelectual limitrofe y comorbilidades con otros trastornos del desarrollo. \nDra. Sigem Sabagh. Conductas adaptativas. Cociente intelectual y el aula de clases. \nDr. Norman López. Agresividad y aprendizaje en los trastornos del neurodesarrollo. \nDr. Juan Carlos Arango. Evaluación neuropsicológica infantil utilizando pruebas con baremos colombianos. \nDr. Jorge Herrera. Fenilcetonuria y neurofibromatosis: dos sindromes genéticos que se manifiesta con síntomas de TDAH. \nDra. Nelly Revollo. Una mirada reflexiva hacia los retos y desafíos de la práctica docente y los procesos de aprendizaje. \nLink de pago e inscripciones.
URL:https://www.cuc.edu.co/evento/i-simposio-internacional-en-neurociencias-y-educacion
CATEGORIES:Eventos Principales
ATTACH;FMTTYPE=image/png:https://www.cuc.edu.co/wp-content/uploads/2023/10/PRIMER-SIMPOSIO-INTERNACIONAL-DE-NEUROCIENCIAS-Y-EDUCACION_Mesa-de-trabajo-1-copia-2-1.png
END:VEVENT
BEGIN:VEVENT
DTSTART;TZID=America/New_York:20231019T180000
DTEND;TZID=America/New_York:20231019T180000
DTSTAMP:20260424T214836
CREATED:20231019T193525Z
LAST-MODIFIED:20231019T193525Z
UID:17793-1697738400-1697738400@www.cuc.edu.co
SUMMARY:Mujeres en Globant: ¡Haciendo historia!
DESCRIPTION:Tenemos el gusto de invitarlos al evento virtual este jueves 19 de octubre: Mujeres en Globant: ¡Haciendo Historia!  \nEsperamos que puedan hacer parte de este espacio enriquecedor para la comunidad.
URL:https://www.cuc.edu.co/evento/mujeres-en-globant-haciendo-historia
CATEGORIES:Eventos Principales
ATTACH;FMTTYPE=image/png:https://www.cuc.edu.co/wp-content/uploads/2023/10/sol652028a28699e.png
END:VEVENT
BEGIN:VEVENT
DTSTART;TZID=America/New_York:20231025T180000
DTEND;TZID=America/New_York:20231025T180000
DTSTAMP:20260424T214836
CREATED:20231024T223128Z
LAST-MODIFIED:20231024T223128Z
UID:17836-1698256800-1698256800@www.cuc.edu.co
SUMMARY:Unicosta Río y& Mar
DESCRIPTION:Comunidad UniCosta te invitamos a participar en el evento “Río y mar: homenaje a Juan Piña” que se realizará este miércoles 25 de octubre en el Coliseo de Competencias de 6:00 p.m. a 8:00 p.m. \n¡Te esperamos!
URL:https://www.cuc.edu.co/evento/unicosta-rio-y-mar
CATEGORIES:Eventos Principales
ATTACH;FMTTYPE=image/png:https://www.cuc.edu.co/wp-content/uploads/2023/10/UNICOSTA-RIO-Y-MAR_NOTICOSTA-1.png
END:VEVENT
BEGIN:VEVENT
DTSTART;TZID=America/New_York:20231026T100000
DTEND;TZID=America/New_York:20231026T100000
DTSTAMP:20260424T214836
CREATED:20231024T212027Z
LAST-MODIFIED:20231024T212027Z
UID:17811-1698314400-1698314400@www.cuc.edu.co
SUMMARY:Conoce cómo financiarse en el Mercado de Valores.
DESCRIPTION:Comunidad UniCosta\, te invitamos a participar en la conferencia para conocer cómo financiarse en el Mercado de Valores. Se llevará a cabo este jueves 26 de octubre a partir de las 10:00 a.m. en la Sala de Conferencia 2\, Bloque 11 piso 5. \n¡Te esperamos!
URL:https://www.cuc.edu.co/evento/conoce-como-financiarse-en-el-mercado-de-valores
CATEGORIES:Eventos Principales
ATTACH;FMTTYPE=image/jpeg:https://www.cuc.edu.co/wp-content/uploads/2023/10/sol65316cfc1fbfe.jpg
END:VEVENT
BEGIN:VEVENT
DTSTART;TZID=America/New_York:20231026T140000
DTEND;TZID=America/New_York:20231030T170000
DTSTAMP:20260424T214836
CREATED:20231024T222841Z
LAST-MODIFIED:20231024T222939Z
UID:17831-1698328800-1698685200@www.cuc.edu.co
SUMMARY:Democracy 2023
DESCRIPTION:Estimados estudiantes \nLa política y las redes sociales desempeñan un papel fundamental en la sociedad actual\, y esta actividad tiene como objetivo brindarles una experiencia práctica y realista para comprender cómo se entrelazan estos dos elementos en el mundo de la política. Aquí están algunos aspectos destacados de la actividad. \nDescripción de la actividad \n\nParticiparás en la simulación de una elección política\, donde asumirás el papel de ciudadano que apoya un candidato o un miembro de un partido político ficticio.\nTendrás la oportunidad de interactuar con tus perfiles de redes sociales para tu candidato o partido\, mientras el utilizará estrategias de medios sociales para llegar a tus electores y ganar su apoyo.\nAprenderás sobre la importancia de la gestión de la imagen en línea\, la construcción de una plataforma política efectiva y cómo difundir tu mensaje a través de plataformas como Facebook\, Twitter\, Instagram y más.\n\nBeneficios de participar \n\nAdquirirás habilidades prácticas en el uso de las redes sociales para fines políticos.\nComprenderás cómo las redes sociales pueden influir en la percepción pública y los resultados electorales.\nObtendrás una comprensión más profunda de la dinámica política y de cómo se desarrollan las campañas electorales.\n\nSi estás interesado en formar parte de esta emocionante experiencia\, te animamos a unirte a las redes sociales de los estudiantes candidatos: @partido_beta1.0 y @visionrenovada26 \nEsta actividad no solo es relevante para sus estudios\, sino que también representa un componente de la nota del grupo de la campaña\, entre más likes y más seguidores mucho mejor. \nInformación importante: el jueves 26 de octubre de 2023\, entre las 2 y las 5 p.m.\, será el lanzamiento de la campaña y habrá sorpresas (participación de departamento de bienestar universitario) \nEste correo tiene la intención de persuadir a los estudiantes al resaltar los beneficios de la actividad y su relevancia en la comprensión de la política y las redes sociales. Es una actividad simulada y no tiene que ver con campañas políticas regulares de épocas electorales o de un partido político en concreto.
URL:https://www.cuc.edu.co/evento/democracy-2023
CATEGORIES:Eventos Principales
ATTACH;FMTTYPE=image/png:https://www.cuc.edu.co/wp-content/uploads/2023/10/MicrosoftTeams-image-1-2.png
END:VEVENT
BEGIN:VEVENT
DTSTART;TZID=America/New_York:20231026T173000
DTEND;TZID=America/New_York:20231110T200000
DTSTAMP:20260424T214836
CREATED:20231024T212439Z
LAST-MODIFIED:20231024T212439Z
UID:17818-1698341400-1699646400@www.cuc.edu.co
SUMMARY:Torneo de penales
DESCRIPTION:Comunidad de estudiantes UniCosta \nTe invitamos a participar del Torneo de penal que se estará realizando en la cancha múltiple de la universidad desde este jueves 26 de octubre hasta el viernes 10 de noviembre. \nMayores informes: Teams culturaydeporte
URL:https://www.cuc.edu.co/evento/torneo-de-penales
CATEGORIES:Eventos Principales
ATTACH;FMTTYPE=image/jpeg:https://www.cuc.edu.co/wp-content/uploads/2023/10/sol6532d7e23e7fd-1.jpeg
END:VEVENT
BEGIN:VEVENT
DTSTART;VALUE=DATE:20231027
DTEND;VALUE=DATE:20231029
DTSTAMP:20260424T214836
CREATED:20231024T212627Z
LAST-MODIFIED:20231024T212627Z
UID:17822-1698364800-1698537599@www.cuc.edu.co
SUMMARY:PHD DAYS: Encuentro de estudiantes de doctorado
DESCRIPTION:PHD DAYS: Encuentro de estudiantes de doctorado \n¿Te gustaría conocer las últimas tendencias y avances en investigación? ¿Te interesa ampliar tu red de contactos y colaboraciones académicas? \nSi tu respuesta es sí\, entonces no te puedes perder el evento PhD Days\, organizado por la Universidad de la Costa CUC. Este evento se realizará los días 27 y 28 de octubre del 2023\, en modalidad híbrida\, y contará con la participación de ponentes nacionales e internacionales. \n No dejes pasar esta oportunidad única e inscríbete ya en el siguiente LINK
URL:https://www.cuc.edu.co/evento/phd-days-encuentro-de-estudiantes-de-doctorado
CATEGORIES:Eventos Principales
ATTACH;FMTTYPE=image/jpeg:https://www.cuc.edu.co/wp-content/uploads/2023/10/sol6533f9d84a5cf-1-scaled.jpg
END:VEVENT
BEGIN:VEVENT
DTSTART;TZID=America/New_York:20231027T090000
DTEND;TZID=America/New_York:20231027T120000
DTSTAMP:20260424T214836
CREATED:20231024T211810Z
LAST-MODIFIED:20231024T211810Z
UID:17808-1698397200-1698408000@www.cuc.edu.co
SUMMARY:II Concurso de Ensayo y Oralidad
DESCRIPTION:El centro de investigaciones sociojurídicas y políticas organiza la segunda versión del concurso de ensayo y oralidad\, este evento busca acrecentar en los estudiantes adscritos al Departamento de Derecho y Ciencias Políticas\, la cultura de investigación y académica\, está destinado a dinamizar las competencias en lectura crítica\, competencias ciudadanas\, comunicación escrita y oral indispensables para el desarrollo por complementariedad de la integridad no solo de los procesos de enseñanza y aprendizaje\, sino también para coadyuvar en la materialización de los resultados de aprendizaje que atestiguan la trazabilidad de los procesos sustantivos de todas dimensiones que integran el Departamento. \nEste evento es una posibilidad enorme para comprender en términos de racionalidad de los procesos\, la coherencia entre el ensayo escrito presentado por el estudiante y la exposición oral del mismo en el marco de desarrollo del evento este viernes 27 de octubre en la sala de conferencias 1\, Bloque 11 Piso 3. Hora: 9:00 a.m. a 12 p.m.
URL:https://www.cuc.edu.co/evento/ii-concurso-de-ensayo-y-oralidad
CATEGORIES:Eventos Principales
ATTACH;FMTTYPE=image/jpeg:https://www.cuc.edu.co/wp-content/uploads/2023/10/MicrosoftTeams-image-6-2.jpg
END:VEVENT
BEGIN:VEVENT
DTSTART;TZID=America/New_York:20231031T143000
DTEND;TZID=America/New_York:20231031T143000
DTSTAMP:20260424T214836
CREATED:20231026T203904Z
LAST-MODIFIED:20231026T203904Z
UID:17878-1698762600-1698762600@www.cuc.edu.co
SUMMARY:CUC Learning con Pintuco: Tendencias 2024
DESCRIPTION:Te invitamos a participar en nuestro CUC Learning con Pintuco: Tendencias 2024\, el próximo martes 31 de octubre de 2023 a las 2:30 p.m. en el bloque 11\, piso 5 Sala de Conferencias 2. \nContaremos con la participación de Isaias Arias Gonzalez\, arquitecto y asesor técnico de Pintuco. \n¡Inscríbete ya! en el siguiente ENLACE
URL:https://www.cuc.edu.co/evento/cuc-learning-con-pintuco-tendencias-2024
CATEGORIES:Eventos Principales
ATTACH;FMTTYPE=image/png:https://www.cuc.edu.co/wp-content/uploads/2023/10/sol652ff0c82104d.png
END:VEVENT
BEGIN:VEVENT
DTSTART;TZID=America/New_York:20231031T150000
DTEND;TZID=America/New_York:20231101T160000
DTSTAMP:20260424T214836
CREATED:20231019T193041Z
LAST-MODIFIED:20231019T193041Z
UID:17782-1698764400-1698854400@www.cuc.edu.co
SUMMARY:Taller de lectura de etiquetado
DESCRIPTION:Apreciada comunidad \nDesde la Vicerrectoría de Bienestar Universitario a través de la Coordinación de Salud Integral\, queremos invitarte a participar en el Taller de nutrición\, que se desarrollará de manera presencial y remota\, los días 31 y 1 de noviembre en los horarios de 3:00pm a 4:00 pm. \nSi deseas participar\, inscríbete ingresando en el siguiente ENLACE
URL:https://www.cuc.edu.co/evento/taller-de-lectura-de-etiquetado
CATEGORIES:Eventos Principales
ATTACH;FMTTYPE=image/png:https://www.cuc.edu.co/wp-content/uploads/2023/10/sol651c1c632f883.png
END:VEVENT
END:VCALENDAR