BEGIN:VCALENDAR
VERSION:2.0
PRODID:-//Universidad de la Costa CUC - ECPv6.15.20//NONSGML v1.0//EN
CALSCALE:GREGORIAN
METHOD:PUBLISH
X-ORIGINAL-URL:https://www.cuc.edu.co
X-WR-CALDESC:Eventos para Universidad de la Costa CUC
REFRESH-INTERVAL;VALUE=DURATION:PT1H
X-Robots-Tag:noindex
X-PUBLISHED-TTL:PT1H
BEGIN:VTIMEZONE
TZID:America/New_York
BEGIN:DAYLIGHT
TZOFFSETFROM:-0500
TZOFFSETTO:-0400
TZNAME:EDT
DTSTART:20220313T070000
END:DAYLIGHT
BEGIN:STANDARD
TZOFFSETFROM:-0400
TZOFFSETTO:-0500
TZNAME:EST
DTSTART:20221106T060000
END:STANDARD
BEGIN:DAYLIGHT
TZOFFSETFROM:-0500
TZOFFSETTO:-0400
TZNAME:EDT
DTSTART:20230312T070000
END:DAYLIGHT
BEGIN:STANDARD
TZOFFSETFROM:-0400
TZOFFSETTO:-0500
TZNAME:EST
DTSTART:20231105T060000
END:STANDARD
BEGIN:DAYLIGHT
TZOFFSETFROM:-0500
TZOFFSETTO:-0400
TZNAME:EDT
DTSTART:20240310T070000
END:DAYLIGHT
BEGIN:STANDARD
TZOFFSETFROM:-0400
TZOFFSETTO:-0500
TZNAME:EST
DTSTART:20241103T060000
END:STANDARD
END:VTIMEZONE
BEGIN:VEVENT
DTSTART;TZID=America/New_York:20230203T110000
DTEND;TZID=America/New_York:20230203T110000
DTSTAMP:20260425T112125
CREATED:20230131T215205Z
LAST-MODIFIED:20230131T215205Z
UID:16026-1675422000-1675422000@www.cuc.edu.co
SUMMARY:Revistas depredadoras y otras amenazas en la publicación
DESCRIPTION:Profesor UniCosta \nTe invitamos a participar del webinar ‘Revistas depredadoras y otras amenazas en la publicación´\, que se estará llevando a cabo este viernes 3 de febrero a las 11:00 a.m. a través de la plataforma Teams. \n¡No te lo pierdas!
URL:https://www.cuc.edu.co/evento/revistas-depredadoras-y-otras-amenazas-en-la-publicacion
CATEGORIES:Eventos Principales
ATTACH;FMTTYPE=image/jpeg:https://www.cuc.edu.co/wp-content/uploads/2023/01/sol63d7d83442f5f.jpg
END:VEVENT
BEGIN:VEVENT
DTSTART;TZID=America/New_York:20230207T170000
DTEND;TZID=America/New_York:20230207T170000
DTSTAMP:20260425T112125
CREATED:20230202T211201Z
LAST-MODIFIED:20230202T211201Z
UID:16036-1675789200-1675789200@www.cuc.edu.co
SUMMARY:ONLINE WORKSHOP - Retos que enfrentan los profesionales de hoy en el Mercado Laboral
DESCRIPTION:Hoy en día para ingresar al mercado laboral es necesaria contar con ciertas habilidades que nos permitan sobresalir entre otras personas y destacarnos más\, por eso te invitamos a participar en el Workshop: Retos que enfrentan los profesionales de hoy en el Mercado Laboral\, un espacio en el que aprenderás a ingresar al mercado. \n Se realizará el martes 7 de febrero a las 5:00 p.m. a través de Teams. Contaremos con la participación de Adriana Garcés Murillo\, comunicadora\, Especialista en Talento Humano y Executive Coach. Con experiencia en direccionamiento de procesos de atracción de talento\, formación y desarrollo\, cultura organizacional\, marca empleador y outplacement. \nInscríbete AQUÍ
URL:https://www.cuc.edu.co/evento/online-workshop-retos-que-enfrentan-los-profesionales-de-hoy-en-el-mercado-laboral
CATEGORIES:Eventos Principales
ATTACH;FMTTYPE=image/png:https://www.cuc.edu.co/wp-content/uploads/2023/02/sol63d9543dbafad.png
END:VEVENT
BEGIN:VEVENT
DTSTART;TZID=America/New_York:20230215T170000
DTEND;TZID=America/New_York:20230215T170000
DTSTAMP:20260425T112125
CREATED:20221201T214337Z
LAST-MODIFIED:20221201T214337Z
UID:15817-1676480400-1676480400@www.cuc.edu.co
SUMMARY:Participa en la Convocatoria 32 Asignación CTeI- SGR  Colombia por un Campo Productivo y Sostenible
DESCRIPTION:Hasta el 15 de febrero de 2023 podrás participar en la Convocatoria 32 Asignación CTeI SGR Colombia por un Campo Productivo y Sostenible que tiene como objetivo conformar un listado de proyectos elegibles en Investigación\, Desarrollo Tecnológico e Innovación que contribuyan a la disponibilidad\, acceso\, uso y estabilidad en la producción de alimentos\, así como al fortalecimiento de capacidades regionales que permitan el desarrollo de un campo productivo y sostenible. \nLos proyectos que se presenten a esta convocatoria deberán abordar al menos una de las siguientes líneas temáticas: \n\nTemática 1. I+D+i para la producción sostenible orientada al incremento de la disponibilidad de alimentos.\nTemática 2. I+D+i para el aseguramiento del acceso a los alimentos.\nTemática 3. I+D+i en utilización de alimentos para mejorar su calidad y la condición\nTemática 4. I+D+i para la estabilidad alimentaria.\n\nDirigido a:  \nAlianzas entre entidades del SNCTI que deberán incluir la participación de al menos 2 actores de aspas diferentes de la cuádruple hélice (Academia\, Sector Productivo\, Estado\, Sociedad Civil Organizada). \nEl proyecto deberá incluir en calidad de Beneficiario(s) al menos una (1) Organización y/o Comunidad Campesina\, la(s) cual(es) deberá(n) localizarse en el departamento objeto de la propuesta. \nFinanciación  \nPara la presente convocatoria se asigna un monto de CIENTO ONCE MIL MILLONES DE PESOS M/CTE ($ 111.000.000.000) provenientes de los recursos del Sistema General de Regalías\, Asignación para la Ciencia\, Tecnología e Innovación 2021-2022. \nLa distribución de los recursos para la presente convocatoria será departamental\, así las cosas\, los proyectos deberán solicitar desde mínimo tres mil millones hasta tres mil trescientos sesenta y tres millones seiscientos treinta y seis mil trescientos sesenta y tres pesos con sesenta y cuatro centavos M/CTe ($3.000.000.000 – $ 3.363.636.363\,64) para atender las demandas territoriales de (1) un departamento. \nNota: Se deberá atender al menos una (1) de las demandas territoriales del departamento objeto del proyecto. \nCronograma:  \n\n\n\nDescripción\nFecha\n\n\nApertura de la convocatoria\n11 de noviembre de 2022\n\n\nCierre de la convocatoria\n15 de febrero de 2023 hasta las 05:00 p.m.\n\n\nPeríodo de ajuste de los requisitos de la convocatoria\n01 de marzo de 2023 al 03 de marzo de 2023 hasta las 04:00 p.m.\n\n\nPublicación del listado preliminar de elegibles\n18 de abril de 2023\n\n\nPeríodo de solicitud de aclaraciones del listado preliminar de elegibles\n19 al 21 de abril de 2023 hasta las 4:00 p.m.\n\n\nRespuesta a solicitud de aclaraciones\n24 al 27 de abril de 2023\n\n\nPublicación del listado definitivo de elegibles\n04 de mayo de 2023\n\n\nSolicitud de creación de Rol Formulador CTeI\n19 de abril de 2023 al 16 de mayo de 2023\n\n\nTiempo de cargue y transferencia de información de proyectos de inversión en SUIFP – SGR – CTeI\n05 de mayo de 2023 al 02 de junio de 2023 hasta las 4:00 p.m.\n\n\nTiempo de verificación y cumplimiento de requisitos del SGR\n05 de junio de 2023 al 03 de agosto de 2023\n\n\n\nConsulta más sobre el instrumento de financiación AQUÍ. \nRevisa los términos de referencia: TDR_Convocatoria 32 SGR-Minciencias \nMás información: \nsdelahoz2@cuc.edu.co 
URL:https://www.cuc.edu.co/evento/participa-en-la-convocatoria-32-asignacion-ctei-sgr-colombia-por-un-campo-productivo-y-sostenible
CATEGORIES:Eventos Principales
ATTACH;FMTTYPE=image/png:https://www.cuc.edu.co/wp-content/uploads/2022/12/convocatoria-SGR.png
END:VEVENT
BEGIN:VEVENT
DTSTART;TZID=America/New_York:20230222T110000
DTEND;TZID=America/New_York:20230222T110000
DTSTAMP:20260425T112125
CREATED:20230216T202946Z
LAST-MODIFIED:20230216T202946Z
UID:16115-1677063600-1677063600@www.cuc.edu.co
SUMMARY:Miércoles de Ceniza
DESCRIPTION:Comunidad Universitaria \n«Cuaresma\, es un tiempo que nos debe llevar a ser cada vez más conscientes de lo que el Espíritu Santo\, recibido en el Bautismo\, ha trabajado y puede trabajar en nosotros.» \n Papa Francisco. \nTe invitamos a asistir a nuestro miércoles de ceniza\, el miércoles 22 de febrero a las 11:00 a.m. en el Coliseo de Competencias.
URL:https://www.cuc.edu.co/evento/miercoles-de-ceniza
CATEGORIES:Eventos Principales
ATTACH;FMTTYPE=image/png:https://www.cuc.edu.co/wp-content/uploads/2023/02/CENIZA-CORREO.png
END:VEVENT
BEGIN:VEVENT
DTSTART;TZID=America/New_York:20230223T143000
DTEND;TZID=America/New_York:20230223T173000
DTSTAMP:20260425T112125
CREATED:20230131T214538Z
LAST-MODIFIED:20230131T214538Z
UID:16023-1677162600-1677173400@www.cuc.edu.co
SUMMARY:Webinar - Capactiación sobre las NORMAS APA
DESCRIPTION:La interacción con actores externos y las actualizaciones en las respectivas áreas de conocimiento ocupan un lugar destacado en el supuesto de nuestra misión y visión institucional. A través de ella\, buscamos crear espacios donde se forman profesionales y ciudadanos holísticos en habilidades que contribuyen a la comprensión del mundo global entorno en el que vivimos. \nPor lo anterior\, te invitamos a participar del Webinar sobre normas APA el próximo jueves 23 de febrero a partir de las 2:30 p.m. Tendremos a una invitada internacional como ponente principal y un intérprete durante todo el evento. \n¡Te esperamos conectado!
URL:https://www.cuc.edu.co/evento/webinar-capactiacion-sobre-las-normas-apa
CATEGORIES:Eventos Principales
ATTACH;FMTTYPE=image/jpeg:https://www.cuc.edu.co/wp-content/uploads/2023/01/sol63d7d24f915a4.jpeg
END:VEVENT
BEGIN:VEVENT
DTSTART;TZID=America/New_York:20230223T160000
DTEND;TZID=America/New_York:20230223T173000
DTSTAMP:20260425T112125
CREATED:20230202T211319Z
LAST-MODIFIED:20230202T211319Z
UID:16039-1677168000-1677173400@www.cuc.edu.co
SUMMARY:CUCJObs a tu alcance
DESCRIPTION:ESTIMADO ESTUDIANTE Y GRADUADO \nLa transformación tecnológica en las empresas se ha acelerado a un ritmo sin precedentes\, teniéndose que adaptar a las nuevas formas de trabajo y de gestión de la información mucho antes de lo que el mercado lo hubiese previsto\, por esta razón\, exigen el mejor talento de los nuevos profesionales. En el marco de nuestro CucJobs a tu Alcance titulado: “Conoce las Demandas y los Retos del Sector IT para Contratar Personal” podrás conocer la mejor forma para ajustar tu perfil a las condiciones de contratación que exigen las empresas. \nParticipa en este espacio el próximo 23 de febrero a partir de las 4:00 p.m. a través de Teams. Contaremos con Valeria Vega Velilla profesional especializado en el área de Reclutamiento y Selección de Personal de la reconocida empresa del sector IT CONSWARE. \nEsperamos contar con tu valiosa participación. \nSeguimos conectados\, estamos contigo.
URL:https://www.cuc.edu.co/evento/cucjobs-a-tu-alcance-2
CATEGORIES:Eventos Principales
ATTACH;FMTTYPE=image/png:https://www.cuc.edu.co/wp-content/uploads/2023/02/sol63dacbcd0a412.png
END:VEVENT
BEGIN:VEVENT
DTSTART;VALUE=DATE:20230224
DTEND;VALUE=DATE:20230225
DTSTAMP:20260425T112126
CREATED:20230216T201308Z
LAST-MODIFIED:20230216T202041Z
UID:16106-1677196800-1677283199@www.cuc.edu.co
SUMMARY:¡Hola Estudiante Unicosta!
DESCRIPTION:¡Hola estudiante UniCosta! \nDesde la Vicerrectoría de Bienestar Universitario a través de la Coordinación de Salud Integral queremos invitarte a participar en las siguientes actividades\, que se desarrollarán en el mes de febrero.
URL:https://www.cuc.edu.co/evento/hola-estudiante-unicosta
CATEGORIES:Eventos Principales
ATTACH;FMTTYPE=image/png:https://www.cuc.edu.co/wp-content/uploads/2023/02/sol63ec101305f87-1.png
END:VEVENT
BEGIN:VEVENT
DTSTART;VALUE=DATE:20230224
DTEND;VALUE=DATE:20230325
DTSTAMP:20260425T112126
CREATED:20230216T201434Z
LAST-MODIFIED:20230216T202116Z
UID:16109-1677196800-1679702399@www.cuc.edu.co
SUMMARY:¡Hola Colaborador Unicosta!
DESCRIPTION:¡Hola Colaborador UniCosta! \nDesde la Vicerrectoría de Bienestar Universitario a través de la Coordinación de Salud Integral queremos invitarte a participar en las siguientes actividades\, que se desarrollaran en el mes de febrero.
URL:https://www.cuc.edu.co/evento/hola-colaborador-unicosta
CATEGORIES:Eventos Principales
ATTACH;FMTTYPE=image/png:https://www.cuc.edu.co/wp-content/uploads/2023/02/sol63ec105526463.png
END:VEVENT
BEGIN:VEVENT
DTSTART;TZID=America/New_York:20230227T183000
DTEND;TZID=America/New_York:20230227T203000
DTSTAMP:20260425T112126
CREATED:20230214T190728Z
LAST-MODIFIED:20230214T190728Z
UID:16089-1677522600-1677529800@www.cuc.edu.co
SUMMARY:Webinar: uso\, aspectos éticos y novedades de pruebas psicológicas 2023-1
DESCRIPTION:El próximo 27 de febrero se estará llevando a cabo el “Webinar: uso\, aspectos éticos y novedades de pruebas psicológicas 2023-1”\, a partir de las 6:30 p.m. a 8:30 p.m. en la Sala de conferencias 1\, bloque 11 piso 3 y Vía Teams. \nEl espacio contará con los siguientes invitados: \nEstefanía Calpa. Psicóloga egresada de la Universidad Minuto de Dios\, con especialización en Gerencia en Riesgos Laborales SST. Capacitada y con conocimiento en la aplicación\, manejo e interpretación de la batería de riesgo psicosocial. Experiencia en procesos de selección\, contratación masiva de personal\, gestión humana y en la atención\, identificación y sensibilización de vulneración de derechos de niñas\, niños y adolescentes. Amplia experiencia en el asesoramiento al cliente interno y externo\, gestión de ventas\, seguimiento y elaboración de informes. \nJosé Eduardo Lozano. Psicólogo (Universidad del Norte). Especialista en Desarrollo Social (Universidad del Norte). Magister en Desarrollo Social (Universidad del Norte). Magister en Ciencias Humanas y Sociales (Universidad de París XII – Creteil Val de Marne UPEC). Candidato a Doctor en Deporte y Salud (Universidad Miguel Hernández\, España). Decano de la Facultad de Ciencias Humanas y Sociales (Magistrado Capítulo Zona Norte COLPSIC). Vicepresidente del Capítulo Caribe de ASCOFADE. \nOrganiza: Programa de Psicología y PSEA S.A.S (Psicólogos Especialistas Asociados). \nMayores informes: \nRonald Linero Racines – rlinero1@cuc.edu.co  Coordinador de Laboratorios del Programa de Psicología Dirigido a docentes de psicología\, estudiantes de psicología\, graduados y profesionales en psicología (Externo). \nInscríbete ingresando al siguiente ENLACE
URL:https://www.cuc.edu.co/evento/webinar-uso-aspectos-eticos-y-novedades-de-pruebas-psicologicas-2023-1
CATEGORIES:Eventos Principales
ATTACH;FMTTYPE=image/jpeg:https://www.cuc.edu.co/wp-content/uploads/2023/02/sol63e65301a27c5.jpeg
END:VEVENT
BEGIN:VEVENT
DTSTART;TZID=America/New_York:20230228T173000
DTEND;TZID=America/New_York:20230228T173000
DTSTAMP:20260425T112126
CREATED:20230216T202316Z
LAST-MODIFIED:20230216T203207Z
UID:16113-1677605400-1677605400@www.cuc.edu.co
SUMMARY:Workshop Online ‘¿Cómo afrontar la búsqueda de empleo si no tenemos experiencia laboral?’
DESCRIPTION:Estimado estudiante \nSabemos la importancia del ámbito laboral en el desarrollo de tu vida\, así como se debe sentir la búsqueda de tu primer empleo. Para la Universidad de la Costa es importante guiarte hacia tu éxito profesional. \nPor eso\, te invitamos a participar en el Workshop Online ‘¿Cómo afrontar la búsqueda de empleo si no tenemos experiencia laboral?’ el próximo martes 28 de febrero desde las 5:30 p.m. a través de Teams. \nContaremos con el acompañamiento de Lisbeth Gómez\, psicóloga con más de 7 años de experiencia en el sector organizacional en multinacionales y actual líder de la Unidad de Desarrollo Profesional del Departamento de Empleabilidad de la Universidad de la Costa. \nNo te pierdas esta gran oportunidad de ser visible profesionalmente a gran escala. \nInscríbete AQUÍ \nEsperamos contar con tu valiosa participación. \nSeguimos conectados\, estamos contigo.
URL:https://www.cuc.edu.co/evento/workshop-online-como-afrontar-la-busqueda-de-empleo-si-no-tenemos-experiencia-laboral
CATEGORIES:Eventos Principales
ATTACH;FMTTYPE=image/png:https://www.cuc.edu.co/wp-content/uploads/2023/02/sol63ee4aa93ec81.png
END:VEVENT
END:VCALENDAR