BEGIN:VCALENDAR
VERSION:2.0
PRODID:-//Universidad de la Costa CUC - ECPv6.15.20//NONSGML v1.0//EN
CALSCALE:GREGORIAN
METHOD:PUBLISH
X-ORIGINAL-URL:https://www.cuc.edu.co
X-WR-CALDESC:Eventos para Universidad de la Costa CUC
REFRESH-INTERVAL;VALUE=DURATION:PT1H
X-Robots-Tag:noindex
X-PUBLISHED-TTL:PT1H
BEGIN:VTIMEZONE
TZID:America/New_York
BEGIN:DAYLIGHT
TZOFFSETFROM:-0500
TZOFFSETTO:-0400
TZNAME:EDT
DTSTART:20210314T070000
END:DAYLIGHT
BEGIN:STANDARD
TZOFFSETFROM:-0400
TZOFFSETTO:-0500
TZNAME:EST
DTSTART:20211107T060000
END:STANDARD
BEGIN:DAYLIGHT
TZOFFSETFROM:-0500
TZOFFSETTO:-0400
TZNAME:EDT
DTSTART:20220313T070000
END:DAYLIGHT
BEGIN:STANDARD
TZOFFSETFROM:-0400
TZOFFSETTO:-0500
TZNAME:EST
DTSTART:20221106T060000
END:STANDARD
BEGIN:DAYLIGHT
TZOFFSETFROM:-0500
TZOFFSETTO:-0400
TZNAME:EDT
DTSTART:20230312T070000
END:DAYLIGHT
BEGIN:STANDARD
TZOFFSETFROM:-0400
TZOFFSETTO:-0500
TZNAME:EST
DTSTART:20231105T060000
END:STANDARD
END:VTIMEZONE
BEGIN:VEVENT
DTSTART;TZID=America/New_York:20221205T153000
DTEND;TZID=America/New_York:20221205T153000
DTSTAMP:20260425T143241
CREATED:20221129T204933Z
LAST-MODIFIED:20221129T204933Z
UID:15727-1670254200-1670254200@www.cuc.edu.co
SUMMARY:Workshop para prácticas universitarias - Arquitectura
DESCRIPTION:Estimado estudiante de Arquitectura \nSi estás a punto de iniciar tus prácticas universitarias sabrás la importancia de tener una Hoja de Vida que genere impacto y de crear buenas impresiones en las entrevistas. \nPor eso\, el Departamento de Empleabilidad te invita a participar en este workshop con el fin de prepararte para cuando llegue el momento. Te estaremos esperando en la sala de conferencia 1 el día lunes 05 de diciembre desde las 3:30pm. \n¡No te pierdas esta oportunidad de seguir creciendo profesionalmente!
URL:https://www.cuc.edu.co/evento/workshop-para-practicas-universitarias-arquitectura
CATEGORIES:Eventos Principales
ATTACH;FMTTYPE=image/png:https://www.cuc.edu.co/wp-content/uploads/2022/11/sol6384d366566a9.png
END:VEVENT
BEGIN:VEVENT
DTSTART;TZID=America/New_York:20221206T100000
DTEND;TZID=America/New_York:20221206T100000
DTSTAMP:20260425T143241
CREATED:20221201T214212Z
LAST-MODIFIED:20221201T214212Z
UID:15814-1670320800-1670320800@www.cuc.edu.co
SUMMARY:Tratamiento de datos personales
DESCRIPTION:La Universidad de la Costa comprometida con el cumplimiento legal y con el manejo de datos personales te invitan al Webinar en Tratamiento de datos personales dictada por la firma consultora PRODATA este martes 06 de diciembre a las 10:00 a.m. a través de la plataforma teams. \nAccede AQUÍ para inscribirte \nOrganiza: \nDepartamento de Calidad
URL:https://www.cuc.edu.co/evento/tratamiento-de-datos-personales
CATEGORIES:Eventos Principales
ATTACH;FMTTYPE=image/png:https://www.cuc.edu.co/wp-content/uploads/2022/12/Datos.png
END:VEVENT
BEGIN:VEVENT
DTSTART;TZID=America/New_York:20221206T143000
DTEND;TZID=America/New_York:20221206T143000
DTSTAMP:20260425T143241
CREATED:20221201T214005Z
LAST-MODIFIED:20221201T214005Z
UID:15806-1670337000-1670337000@www.cuc.edu.co
SUMMARY:Cierre Programa Retos UniCosta 2022-2
DESCRIPTION:La Universidad de la Costa realizará el próximo martes 6 de diciembre la clausura del ‘Programa Retos’\, estrategia institucional que busca el aseguramiento del aprendizaje estudiantil mediante la aplicación del enfoque pedagógico ABR -Aprendizaje Basado en Retos\, y el uso de la metodología Desingn Thinking. El cierre del programa se realizará en la sala de conferencias dos del Bloque 11 y contará con la participación de las empresas y estudiantes que hicieron parte de la estrategia durante el período 2022-2 \nEl objetivo principal del programa es fortalecer la competitividad y la innovación de los profesionales en formación de la UniCosta\, desde el relacionamiento con el tejido empresarial\, para la co-creación de potenciales soluciones que conduzcan a la aplicación y generación de conocimientos en diferentes áreas de formación y a generar innovación para la solución de retos en contextos reales.
URL:https://www.cuc.edu.co/evento/cierre-programa-retos-unicosta-2022-2
CATEGORIES:Eventos Principales
ATTACH;FMTTYPE=image/png:https://www.cuc.edu.co/wp-content/uploads/2022/12/retos.png
END:VEVENT
BEGIN:VEVENT
DTSTART;TZID=America/New_York:20221206T160000
DTEND;TZID=America/New_York:20221206T160000
DTSTAMP:20260425T143241
CREATED:20221129T204844Z
LAST-MODIFIED:20221129T204958Z
UID:15724-1670342400-1670342400@www.cuc.edu.co
SUMMARY:Workshop para prácticas universitarias - Psicología y Comunicación Social
DESCRIPTION:Estimado estudiante de Psicología y Comunicación Social \nSi estás a punto de iniciar tus prácticas universitarias sabrás la importancia de tener una hoja de vida que genere impacto y de crear buenas impresiones en las entrevistas. Por eso\, el Departamento de Empleabilidad te invita a participar en este workshop con el fin de prepararte para cuando llegue el momento. Te estaremos esperando en la sala de conferencia 1 el día martes 06 de diciembre desde las 4:00pm.  \n¡No te pierdas esta oportunidad de seguir creciendo profesionalmente!
URL:https://www.cuc.edu.co/evento/workshop-para-practicas-universitarias
CATEGORIES:Eventos Principales
ATTACH;FMTTYPE=image/png:https://www.cuc.edu.co/wp-content/uploads/2022/11/sol6384d4b1a46be.png
END:VEVENT
BEGIN:VEVENT
DTSTART;TZID=America/New_York:20221213T150000
DTEND;TZID=America/New_York:20221213T150000
DTSTAMP:20260425T143241
CREATED:20221205T194838Z
LAST-MODIFIED:20221205T194838Z
UID:15848-1670943600-1670943600@www.cuc.edu.co
SUMMARY:Charla informativa de Becas y Oportunidades Fulbright Colombia
DESCRIPTION:Estimado Profesor UniCosta \nDesde el Departamento de Internacionalización le extendemos la invitación a participar en el evento: “Charla informativa de Becas y Oportunidades Fulbright Colombia”\, un espacio para la divulgación de convocatorias vigentes el cual se llevará a cabo el martes\, 13 de diciembre\, en modalidad remoto vía Microsoft Teams.  \nOrganizado por Fulbright Colombia y el Departamento de Internacionalización de la Universidad de la Costa. \nHora: 3:00 p.m.    \nSe requiere inscripción previa\, ingresa AQUI  para realizarla. \nMayor información \ninternacional@cuc.edu.co \nmovilidadprofesores@cuc.edu.co
URL:https://www.cuc.edu.co/evento/charla-informativa-de-becas-y-oportunidades-fulbright-colombia
CATEGORIES:Eventos Principales
ATTACH;FMTTYPE=image/png:https://www.cuc.edu.co/wp-content/uploads/2022/12/sol6388c596348e9.png
END:VEVENT
END:VCALENDAR