BEGIN:VCALENDAR
VERSION:2.0
PRODID:-//Universidad de la Costa CUC - ECPv6.15.20//NONSGML v1.0//EN
CALSCALE:GREGORIAN
METHOD:PUBLISH
X-WR-CALNAME:Universidad de la Costa CUC
X-ORIGINAL-URL:https://www.cuc.edu.co
X-WR-CALDESC:Eventos para Universidad de la Costa CUC
REFRESH-INTERVAL;VALUE=DURATION:PT1H
X-Robots-Tag:noindex
X-PUBLISHED-TTL:PT1H
BEGIN:VTIMEZONE
TZID:America/New_York
BEGIN:DAYLIGHT
TZOFFSETFROM:-0500
TZOFFSETTO:-0400
TZNAME:EDT
DTSTART:20240310T070000
END:DAYLIGHT
BEGIN:STANDARD
TZOFFSETFROM:-0400
TZOFFSETTO:-0500
TZNAME:EST
DTSTART:20241103T060000
END:STANDARD
BEGIN:DAYLIGHT
TZOFFSETFROM:-0500
TZOFFSETTO:-0400
TZNAME:EDT
DTSTART:20250309T070000
END:DAYLIGHT
BEGIN:STANDARD
TZOFFSETFROM:-0400
TZOFFSETTO:-0500
TZNAME:EST
DTSTART:20251102T060000
END:STANDARD
BEGIN:DAYLIGHT
TZOFFSETFROM:-0500
TZOFFSETTO:-0400
TZNAME:EDT
DTSTART:20260308T070000
END:DAYLIGHT
BEGIN:STANDARD
TZOFFSETFROM:-0400
TZOFFSETTO:-0500
TZNAME:EST
DTSTART:20261101T060000
END:STANDARD
END:VTIMEZONE
BEGIN:VEVENT
DTSTART;TZID=America/New_York:20250425T083000
DTEND;TZID=America/New_York:20250425T235900
DTSTAMP:20260423T195929
CREATED:20250403T224332Z
LAST-MODIFIED:20250403T224332Z
UID:22367-1745569800-1745625540@www.cuc.edu.co
SUMMARY:Aciertos\, retos y perspectivas
DESCRIPTION:Comunidad CUC  \nTe invitamos a participar en la charla “Aciertos Retos y Perspectivas Para Consolidar la Reducción de la Desforestación en la Amazonía” a cargo del director de REM Visión Amazonia Dr. José Yunis\, que se llevará a cabo el próximo viernes 25 de abril a partir de las 8:30 a.m. en la Sala de Conferencias\, bloque 11 piso 3. \n¡Te esperamos!
URL:https://www.cuc.edu.co/evento/aciertos-retos-y-perspectivas
CATEGORIES:Eventos Principales
ATTACH;FMTTYPE=image/jpeg:https://www.cuc.edu.co/wp-content/uploads/2025/04/sol67edb62b116bc-scaled.jpg
END:VEVENT
BEGIN:VEVENT
DTSTART;TZID=America/New_York:20250425T150000
DTEND;TZID=America/New_York:20250425T235900
DTSTAMP:20260423T195929
CREATED:20250422T190404Z
LAST-MODIFIED:20250422T190404Z
UID:23230-1745593200-1745625540@www.cuc.edu.co
SUMMARY:Premiación del VIII Concurso Nacional de Microcuento
DESCRIPTION:Biblioteca invita a toda la comunidad a participar en Cuento y converso\, un evento que se realizará el jueves 25 de abril a partir de las 3:00 p. m.\, en el marco de la Semana del Libro. Durante esta jornada se realizará la premiación del VIII Concurso Nacional de Microcuento y un conversatorio sobre escritura\, creatividad y literatura con los escritores Luis Felipe Vásquez y Juan Andrés Fernández. Será una oportunidad para celebrar las letras\, descubrir nuevas voces y dialogar con destacados autores del panorama nacional. \n¡Te esperamos!
URL:https://www.cuc.edu.co/evento/premiacion-del-viii-concurso-nacional-de-microcuento
CATEGORIES:Eventos Principales
ATTACH;FMTTYPE=image/png:https://www.cuc.edu.co/wp-content/uploads/2025/04/sol67f7f0210494d-scaled.png
END:VEVENT
BEGIN:VEVENT
DTSTART;TZID=America/New_York:20250507T080000
DTEND;TZID=America/New_York:20250509T235900
DTSTAMP:20260423T195929
CREATED:20250507T134842Z
LAST-MODIFIED:20250507T134917Z
UID:23339-1746604800-1746835140@www.cuc.edu.co
SUMMARY:Retos de la Inteligencia Artificial para un mundo en cambio
DESCRIPTION:Conoce más AQUI 
URL:https://www.cuc.edu.co/evento/retos-de-la-inteligencia-artificial-para-un-mundo-en-cambio
CATEGORIES:Eventos Principales
ATTACH;FMTTYPE=image/jpeg:https://www.cuc.edu.co/wp-content/uploads/2025/05/Banner-web-VISION-2025-evento.jpg
END:VEVENT
BEGIN:VEVENT
DTSTART;TZID=America/New_York:20250821T000000
DTEND;TZID=America/New_York:20250822T235900
DTSTAMP:20260423T195929
CREATED:20250715T142128Z
LAST-MODIFIED:20250715T142414Z
UID:23798-1755734400-1755907140@www.cuc.edu.co
SUMMARY:V Congreso de Derecho Laboral y de la Seguridad Social
DESCRIPTION:La Universidad de la Costa te invita al V Congreso de Derecho Laboral y de la Seguridad Social «Jorge Luis Quiroz Alemán»\, que se llevará a cabo el 21 y 22 de agosto de 2025 en el Coliseo de Competencias. \nUn espacio para reflexionar sobre los desafíos en la efectividad de los derechos laborales y de la seguridad social. \n¡Te esperamos!
URL:https://www.cuc.edu.co/evento/v-congreso-de-derecho-laboral-y-de-la-seguridad-social
CATEGORIES:Eventos Principales
ATTACH;FMTTYPE=image/png:https://www.cuc.edu.co/wp-content/uploads/2025/07/Noticosta-1000-x-600-scaled.png
END:VEVENT
END:VCALENDAR