BEGIN:VCALENDAR
VERSION:2.0
PRODID:-//Universidad de la Costa CUC - ECPv6.15.20//NONSGML v1.0//EN
CALSCALE:GREGORIAN
METHOD:PUBLISH
X-WR-CALNAME:Universidad de la Costa CUC
X-ORIGINAL-URL:https://www.cuc.edu.co
X-WR-CALDESC:Eventos para Universidad de la Costa CUC
REFRESH-INTERVAL;VALUE=DURATION:PT1H
X-Robots-Tag:noindex
X-PUBLISHED-TTL:PT1H
BEGIN:VTIMEZONE
TZID:America/New_York
BEGIN:DAYLIGHT
TZOFFSETFROM:-0500
TZOFFSETTO:-0400
TZNAME:EDT
DTSTART:20230312T070000
END:DAYLIGHT
BEGIN:STANDARD
TZOFFSETFROM:-0400
TZOFFSETTO:-0500
TZNAME:EST
DTSTART:20231105T060000
END:STANDARD
BEGIN:DAYLIGHT
TZOFFSETFROM:-0500
TZOFFSETTO:-0400
TZNAME:EDT
DTSTART:20240310T070000
END:DAYLIGHT
BEGIN:STANDARD
TZOFFSETFROM:-0400
TZOFFSETTO:-0500
TZNAME:EST
DTSTART:20241103T060000
END:STANDARD
BEGIN:DAYLIGHT
TZOFFSETFROM:-0500
TZOFFSETTO:-0400
TZNAME:EDT
DTSTART:20250309T070000
END:DAYLIGHT
BEGIN:STANDARD
TZOFFSETFROM:-0400
TZOFFSETTO:-0500
TZNAME:EST
DTSTART:20251102T060000
END:STANDARD
END:VTIMEZONE
BEGIN:VEVENT
DTSTART;VALUE=DATE:20240709
DTEND;VALUE=DATE:20240920
DTSTAMP:20260424T072204
CREATED:20240702T152930Z
LAST-MODIFIED:20240702T152930Z
UID:20193-1720483200-1726790399@www.cuc.edu.co
SUMMARY:Artes TODOS los martes
DESCRIPTION:Comunidad CUC \nTe invitamos a participar en el curso vacacional de arte y creatividad. Este programa está diseñado para estudiantes\, graduados y funcionarios de la institución que desean explorar su lado artístico y desarrollar sus habilidades creativas en un entorno educativo. Durante el curso los participantes tendrán la oportunidad de sumergirse en diversas disciplinas artísticas\, incluyendo pintura\, artes plásticas\, murales\, kirigami\, origami y maquetación. \nEste taller dará inicio el próximo martes 9 de julio y estará habilitado hasta el 19 del mismo mes. Se realizará en salón 805 del bloque 12. ¡Los esperamos! \nRegístrate AQUÍ
URL:https://www.cuc.edu.co/evento/artes-todos-los-martes
CATEGORIES:Eventos Principales
ATTACH;FMTTYPE=image/jpeg:https://www.cuc.edu.co/wp-content/uploads/2024/07/sol667cc0acd26b4-rotated.jpg
END:VEVENT
BEGIN:VEVENT
DTSTART;VALUE=DATE:20240815
DTEND;VALUE=DATE:20240816
DTSTAMP:20260424T072204
CREATED:20240606T164745Z
LAST-MODIFIED:20240606T164839Z
UID:19905-1723680000-1723766399@www.cuc.edu.co
SUMMARY:Concurso Suelo diVERSO y Poesía
DESCRIPTION:En conmemoración del Día Mundial del Suelo\, el Departamento de Civil y Ambiental lanza la convocatoria del Concurso de Poesía “Suelo diVERSO y poesía”. El tema del concurso es: ¡Mantenga vivo el suelo\, proteja la biodiversidad del suelo! y tiene como principal objetivo sensibilizar a los estudiantes sobre la escritura creativa\, destacando la comprensión de la importancia del recurso suelo. \nPodrán participar en el concurso los estudiantes de los programas de pregrado del Departamento de Civil y Ambiental de la Universidad de la Costa. Inscripciones abiertas hasta el 15 de agosto. \nConoce las condiciones de participación en el PDF adjunto y realiza tu inscripción ingresando al siguiente LINK.
URL:https://www.cuc.edu.co/evento/concurso-suelo-diverso-y-poesia
CATEGORIES:Eventos Principales
ATTACH;FMTTYPE=image/png:https://www.cuc.edu.co/wp-content/uploads/2024/06/sol665f786b1d366.png
END:VEVENT
END:VCALENDAR