BEGIN:VCALENDAR
VERSION:2.0
PRODID:-//Universidad de la Costa CUC - ECPv6.15.20//NONSGML v1.0//EN
CALSCALE:GREGORIAN
METHOD:PUBLISH
X-ORIGINAL-URL:https://www.cuc.edu.co
X-WR-CALDESC:Eventos para Universidad de la Costa CUC
REFRESH-INTERVAL;VALUE=DURATION:PT1H
X-Robots-Tag:noindex
X-PUBLISHED-TTL:PT1H
BEGIN:VTIMEZONE
TZID:America/New_York
BEGIN:DAYLIGHT
TZOFFSETFROM:-0500
TZOFFSETTO:-0400
TZNAME:EDT
DTSTART:20230312T070000
END:DAYLIGHT
BEGIN:STANDARD
TZOFFSETFROM:-0400
TZOFFSETTO:-0500
TZNAME:EST
DTSTART:20231105T060000
END:STANDARD
BEGIN:DAYLIGHT
TZOFFSETFROM:-0500
TZOFFSETTO:-0400
TZNAME:EDT
DTSTART:20240310T070000
END:DAYLIGHT
BEGIN:STANDARD
TZOFFSETFROM:-0400
TZOFFSETTO:-0500
TZNAME:EST
DTSTART:20241103T060000
END:STANDARD
BEGIN:DAYLIGHT
TZOFFSETFROM:-0500
TZOFFSETTO:-0400
TZNAME:EDT
DTSTART:20250309T070000
END:DAYLIGHT
BEGIN:STANDARD
TZOFFSETFROM:-0400
TZOFFSETTO:-0500
TZNAME:EST
DTSTART:20251102T060000
END:STANDARD
END:VTIMEZONE
BEGIN:VEVENT
DTSTART;VALUE=DATE:20240429
DTEND;VALUE=DATE:20240531
DTSTAMP:20260424T121446
CREATED:20240405T214926Z
LAST-MODIFIED:20240410T183829Z
UID:19114-1714348800-1717113599@www.cuc.edu.co
SUMMARY:Semana del derecho público y privado
DESCRIPTION:SEMANA DEL DERECHO PÚBLICO Y PRIVADO \nEL CUAL SE LLEVARÁ A CABO EN LOS DÍAS 29 Y 30 DE ABRIL. \n29 de abril: \nÁREA DE DERECHO PÚBLICO:  \nModalidad: Remota a través de la Plataforma Microsoft Teams. \nLink de conexión:  \nhttps://teams.microsoft.com/l/meetup-join/19%3ameeting_MDUxZWJiOGMtZDcyMS00YzQ4LWJmMzktMTNkNjY4ZDNlMzlm%40thread.v2/0?context=%7b%22Tid%22%3a%220507e5ce-0f95-49aa-abde-c90dcdedbd12%22%2c%22Oid%22%3a%222d99a06d-4a51-419c-aa5c-cb54e87cd793%22%7d \nHora: 6:00 p. m. a 10:00 p.m. \nLÍNEAS TEMÁTICAS: \n\nDesarrollo y sostenibilidad ambiental.\nProtección de los Derechos Humanos en el ciberespacio.\nConstitucionalismo pluralista y diversidad cultural.\n\n  \nÁREA DE DERECHO PENAL           \nModalidad: Remota a través de la Plataforma Microsoft Teams. \nLink de conexión: \nhttps://teams.microsoft.com/l/meetup-join/19%3ameeting_MDUxZWJiOGMtZDcyMS00YzQ4LWJmMzktMTNkNjY4ZDNlMzlm%40thread.v2/0?context=%7b%22Tid%22%3a%220507e5ce-0f95-49aa-abde-c90dcdedbd12%22%2c%22Oid%22%3a%222d99a06d-4a51-419c-aa5c-cb54e87cd793%22%7d \nHora: 2:30 p. m. a 5:30 p.m. \nLÍNEAS TEMÁTICAS: \n\nDelitos trasnacionales en el marco de la migración constante en latino América.\nLucha contra los delitos cibernéticos: sexting\, extorsión. Secuestro de base de datos de empresas públicas y privadas.\n\n  \nÁREA DE TEORÍA \nModalidad: Remota a través de la Plataforma Microsoft Teams. \nLink de conexión: \nhttps://teams.microsoft.com/l/meetup-join/19%3ameeting_MDUxZWJiOGMtZDcyMS00YzQ4LWJmMzktMTNkNjY4ZDNlMzlm%40thread.v2/0?context=%7b%22Tid%22%3a%220507e5ce-0f95-49aa-abde-c90dcdedbd12%22%2c%22Oid%22%3a%222d99a06d-4a51-419c-aa5c-cb54e87cd793%22%7d \nHora: 8:00 a. m. a 12:00 m \nLÍNEAS TEMÁTICAS: \n\nRetos de la hermenéutica y la argumentación jurídica en el siglo XXI\nDesafíos de la investigación en el mundo jurídico\n\n  \n30 de abril: \nÁREA DE DERECHO COMERCIAL \nModalidad: Remota a través de la Plataforma Microsoft Teams. \nLink de conexión: \nhttps://teams.microsoft.com/l/meetup-join/19%3ameeting_ODE2ZTMxNDktNzM3MS00NjcwLWJmZGMtMDExN2I5YWY2Zjcw%40thread.v2/0?context=%7b%22Tid%22%3a%220507e5ce-0f95-49aa-abde-c90dcdedbd12%22%2c%22Oid%22%3a%222d99a06d-4a51-419c-aa5c-cb54e87cd793%22%7d \nHora: 5:30 p. m. a 7:30 p.m.        \nLÍNEAS TEMÁTICAS: \n\nNuevos modelos de negocio y estrategias LegalTech\nNuevos usos de las criptomonedas en las empresas\n\n  \nÁREA DE DERECHO CIVIL \nModalidad: Remota a través de la Plataforma Microsoft Teams. \nLink de conexión: \nhttps://teams.microsoft.com/l/meetup-join/19%3ameeting_OTk0ZmY3NGItMWIyMi00NGU3LTg3NzItNTc2OWRlNzk3MDMz%40thread.v2/0?context=%7b%22Tid%22%3a%220507e5ce-0f95-49aa-abde-c90dcdedbd12%22%2c%22Oid%22%3a%222d99a06d-4a51-419c-aa5c-cb54e87cd793%22%7d \nHora: 8:00 a. m. a 11:00 a.m. \nLÍNEAS TEMÁTICAS: \n\nAdministración de justicia en la era digital\nLa prueba judicial y su implementación por medio del uso de las tics
URL:https://www.cuc.edu.co/semana-del-derecho-publico-y-privado
CATEGORIES:Eventos Principales
ATTACH;FMTTYPE=image/jpeg:https://www.cuc.edu.co/wp-content/uploads/2024/04/SEMANA-DEL-DERECHO-PUBLICO-Y-PRIVADO-1-1_page-0001.jpg
END:VEVENT
BEGIN:VEVENT
DTSTART;VALUE=DATE:20240514
DTEND;VALUE=DATE:20240518
DTSTAMP:20260424T121446
CREATED:20240319T223534Z
LAST-MODIFIED:20240423T141845Z
UID:19014-1715644800-1715990399@www.cuc.edu.co
SUMMARY:Movilidad Internacional - Por una construcción circular COLOMBIA - CHILE 2024
DESCRIPTION:Comunidad UniCosta \nTe invitamos a participar en la Misión Académica Internacional: por una construcción sostenible Colombia – Chile 2024\, que se llevará a cabo del 14 al 17 de mayo\, en Santiago de Chile\, Chile. Organizada por el Doctorado en Desarrollo sostenible Maestría en Desarrollo sostenible. \nMayores informes: Heidis Cano / hcano3@cuc.edu.co\, Maria Tejera / mtejera1@cuc.edu.co o Yolima Ruiz Silva / yruiz4@cuc.edu.co \nPara conocer detalles de la programación consultar el PDF adjunto.
URL:https://www.cuc.edu.co/evento/movilidad-internacional-por-una-construccion-circular-colombia-chile-2024
CATEGORIES:Eventos Principales
ATTACH;FMTTYPE=image/jpeg:https://www.cuc.edu.co/wp-content/uploads/2024/03/MIison-Chile.jpg
END:VEVENT
BEGIN:VEVENT
DTSTART;TZID=America/New_York:20240516T103000
DTEND;TZID=America/New_York:20240516T103000
DTSTAMP:20260424T121446
CREATED:20240509T191857Z
LAST-MODIFIED:20240516T195739Z
UID:19504-1715855400-1715855400@www.cuc.edu.co
SUMMARY:Conferencia: Principios de Bavaria
DESCRIPTION:Te invitamos a participar en la conferencia ‘Bavaria su cultura y sus marcas’\, con el conferencista invitado Omar Cáceres Arroyave. Este evento se realizará el próximo jueves 16 de mayo a partir de las 10:30 a.m. en el Bloque 11\, Sala de conferencia. \nInscripciones AQUÍ \n¡Te esperamos!
URL:https://www.cuc.edu.co/evento/conferencia-principios-de-bavaria
CATEGORIES:Eventos Principales
ATTACH;FMTTYPE=image/png:https://www.cuc.edu.co/wp-content/uploads/2024/05/sol6643676389725-1.png
END:VEVENT
END:VCALENDAR