BEGIN:VCALENDAR
VERSION:2.0
PRODID:-//Universidad de la Costa CUC - ECPv6.15.20//NONSGML v1.0//EN
CALSCALE:GREGORIAN
METHOD:PUBLISH
X-ORIGINAL-URL:https://www.cuc.edu.co
X-WR-CALDESC:Eventos para Universidad de la Costa CUC
REFRESH-INTERVAL;VALUE=DURATION:PT1H
X-Robots-Tag:noindex
X-PUBLISHED-TTL:PT1H
BEGIN:VTIMEZONE
TZID:America/New_York
BEGIN:DAYLIGHT
TZOFFSETFROM:-0500
TZOFFSETTO:-0400
TZNAME:EDT
DTSTART:20230312T070000
END:DAYLIGHT
BEGIN:STANDARD
TZOFFSETFROM:-0400
TZOFFSETTO:-0500
TZNAME:EST
DTSTART:20231105T060000
END:STANDARD
BEGIN:DAYLIGHT
TZOFFSETFROM:-0500
TZOFFSETTO:-0400
TZNAME:EDT
DTSTART:20240310T070000
END:DAYLIGHT
BEGIN:STANDARD
TZOFFSETFROM:-0400
TZOFFSETTO:-0500
TZNAME:EST
DTSTART:20241103T060000
END:STANDARD
BEGIN:DAYLIGHT
TZOFFSETFROM:-0500
TZOFFSETTO:-0400
TZNAME:EDT
DTSTART:20250309T070000
END:DAYLIGHT
BEGIN:STANDARD
TZOFFSETFROM:-0400
TZOFFSETTO:-0500
TZNAME:EST
DTSTART:20251102T060000
END:STANDARD
END:VTIMEZONE
BEGIN:VEVENT
DTSTART;TZID=America/New_York:20240403T090000
DTEND;TZID=America/New_York:20240403T190000
DTSTAMP:20260424T134349
CREATED:20240402T204224Z
LAST-MODIFIED:20240402T204224Z
UID:19072-1712134800-1712170800@www.cuc.edu.co
SUMMARY:Feria de internacionalización 2024-1
DESCRIPTION:Estimada comunidad CUC nos complace invitarlos a participar de nuestra Feria de Internacionalización 2024–1. Esta actividad está dirigida a nuestra comunidad académica y administrativa\, cuyo objetivo principal es fomentar la diversidad cultural\, promover la internacionalización de la educación superior y ofrecer oportunidades únicas para el desarrollo personal y profesional de nuestros estudiantes\, profesores y administrativos. \n¡Participa y sé parte de nuestra gran experiencia!  \nDescubre lo que te espera. ¡No te pierdas la oportunidad de ser parte de algo emocionante y gratificante!
URL:https://www.cuc.edu.co/evento/feria-de-internacionalizacion-2024-1
CATEGORIES:Eventos Principales
ATTACH;FMTTYPE=image/jpeg:https://www.cuc.edu.co/wp-content/uploads/2024/04/WhatsApp-Image-2024-04-02-at-9.53.17-AM.jpeg
END:VEVENT
END:VCALENDAR