BEGIN:VCALENDAR
VERSION:2.0
PRODID:-//Universidad de la Costa CUC - ECPv6.15.20//NONSGML v1.0//EN
CALSCALE:GREGORIAN
METHOD:PUBLISH
X-WR-CALNAME:Universidad de la Costa CUC
X-ORIGINAL-URL:https://www.cuc.edu.co
X-WR-CALDESC:Eventos para Universidad de la Costa CUC
REFRESH-INTERVAL;VALUE=DURATION:PT1H
X-Robots-Tag:noindex
X-PUBLISHED-TTL:PT1H
BEGIN:VTIMEZONE
TZID:America/New_York
BEGIN:DAYLIGHT
TZOFFSETFROM:-0500
TZOFFSETTO:-0400
TZNAME:EDT
DTSTART:20230312T070000
END:DAYLIGHT
BEGIN:STANDARD
TZOFFSETFROM:-0400
TZOFFSETTO:-0500
TZNAME:EST
DTSTART:20231105T060000
END:STANDARD
BEGIN:DAYLIGHT
TZOFFSETFROM:-0500
TZOFFSETTO:-0400
TZNAME:EDT
DTSTART:20240310T070000
END:DAYLIGHT
BEGIN:STANDARD
TZOFFSETFROM:-0400
TZOFFSETTO:-0500
TZNAME:EST
DTSTART:20241103T060000
END:STANDARD
BEGIN:DAYLIGHT
TZOFFSETFROM:-0500
TZOFFSETTO:-0400
TZNAME:EDT
DTSTART:20250309T070000
END:DAYLIGHT
BEGIN:STANDARD
TZOFFSETFROM:-0400
TZOFFSETTO:-0500
TZNAME:EST
DTSTART:20251102T060000
END:STANDARD
END:VTIMEZONE
BEGIN:VEVENT
DTSTART;TZID=America/New_York:20240315T090000
DTEND;TZID=America/New_York:20240315T200000
DTSTAMP:20260424T151232
CREATED:20240314T192219Z
LAST-MODIFIED:20240314T192219Z
UID:18922-1710493200-1710532800@www.cuc.edu.co
SUMMARY:Yo me planto por la vida
DESCRIPTION:Te invitamos a conocer la campaña #YoMePlantoPorLaVida\, con la cual impulsaremos hábitos enfocados a cuidar nuestra salud mental. Te esperamos este viernes 15 de marzo\, de 9:00 a.m. a 8:00 p.m. en la plazoleta ubicada entre bloque 10 y 11. \nInvolúcrate y planta la semilla del autocuidado en tu vida \n¡Te esperamos para sembrar juntos un futuro lleno de bienestar y armonía!
URL:https://www.cuc.edu.co/evento/yo-me-planto-por-la-vida
CATEGORIES:Eventos Principales
ATTACH;FMTTYPE=image/jpeg:https://www.cuc.edu.co/wp-content/uploads/2024/03/Invitacioin-Yo-me-planto_Noticosta-1-scaled.jpg
END:VEVENT
END:VCALENDAR