BEGIN:VCALENDAR
VERSION:2.0
PRODID:-//Universidad de la Costa CUC - ECPv6.15.20//NONSGML v1.0//EN
CALSCALE:GREGORIAN
METHOD:PUBLISH
X-WR-CALNAME:Universidad de la Costa CUC
X-ORIGINAL-URL:https://www.cuc.edu.co
X-WR-CALDESC:Eventos para Universidad de la Costa CUC
REFRESH-INTERVAL;VALUE=DURATION:PT1H
X-Robots-Tag:noindex
X-PUBLISHED-TTL:PT1H
BEGIN:VTIMEZONE
TZID:America/New_York
BEGIN:DAYLIGHT
TZOFFSETFROM:-0500
TZOFFSETTO:-0400
TZNAME:EDT
DTSTART:20230312T070000
END:DAYLIGHT
BEGIN:STANDARD
TZOFFSETFROM:-0400
TZOFFSETTO:-0500
TZNAME:EST
DTSTART:20231105T060000
END:STANDARD
BEGIN:DAYLIGHT
TZOFFSETFROM:-0500
TZOFFSETTO:-0400
TZNAME:EDT
DTSTART:20240310T070000
END:DAYLIGHT
BEGIN:STANDARD
TZOFFSETFROM:-0400
TZOFFSETTO:-0500
TZNAME:EST
DTSTART:20241103T060000
END:STANDARD
BEGIN:DAYLIGHT
TZOFFSETFROM:-0500
TZOFFSETTO:-0400
TZNAME:EDT
DTSTART:20250309T070000
END:DAYLIGHT
BEGIN:STANDARD
TZOFFSETFROM:-0400
TZOFFSETTO:-0500
TZNAME:EST
DTSTART:20251102T060000
END:STANDARD
END:VTIMEZONE
BEGIN:VEVENT
DTSTART;TZID=America/New_York:20240313T103000
DTEND;TZID=America/New_York:20240313T103000
DTSTAMP:20260424T145929
CREATED:20240312T195311Z
LAST-MODIFIED:20240312T195311Z
UID:18895-1710325800-1710325800@www.cuc.edu.co
SUMMARY:Audiencia Pública de Rendición de Cuentas del Consejo Superior de la Judicatura
DESCRIPTION:Comunidad UniCosta \nTe invitamos a participar de la Audiencia Pública de Rendición de Cuentas del Consejo Superior de la Judicatura\, que se estará realizando este miércoles 13 de marzo a las 10:30 a.m. en el Coliseo de Competencias de la Universidad de la Costa. \nTambién puedes conectarte a la transmisión en vivo a través del siguiente link \n¡Contamos contigo!
URL:https://www.cuc.edu.co/evento/audiencia-publica-de-rendicion-de-cuentas-del-consejo-superior-de-la-judicatura
CATEGORIES:Eventos Principales
ATTACH;FMTTYPE=image/jpeg:https://www.cuc.edu.co/wp-content/uploads/2024/03/Image.jpg
END:VEVENT
END:VCALENDAR