BEGIN:VCALENDAR
VERSION:2.0
PRODID:-//Universidad de la Costa CUC - ECPv6.15.20//NONSGML v1.0//EN
CALSCALE:GREGORIAN
METHOD:PUBLISH
X-WR-CALNAME:Universidad de la Costa CUC
X-ORIGINAL-URL:https://www.cuc.edu.co
X-WR-CALDESC:Eventos para Universidad de la Costa CUC
REFRESH-INTERVAL;VALUE=DURATION:PT1H
X-Robots-Tag:noindex
X-PUBLISHED-TTL:PT1H
BEGIN:VTIMEZONE
TZID:America/New_York
BEGIN:DAYLIGHT
TZOFFSETFROM:-0500
TZOFFSETTO:-0400
TZNAME:EDT
DTSTART:20230312T070000
END:DAYLIGHT
BEGIN:STANDARD
TZOFFSETFROM:-0400
TZOFFSETTO:-0500
TZNAME:EST
DTSTART:20231105T060000
END:STANDARD
BEGIN:DAYLIGHT
TZOFFSETFROM:-0500
TZOFFSETTO:-0400
TZNAME:EDT
DTSTART:20240310T070000
END:DAYLIGHT
BEGIN:STANDARD
TZOFFSETFROM:-0400
TZOFFSETTO:-0500
TZNAME:EST
DTSTART:20241103T060000
END:STANDARD
BEGIN:DAYLIGHT
TZOFFSETFROM:-0500
TZOFFSETTO:-0400
TZNAME:EDT
DTSTART:20250309T070000
END:DAYLIGHT
BEGIN:STANDARD
TZOFFSETFROM:-0400
TZOFFSETTO:-0500
TZNAME:EST
DTSTART:20251102T060000
END:STANDARD
END:VTIMEZONE
BEGIN:VEVENT
DTSTART;TZID=America/New_York:20240226T140000
DTEND;TZID=America/New_York:20240226T140000
DTSTAMP:20260424T145832
CREATED:20240130T200355Z
LAST-MODIFIED:20240130T200355Z
UID:18614-1708956000-1708956000@www.cuc.edu.co
SUMMARY:Webinar: Actualización\, uso y la ética en normas de aplicación e interpretación de pruebas psicológicas 2024-1
DESCRIPTION:Te invitamos a participar en el ‘Webinar: Actualización\, uso y la ética en normas de aplicación e interpretación de pruebas psicológicas 2024-1’\, que se realizará el próximo lunes 26 de febrero a partir de las 2:00 p.m. vía Teams. \nInvitados: \nEstefanía Calpa. Psicóloga egresada de la Universidad Minuto de Dios\, con especialización en Gerencia en Riesgos Laborales SST. Capacitada y con conocimiento en la aplicación\, manejo e interpretación de la batería de riesgo psicosocial. Experiencia en procesos de selección\, contratación masiva de personal\, gestión humana y en la atención\, identificación y sensibilización de vulneración de derechos de niñas\, niños y adolescentes. Amplia experiencia en el asesoramiento al cliente interno y externo\, gestión de ventas\, seguimiento y elaboración de informes. \nJosé Eduardo Lozano. Psicólogo (Universidad del Norte). Especialista en Desarrollo Social (Universidad del Norte). Magister en Desarrollo Social (Universidad del Norte). Magister en Ciencias Humanas y Sociales (Universidad de París XII – Creteil Val de Marne UPEC). Doctor en Deporte y Salud (Universidad Miguel Hernández\, España). Decano de la Facultad de Ciencias Humanas y Sociales (Magistrado Capítulo Zona Norte COLPSIC). Presidente – Asociación Colombiana de Facultades de Humanidades y Ciencias Sociales-ASOCOLFHCS. Presidente Capítulo Caribe – Asociación Colombiana de Facultades de Educación-ASCOFADE. \nOrganiza: Programa de Psicología y PSEA S.A.S (Psicólogos Especialistas Asociados). \nMayores informes:  \nRonald Linero Racines – Coordinador de Laboratorios del Programa de Psicología rlinero1@cuc.edu.co \nLink de inscripción AQUÍ
URL:https://www.cuc.edu.co/evento/webinar-actualizacion-uso-y-la-etica-en-normas-de-aplicacion-e-interpretacion-de-pruebas-psicologicas-2024-1
CATEGORIES:Eventos Principales
ATTACH;FMTTYPE=image/jpeg:https://www.cuc.edu.co/wp-content/uploads/2024/01/sol65b911f95e305.jpeg
END:VEVENT
BEGIN:VEVENT
DTSTART;TZID=America/New_York:20240226T160000
DTEND;TZID=America/New_York:20240226T160000
DTSTAMP:20260424T145832
CREATED:20240206T211323Z
LAST-MODIFIED:20240206T211323Z
UID:18643-1708963200-1708963200@www.cuc.edu.co
SUMMARY:Seminario de Ciencias con la conferencia “Enriquecimiento de fosfolípidos de lecitina con ácidos grasos Omega-3 obtenidos mediante interesterificación enzimática”
DESCRIPTION:Te invitamos a participar en el Seminario de Ciencias con la conferencia “Enriquecimiento de fosfolípidos de lecitina con ácidos grasos Omega-3 obtenidos mediante interesterificación enzimática”\, que se llevará a cabo el próximo lunes 26 de febrero en la Sala de conferencia 1\, en el bloque 11 piso 3\, a partir de las 4:00 p.m. \n¡Los esperamos!
URL:https://www.cuc.edu.co/evento/seminario-de-ciencias-con-la-conferencia-enriquecimiento-de-fosfolipidos-de-lecitina-con-acidos-grasos-omega-3-obtenidos-mediante-interesterificacion-enzimatica
CATEGORIES:Eventos Principales
ATTACH;FMTTYPE=image/jpeg:https://www.cuc.edu.co/wp-content/uploads/2024/02/sol65bc441c33f71.jpg
END:VEVENT
END:VCALENDAR