BEGIN:VCALENDAR
VERSION:2.0
PRODID:-//Universidad de la Costa CUC - ECPv6.15.20//NONSGML v1.0//EN
CALSCALE:GREGORIAN
METHOD:PUBLISH
X-WR-CALNAME:Universidad de la Costa CUC
X-ORIGINAL-URL:https://www.cuc.edu.co
X-WR-CALDESC:Eventos para Universidad de la Costa CUC
REFRESH-INTERVAL;VALUE=DURATION:PT1H
X-Robots-Tag:noindex
X-PUBLISHED-TTL:PT1H
BEGIN:VTIMEZONE
TZID:America/New_York
BEGIN:DAYLIGHT
TZOFFSETFROM:-0500
TZOFFSETTO:-0400
TZNAME:EDT
DTSTART:20230312T070000
END:DAYLIGHT
BEGIN:STANDARD
TZOFFSETFROM:-0400
TZOFFSETTO:-0500
TZNAME:EST
DTSTART:20231105T060000
END:STANDARD
BEGIN:DAYLIGHT
TZOFFSETFROM:-0500
TZOFFSETTO:-0400
TZNAME:EDT
DTSTART:20240310T070000
END:DAYLIGHT
BEGIN:STANDARD
TZOFFSETFROM:-0400
TZOFFSETTO:-0500
TZNAME:EST
DTSTART:20241103T060000
END:STANDARD
BEGIN:DAYLIGHT
TZOFFSETFROM:-0500
TZOFFSETTO:-0400
TZNAME:EDT
DTSTART:20250309T070000
END:DAYLIGHT
BEGIN:STANDARD
TZOFFSETFROM:-0400
TZOFFSETTO:-0500
TZNAME:EST
DTSTART:20251102T060000
END:STANDARD
END:VTIMEZONE
BEGIN:VEVENT
DTSTART;TZID=America/New_York:20240222T080000
DTEND;TZID=America/New_York:20240222T120000
DTSTAMP:20260424T163519
CREATED:20240220T213938Z
LAST-MODIFIED:20240220T213938Z
UID:18701-1708588800-1708603200@www.cuc.edu.co
SUMMARY:Mesa sectorial para la construcción del Plan de Desarrollo Distrital y Plan territorial de Salud 2024 – 2027
DESCRIPTION:El próximo 22 de febrero\, la Universidad de la Costa será la sede para la Mesa sectorial para la construcción del Plan de Desarrollo Distrital y Plan territorial de Salud 2024 – 2027 de la Secretaría de Salud y la Secretaría de Planeación Distrital\, contará con la presencia de líderes de diferentes instituciones públicas\, privadas y mixtas del sector salud y de miembros del Dpto. de Ciencias de la Salud de la Universidad de la Costa.
URL:https://www.cuc.edu.co/evento/mesa-sectorial-para-la-construccion-del-plan-de-desarrollo-distrital-y-plan-territorial-de-salud-2024-2027
CATEGORIES:Eventos Principales
ATTACH;FMTTYPE=image/jpeg:https://www.cuc.edu.co/wp-content/uploads/2024/02/Mesa-sectorial.jpg
END:VEVENT
END:VCALENDAR