BEGIN:VCALENDAR
VERSION:2.0
PRODID:-//Universidad de la Costa CUC - ECPv6.15.20//NONSGML v1.0//EN
CALSCALE:GREGORIAN
METHOD:PUBLISH
X-WR-CALNAME:Universidad de la Costa CUC
X-ORIGINAL-URL:https://www.cuc.edu.co
X-WR-CALDESC:Eventos para Universidad de la Costa CUC
REFRESH-INTERVAL;VALUE=DURATION:PT1H
X-Robots-Tag:noindex
X-PUBLISHED-TTL:PT1H
BEGIN:VTIMEZONE
TZID:America/New_York
BEGIN:DAYLIGHT
TZOFFSETFROM:-0500
TZOFFSETTO:-0400
TZNAME:EDT
DTSTART:20220313T070000
END:DAYLIGHT
BEGIN:STANDARD
TZOFFSETFROM:-0400
TZOFFSETTO:-0500
TZNAME:EST
DTSTART:20221106T060000
END:STANDARD
BEGIN:DAYLIGHT
TZOFFSETFROM:-0500
TZOFFSETTO:-0400
TZNAME:EDT
DTSTART:20230312T070000
END:DAYLIGHT
BEGIN:STANDARD
TZOFFSETFROM:-0400
TZOFFSETTO:-0500
TZNAME:EST
DTSTART:20231105T060000
END:STANDARD
BEGIN:DAYLIGHT
TZOFFSETFROM:-0500
TZOFFSETTO:-0400
TZNAME:EDT
DTSTART:20240310T070000
END:DAYLIGHT
BEGIN:STANDARD
TZOFFSETFROM:-0400
TZOFFSETTO:-0500
TZNAME:EST
DTSTART:20241103T060000
END:STANDARD
END:VTIMEZONE
BEGIN:VEVENT
DTSTART;TZID=America/New_York:20231212T143000
DTEND;TZID=America/New_York:20231212T143000
DTSTAMP:20260424T194725
CREATED:20231128T025419Z
LAST-MODIFIED:20231128T025419Z
UID:18246-1702391400-1702391400@www.cuc.edu.co
SUMMARY:¡Juntos aprendimos a generar soluciones para el sector empresarial!
DESCRIPTION:La Universidad de la Costa realizará el próximo martes 12 de diciembre la clausura del ‘Programa Retos’\, estrategia institucional que busca el aseguramiento del aprendizaje estudiantil mediante la aplicación del enfoque pedagógico ABR -Aprendizaje Basado en Retos\, y el uso de la metodología Desingn Thinking. El cierre del programa se realizará en la sala de conferencias 1 del Bloque 11\, piso 3 y contará con la participación de las empresas y estudiantes que hicieron parte de la estrategia durante el período 2023-2 \nEl objetivo principal del programa es fortalecer la competitividad y la innovación de los profesionales en formación de la UniCosta\, desde el relacionamiento con el tejido empresarial\, para la co-creación de potenciales soluciones que conduzcan a la aplicación y generación de conocimientos en diferentes áreas de formación y a generar innovación para la solución de retos en contextos reales.
URL:https://www.cuc.edu.co/evento/juntos-aprendimos-a-generar-soluciones-para-el-sector-empresarial-2
CATEGORIES:Eventos Principales
ATTACH;FMTTYPE=image/jpeg:https://www.cuc.edu.co/wp-content/uploads/2023/11/sol655f5cf8e89d6.jpg
END:VEVENT
END:VCALENDAR