BEGIN:VCALENDAR
VERSION:2.0
PRODID:-//Universidad de la Costa CUC - ECPv6.15.20//NONSGML v1.0//EN
CALSCALE:GREGORIAN
METHOD:PUBLISH
X-ORIGINAL-URL:https://www.cuc.edu.co
X-WR-CALDESC:Eventos para Universidad de la Costa CUC
REFRESH-INTERVAL;VALUE=DURATION:PT1H
X-Robots-Tag:noindex
X-PUBLISHED-TTL:PT1H
BEGIN:VTIMEZONE
TZID:America/New_York
BEGIN:DAYLIGHT
TZOFFSETFROM:-0500
TZOFFSETTO:-0400
TZNAME:EDT
DTSTART:20220313T070000
END:DAYLIGHT
BEGIN:STANDARD
TZOFFSETFROM:-0400
TZOFFSETTO:-0500
TZNAME:EST
DTSTART:20221106T060000
END:STANDARD
BEGIN:DAYLIGHT
TZOFFSETFROM:-0500
TZOFFSETTO:-0400
TZNAME:EDT
DTSTART:20230312T070000
END:DAYLIGHT
BEGIN:STANDARD
TZOFFSETFROM:-0400
TZOFFSETTO:-0500
TZNAME:EST
DTSTART:20231105T060000
END:STANDARD
BEGIN:DAYLIGHT
TZOFFSETFROM:-0500
TZOFFSETTO:-0400
TZNAME:EDT
DTSTART:20240310T070000
END:DAYLIGHT
BEGIN:STANDARD
TZOFFSETFROM:-0400
TZOFFSETTO:-0500
TZNAME:EST
DTSTART:20241103T060000
END:STANDARD
END:VTIMEZONE
BEGIN:VEVENT
DTSTART;VALUE=DATE:20231127
DTEND;VALUE=DATE:20231202
DTSTAMP:20260424T194910
CREATED:20231024T211652Z
LAST-MODIFIED:20231024T211652Z
UID:17805-1701043200-1701475199@www.cuc.edu.co
SUMMARY:Misión Académica Innovación en Salud
DESCRIPTION:Misión Académica Innovación en Salud  \nLa misión académica internacional\, se realizará en la Universidad Andrés Bello (UNAB)\, Campus República\, en Santiago de Chile del 27 de noviembre al 1 de diciembre. \nSi deseas más información o tienes dudas sobre el contenido de la misión\, puedes contactarte con Tulia Beltrán\, directora de la Maestría en Gestión de Servicios de Salud \ntbeltran1@cuc.edu.co \n¡Anímate a vivir esta gran experiencia académica y cultural!
URL:https://www.cuc.edu.co/evento/mision-academica-innovacion-en-salud
CATEGORIES:Eventos Principales
ATTACH;FMTTYPE=image/jpeg:https://www.cuc.edu.co/wp-content/uploads/2023/10/sol652ff73809c7e.jpg
END:VEVENT
BEGIN:VEVENT
DTSTART;TZID=America/New_York:20231130T083000
DTEND;TZID=America/New_York:20231130T093000
DTSTAMP:20260424T194910
CREATED:20231128T025556Z
LAST-MODIFIED:20231130T144300Z
UID:18249-1701333000-1701336600@www.cuc.edu.co
SUMMARY:Webinar Internacional “Inteligencia artificial aplicada a neurociencias cognitivas”
DESCRIPTION:El programa de psicología de la Universidad de la Costa\, tiene el gusto de invitarlos al webinar “Inteligencia artificial aplicada a neurociencias cognitivas”\, el cual se llevará a cabo este jueves 30 de noviembre de 8:30 a.m. a 9:30 a.m. hora Colombia\, 14:30h a 15:30h hora España\, en el marco de la conmemoración del mes del psicólogo. \nTendremos como conferencista invitado al Ph.D. Xim Cerda-Company\, profesor Lector en el Departamento de Ciencias de la Computación de la Universidad Autónoma de Barcelona y miembro del Cognition and Brain Plasticity Unit del Instituto de Investigaciones Biomédicas de Bellvitge (IDIBELL). \nLa transmisión se realizará vía Teams\, los interesados pueden inscribirse en el siguiente enlace \nMayor información:  \nMaría Jesús Ramírez Ordóñez / mramirez8@cuc.edu.co \nLíder de internacionalización del programa de psicología
URL:https://www.cuc.edu.co/evento/webinar-internacional-inteligencia-artificial-aplicada-a-neurociencias-cognitivas
CATEGORIES:Eventos Principales
ATTACH;FMTTYPE=image/png:https://www.cuc.edu.co/wp-content/uploads/2023/11/sol6560d165030d1-1.png
END:VEVENT
BEGIN:VEVENT
DTSTART;TZID=America/New_York:20231130T173000
DTEND;TZID=America/New_York:20231130T235900
DTSTAMP:20260424T194910
CREATED:20231121T154015Z
LAST-MODIFIED:20231121T154406Z
UID:18220-1701365400-1701388740@www.cuc.edu.co
SUMMARY:Nuevas Tendencias para la Empleabilidad: Adaptándote al Cambio
DESCRIPTION:Nuevas Tendencias para la Empleabilidad: Adaptándote al Cambio \nTe invitamos a participar del Workshop: Nuevas Tendencias para la Empleabilidad: Adaptándote al Cambio\, el próximo jueves 30 de noviembre a las 5:30 p.m. a través de Teams. \nContaremos con la participación de Rosa Leal Fernández: Ingeniera industrial\, especialista en gestión humana\, certificada en dirección internacional del talento\, en metodologías ágiles aplicadas a HR y en empleabilidad. Más de 13 años de trayectoria laboral liderando la implementación de estrategias alineadas a los procesos de talento humano. \nInscríbete ya en el siguiente ENLACE.
URL:https://www.cuc.edu.co/evento/nuevas-tendencias-para-la-empleabilidad-adaptandote-al-cambio
CATEGORIES:Eventos Principales
ATTACH;FMTTYPE=image/png:https://www.cuc.edu.co/wp-content/uploads/2023/11/sol65567057029c0.png
END:VEVENT
END:VCALENDAR