BEGIN:VCALENDAR
VERSION:2.0
PRODID:-//Universidad de la Costa CUC - ECPv6.15.20//NONSGML v1.0//EN
CALSCALE:GREGORIAN
METHOD:PUBLISH
X-WR-CALNAME:Universidad de la Costa CUC
X-ORIGINAL-URL:https://www.cuc.edu.co
X-WR-CALDESC:Eventos para Universidad de la Costa CUC
REFRESH-INTERVAL;VALUE=DURATION:PT1H
X-Robots-Tag:noindex
X-PUBLISHED-TTL:PT1H
BEGIN:VTIMEZONE
TZID:America/New_York
BEGIN:DAYLIGHT
TZOFFSETFROM:-0500
TZOFFSETTO:-0400
TZNAME:EDT
DTSTART:20220313T070000
END:DAYLIGHT
BEGIN:STANDARD
TZOFFSETFROM:-0400
TZOFFSETTO:-0500
TZNAME:EST
DTSTART:20221106T060000
END:STANDARD
BEGIN:DAYLIGHT
TZOFFSETFROM:-0500
TZOFFSETTO:-0400
TZNAME:EDT
DTSTART:20230312T070000
END:DAYLIGHT
BEGIN:STANDARD
TZOFFSETFROM:-0400
TZOFFSETTO:-0500
TZNAME:EST
DTSTART:20231105T060000
END:STANDARD
BEGIN:DAYLIGHT
TZOFFSETFROM:-0500
TZOFFSETTO:-0400
TZNAME:EDT
DTSTART:20240310T070000
END:DAYLIGHT
BEGIN:STANDARD
TZOFFSETFROM:-0400
TZOFFSETTO:-0500
TZNAME:EST
DTSTART:20241103T060000
END:STANDARD
END:VTIMEZONE
BEGIN:VEVENT
DTSTART;VALUE=DATE:20231120
DTEND;VALUE=DATE:20231121
DTSTAMP:20260424T211630
CREATED:20231108T001508Z
LAST-MODIFIED:20231108T001508Z
UID:17935-1700438400-1700524799@www.cuc.edu.co
SUMMARY:Conferencia: Innovación: Más que una moda\, una herramienta para la transformación
DESCRIPTION:Te invitamos a participar de la Conferencia: Innovación: Más que una moda\, una herramienta para la transformación\, el próximo lunes 20 de noviembre a las 05:30 p.m. en el Coliseo de Competencias. \nContaremos con la participación de Fernando Andrés Landazury Lemus: Ingeniero Industrial con magíster\, certificado en Innovación\, con más de 10 años de experiencia en proyectos de transformación digital en sectores de Energía\, Educación y Construcción. \nInscríbete ya en el siguiente ENLACE.
URL:https://www.cuc.edu.co/evento/conferencia-innovacion-mas-que-una-moda-una-herramienta-para-la-transformacion-2
CATEGORIES:Eventos Principales
ATTACH;FMTTYPE=image/png:https://www.cuc.edu.co/wp-content/uploads/2023/11/sol6542b6526cd46.png
END:VEVENT
END:VCALENDAR