BEGIN:VCALENDAR
VERSION:2.0
PRODID:-//Universidad de la Costa CUC - ECPv6.15.20//NONSGML v1.0//EN
CALSCALE:GREGORIAN
METHOD:PUBLISH
X-ORIGINAL-URL:https://www.cuc.edu.co
X-WR-CALDESC:Eventos para Universidad de la Costa CUC
REFRESH-INTERVAL;VALUE=DURATION:PT1H
X-Robots-Tag:noindex
X-PUBLISHED-TTL:PT1H
BEGIN:VTIMEZONE
TZID:America/New_York
BEGIN:DAYLIGHT
TZOFFSETFROM:-0500
TZOFFSETTO:-0400
TZNAME:EDT
DTSTART:20220313T070000
END:DAYLIGHT
BEGIN:STANDARD
TZOFFSETFROM:-0400
TZOFFSETTO:-0500
TZNAME:EST
DTSTART:20221106T060000
END:STANDARD
BEGIN:DAYLIGHT
TZOFFSETFROM:-0500
TZOFFSETTO:-0400
TZNAME:EDT
DTSTART:20230312T070000
END:DAYLIGHT
BEGIN:STANDARD
TZOFFSETFROM:-0400
TZOFFSETTO:-0500
TZNAME:EST
DTSTART:20231105T060000
END:STANDARD
BEGIN:DAYLIGHT
TZOFFSETFROM:-0500
TZOFFSETTO:-0400
TZNAME:EDT
DTSTART:20240310T070000
END:DAYLIGHT
BEGIN:STANDARD
TZOFFSETFROM:-0400
TZOFFSETTO:-0500
TZNAME:EST
DTSTART:20241103T060000
END:STANDARD
END:VTIMEZONE
BEGIN:VEVENT
DTSTART;VALUE=DATE:20231117
DTEND;VALUE=DATE:20231119
DTSTAMP:20260424T211655
CREATED:20231026T203702Z
LAST-MODIFIED:20231026T203702Z
UID:17837-1700179200-1700351999@www.cuc.edu.co
SUMMARY:Torneo Regional Universitario E-SPORTS FIFA
DESCRIPTION:TORNEO REGIONAL UNIVERSITARIO E-SPORT FIFA 23\, el cual se realizará de manera presencial con el apoyo de la Universidad Simón Bolívar. Este evento se llevará a cabo en la ciudad de Barranquilla\, el 17 y 18 noviembre del 2023 en las consolas de videojuegos PLAY STATION 5 y XBOX ONE SERIE X.
URL:https://www.cuc.edu.co/evento/torneo-regional-universitario-e-sports-fifa
CATEGORIES:Eventos Principales
ATTACH;FMTTYPE=image/png:https://www.cuc.edu.co/wp-content/uploads/2023/10/sol6536bdad9b984.png
END:VEVENT
BEGIN:VEVENT
DTSTART;TZID=America/New_York:20231117T130000
DTEND;TZID=America/New_York:20231117T160000
DTSTAMP:20260424T211655
CREATED:20231109T210442Z
LAST-MODIFIED:20231109T210442Z
UID:17975-1700226000-1700236800@www.cuc.edu.co
SUMMARY:Río y mar: homenaje a Juan Piña
DESCRIPTION:Comunidad UniCosta te invitamos a participar en el evento “Río y mar: homenaje a Juan Piña” que se realizará el próximo viernes 17 de noviembre en el Coliseo de Competencias de 1:00 p.m. a 4:00 p.m. \n¡Te esperamos!
URL:https://www.cuc.edu.co/evento/rio-y-mar-homenaje-a-juan-pina
CATEGORIES:Eventos Principales
ATTACH;FMTTYPE=image/jpeg:https://www.cuc.edu.co/wp-content/uploads/2023/11/UNICOSTA-RIO-Y-MAR_NOTICOSTA.jpg
END:VEVENT
BEGIN:VEVENT
DTSTART;TZID=America/New_York:20231117T140000
DTEND;TZID=America/New_York:20231117T180000
DTSTAMP:20260424T211655
CREATED:20231116T214401Z
LAST-MODIFIED:20231116T214401Z
UID:18114-1700229600-1700244000@www.cuc.edu.co
SUMMARY:Inclusión\, Interculturalidad y Diversidad de Género
DESCRIPTION:Te invitamos a participar en el evento “Inclusión\, Interculturalidad y Diversidad de Género”\, que se llevará a cabo con invitados nacionales e internacionales este viernes 17 de noviembre de 2:00 p.m. a 6:00 p.m. en el bloque 11\, piso 8.
URL:https://www.cuc.edu.co/evento/inclusion-interculturalidad-y-diversidad-de-genero
CATEGORIES:Eventos Principales
ATTACH;FMTTYPE=image/jpeg:https://www.cuc.edu.co/wp-content/uploads/2023/11/sol6552426af36df.jpeg
END:VEVENT
END:VCALENDAR