BEGIN:VCALENDAR
VERSION:2.0
PRODID:-//Universidad de la Costa CUC - ECPv6.15.20//NONSGML v1.0//EN
CALSCALE:GREGORIAN
METHOD:PUBLISH
X-ORIGINAL-URL:https://www.cuc.edu.co
X-WR-CALDESC:Eventos para Universidad de la Costa CUC
REFRESH-INTERVAL;VALUE=DURATION:PT1H
X-Robots-Tag:noindex
X-PUBLISHED-TTL:PT1H
BEGIN:VTIMEZONE
TZID:America/New_York
BEGIN:DAYLIGHT
TZOFFSETFROM:-0500
TZOFFSETTO:-0400
TZNAME:EDT
DTSTART:20220313T070000
END:DAYLIGHT
BEGIN:STANDARD
TZOFFSETFROM:-0400
TZOFFSETTO:-0500
TZNAME:EST
DTSTART:20221106T060000
END:STANDARD
BEGIN:DAYLIGHT
TZOFFSETFROM:-0500
TZOFFSETTO:-0400
TZNAME:EDT
DTSTART:20230312T070000
END:DAYLIGHT
BEGIN:STANDARD
TZOFFSETFROM:-0400
TZOFFSETTO:-0500
TZNAME:EST
DTSTART:20231105T060000
END:STANDARD
BEGIN:DAYLIGHT
TZOFFSETFROM:-0500
TZOFFSETTO:-0400
TZNAME:EDT
DTSTART:20240310T070000
END:DAYLIGHT
BEGIN:STANDARD
TZOFFSETFROM:-0400
TZOFFSETTO:-0500
TZNAME:EST
DTSTART:20241103T060000
END:STANDARD
END:VTIMEZONE
BEGIN:VEVENT
DTSTART;TZID=America/New_York:20231115T090000
DTEND;TZID=America/New_York:20231115T160000
DTSTAMP:20260424T211841
CREATED:20231031T201746Z
LAST-MODIFIED:20231031T201746Z
UID:17893-1700038800-1700064000@www.cuc.edu.co
SUMMARY:Open House Unicosta 2023-2
DESCRIPTION:Comunidad UniCosta \nTe invitamos a participar el próximo miércoles 15 de noviembre en el Open House UniCosta 2023-2. Únete a esta gran jornada en la que damos a conocer la amplia oferta de programas académicos\, instalaciones y demás beneficios que tiene la universidad disponible\, e invita a tus amigos y todas las personas interesadas en ser parte de la familia UniCosta a vivir un día en nuestra institución. \nComparte tu experiencia en redes sociales publicando tus fotografías utilizando el #OpenHouseUniCosta \nInscríbete AQUÍ
URL:https://www.cuc.edu.co/evento/open-house-unicosta-2023-2
CATEGORIES:Eventos Principales
ATTACH;FMTTYPE=image/jpeg:https://www.cuc.edu.co/wp-content/uploads/2023/10/Open-House-2023-2-07-scaled.jpg
END:VEVENT
END:VCALENDAR