BEGIN:VCALENDAR
VERSION:2.0
PRODID:-//Universidad de la Costa CUC - ECPv6.15.20//NONSGML v1.0//EN
CALSCALE:GREGORIAN
METHOD:PUBLISH
X-WR-CALNAME:Universidad de la Costa CUC
X-ORIGINAL-URL:https://www.cuc.edu.co
X-WR-CALDESC:Eventos para Universidad de la Costa CUC
REFRESH-INTERVAL;VALUE=DURATION:PT1H
X-Robots-Tag:noindex
X-PUBLISHED-TTL:PT1H
BEGIN:VTIMEZONE
TZID:America/New_York
BEGIN:DAYLIGHT
TZOFFSETFROM:-0500
TZOFFSETTO:-0400
TZNAME:EDT
DTSTART:20220313T070000
END:DAYLIGHT
BEGIN:STANDARD
TZOFFSETFROM:-0400
TZOFFSETTO:-0500
TZNAME:EST
DTSTART:20221106T060000
END:STANDARD
BEGIN:DAYLIGHT
TZOFFSETFROM:-0500
TZOFFSETTO:-0400
TZNAME:EDT
DTSTART:20230312T070000
END:DAYLIGHT
BEGIN:STANDARD
TZOFFSETFROM:-0400
TZOFFSETTO:-0500
TZNAME:EST
DTSTART:20231105T060000
END:STANDARD
BEGIN:DAYLIGHT
TZOFFSETFROM:-0500
TZOFFSETTO:-0400
TZNAME:EDT
DTSTART:20240310T070000
END:DAYLIGHT
BEGIN:STANDARD
TZOFFSETFROM:-0400
TZOFFSETTO:-0500
TZNAME:EST
DTSTART:20241103T060000
END:STANDARD
END:VTIMEZONE
BEGIN:VEVENT
DTSTART;VALUE=DATE:20230901
DTEND;VALUE=DATE:20231101
DTSTAMP:20260424T231933
CREATED:20230905T152720Z
LAST-MODIFIED:20230905T152720Z
UID:17533-1693526400-1698796799@www.cuc.edu.co
SUMMARY:En Septiembre Agéndate con Salud Unicosta
DESCRIPTION:Estudiante UniCosta: \nTe invitamos a participar de los servicios que Salud UniCosta tiene para ti este mes de septiembre. \nPara participar inscríbete en el siguiente ENLACE
URL:https://www.cuc.edu.co/evento/en-septiembre-agendate-con-salud-unicosta
CATEGORIES:Eventos Principales
ATTACH;FMTTYPE=image/png:https://www.cuc.edu.co/wp-content/uploads/2023/09/sol64f0a2efb610e.png
END:VEVENT
BEGIN:VEVENT
DTSTART;VALUE=DATE:20231002
DTEND;VALUE=DATE:20231107
DTSTAMP:20260424T231933
CREATED:20230829T181319Z
LAST-MODIFIED:20230829T181319Z
UID:17492-1696204800-1699315199@www.cuc.edu.co
SUMMARY:Misión Académica Internacional - Universidad de Buenos Aires
DESCRIPTION:Te invitamos a participar en la misión académica internacional\, Universidad de Buenos Aires\, Argentina que se llevará a cabo del 2 al 6 de octubre de 2023\, enfocada en el tema de Innovación y Blockchain. \nLa realización de la misión\, tiene una inversión de $1.980.000\, que incluye sesiones de formación\, visita empresarial y certificación. \nSi deseas más información o tienes dudas sobre el contenido de la misión\, puedes contactarte a amena4@cuc.edu.co
URL:https://www.cuc.edu.co/evento/mision-academica-internacional-universidad-de-buenos-aires
CATEGORIES:Eventos Principales
ATTACH;FMTTYPE=image/jpeg:https://www.cuc.edu.co/wp-content/uploads/2023/08/sol64e63016061ba.jpeg
END:VEVENT
BEGIN:VEVENT
DTSTART;VALUE=DATE:20231016
DTEND;VALUE=DATE:20231022
DTSTAMP:20260424T231933
CREATED:20230905T153823Z
LAST-MODIFIED:20230905T153823Z
UID:17542-1697414400-1697932799@www.cuc.edu.co
SUMMARY:Misión académica internacional a España
DESCRIPTION:Te invitamos a participar en la misión académica internacional a España\, en la Universidad Politécnica de Valencia que se llevará a cabo del 16 al 21 de octubre de 2023\, enfocada en el tema de Innovación y Gestión del Riesgo Laboral. \nMayor información: Luz Borrero – lborrero2@cuc.edu.co \nLucelys Vidal – lvidal2@cuc.edu.co
URL:https://www.cuc.edu.co/evento/mision-academica-internacional-a-espana
CATEGORIES:Eventos Principales
ATTACH;FMTTYPE=image/png:https://www.cuc.edu.co/wp-content/uploads/2023/09/sol64f102079669d.png
END:VEVENT
BEGIN:VEVENT
DTSTART;TZID=America/New_York:20231019T140000
DTEND;TZID=America/New_York:20231019T180000
DTSTAMP:20260424T231933
CREATED:20231003T203727Z
LAST-MODIFIED:20231003T203727Z
UID:17724-1697724000-1697738400@www.cuc.edu.co
SUMMARY:I Simposio Internacional en Neurociencias y Educación
DESCRIPTION:Les invitamos al I Simposio Internacional en Neurociencias y Educación que estaremos realizando el día 19 de octubre en el Coliseo de Competencias y con transmisión en vivo vía teams. Este evento se está gestando desde el área de procesos neuropsicológicos y educación del programa de psicología de la Universidad de la Costa. \nEl evento tendrá un costo de 60.000 pesos colombianos para estudiantes y 100.000 pesos colombianos para profesionales. \n15 dólares estudiantes y 25 dólares profesionales. \nMg. Juan Felipe Vanegas. Perfil neuropsicológico de niños con coeficiente intelectual limitrofe y comorbilidades con otros trastornos del desarrollo. \nDra. Sigem Sabagh. Conductas adaptativas. Cociente intelectual y el aula de clases. \nDr. Norman López. Agresividad y aprendizaje en los trastornos del neurodesarrollo. \nDr. Juan Carlos Arango. Evaluación neuropsicológica infantil utilizando pruebas con baremos colombianos. \nDr. Jorge Herrera. Fenilcetonuria y neurofibromatosis: dos sindromes genéticos que se manifiesta con síntomas de TDAH. \nDra. Nelly Revollo. Una mirada reflexiva hacia los retos y desafíos de la práctica docente y los procesos de aprendizaje. \nLink de pago e inscripciones.
URL:https://www.cuc.edu.co/evento/i-simposio-internacional-en-neurociencias-y-educacion
CATEGORIES:Eventos Principales
ATTACH;FMTTYPE=image/png:https://www.cuc.edu.co/wp-content/uploads/2023/10/PRIMER-SIMPOSIO-INTERNACIONAL-DE-NEUROCIENCIAS-Y-EDUCACION_Mesa-de-trabajo-1-copia-2-1.png
END:VEVENT
BEGIN:VEVENT
DTSTART;TZID=America/New_York:20231019T180000
DTEND;TZID=America/New_York:20231019T180000
DTSTAMP:20260424T231933
CREATED:20231019T193525Z
LAST-MODIFIED:20231019T193525Z
UID:17793-1697738400-1697738400@www.cuc.edu.co
SUMMARY:Mujeres en Globant: ¡Haciendo historia!
DESCRIPTION:Tenemos el gusto de invitarlos al evento virtual este jueves 19 de octubre: Mujeres en Globant: ¡Haciendo Historia!  \nEsperamos que puedan hacer parte de este espacio enriquecedor para la comunidad.
URL:https://www.cuc.edu.co/evento/mujeres-en-globant-haciendo-historia
CATEGORIES:Eventos Principales
ATTACH;FMTTYPE=image/png:https://www.cuc.edu.co/wp-content/uploads/2023/10/sol652028a28699e.png
END:VEVENT
END:VCALENDAR