BEGIN:VCALENDAR
VERSION:2.0
PRODID:-//Universidad de la Costa CUC - ECPv6.15.20//NONSGML v1.0//EN
CALSCALE:GREGORIAN
METHOD:PUBLISH
X-WR-CALNAME:Universidad de la Costa CUC
X-ORIGINAL-URL:https://www.cuc.edu.co
X-WR-CALDESC:Eventos para Universidad de la Costa CUC
REFRESH-INTERVAL;VALUE=DURATION:PT1H
X-Robots-Tag:noindex
X-PUBLISHED-TTL:PT1H
BEGIN:VTIMEZONE
TZID:America/New_York
BEGIN:DAYLIGHT
TZOFFSETFROM:-0500
TZOFFSETTO:-0400
TZNAME:EDT
DTSTART:20220313T070000
END:DAYLIGHT
BEGIN:STANDARD
TZOFFSETFROM:-0400
TZOFFSETTO:-0500
TZNAME:EST
DTSTART:20221106T060000
END:STANDARD
BEGIN:DAYLIGHT
TZOFFSETFROM:-0500
TZOFFSETTO:-0400
TZNAME:EDT
DTSTART:20230312T070000
END:DAYLIGHT
BEGIN:STANDARD
TZOFFSETFROM:-0400
TZOFFSETTO:-0500
TZNAME:EST
DTSTART:20231105T060000
END:STANDARD
BEGIN:DAYLIGHT
TZOFFSETFROM:-0500
TZOFFSETTO:-0400
TZNAME:EDT
DTSTART:20240310T070000
END:DAYLIGHT
BEGIN:STANDARD
TZOFFSETFROM:-0400
TZOFFSETTO:-0500
TZNAME:EST
DTSTART:20241103T060000
END:STANDARD
END:VTIMEZONE
BEGIN:VEVENT
DTSTART;VALUE=DATE:20230525
DTEND;VALUE=DATE:20230616
DTSTAMP:20260425T074215
CREATED:20230526T210012Z
LAST-MODIFIED:20230526T210434Z
UID:16876-1684972800-1686873599@www.cuc.edu.co
SUMMARY:Curso sobre aspectos financieros para proyectos financiados con recursos del Sistema General de Regalías
DESCRIPTION:El Departamento de Proyectos y la Vicerrectoría de Ciencia\, Tecnología e Innovación tienen el gusto de invitarlo a realizar el «Curso sobre aspectos financieros para proyectos financiados con recursos del Sistema General de Regalías» el cual se llevará a cabo de manera remota\, a través de la plataforma Teams. \nEl curso tendrá el desarrollo de las siguientes temáticas: \nTemática 1: Análisis presupuestal de un proyecto. \nTemática 2: Normatividad y ajuste o modificación de un proyecto. \nTemática 3: Ejecución financiera y reporte. \nLas sesiones serán dirigidas por el economista Jhoan Calvache Fajardo. \nLa duración del curso será de 8 horas y el horario será de 4:00 p.m. a 6:00 p.m. \nA continuación\, se relacionan las fechas de sesiones y enlaces de ingreso para cada reunión de Teams: Sesión 1: 25 de mayo – Haga clic aquí para unirse a la reunión. Sesión 2: 1 de junio – Haga clic aquí para unirse a la reunión. Sesión 3: 8 de junio – Haga clic aquí para unirse a la reunión. Sesión 4: 15 de junio – Haga clic aquí para unirse a la reunión. \nEste curso será certificado para el personal que asista a la totalidad de las sesiones. No requiere inscripción previa.
URL:https://www.cuc.edu.co/evento/curso-sobre-aspectos-financieros-para-proyectos-financiados-con-recursos-del-sistema-general-de-regalias
CATEGORIES:Eventos Principales
ATTACH;FMTTYPE=image/png:https://www.cuc.edu.co/wp-content/uploads/2023/05/sol646e1c8f2c587.png
END:VEVENT
END:VCALENDAR