BEGIN:VCALENDAR
VERSION:2.0
PRODID:-//Universidad de la Costa CUC - ECPv6.15.20//NONSGML v1.0//EN
CALSCALE:GREGORIAN
METHOD:PUBLISH
X-ORIGINAL-URL:https://www.cuc.edu.co
X-WR-CALDESC:Eventos para Universidad de la Costa CUC
REFRESH-INTERVAL;VALUE=DURATION:PT1H
X-Robots-Tag:noindex
X-PUBLISHED-TTL:PT1H
BEGIN:VTIMEZONE
TZID:America/New_York
BEGIN:DAYLIGHT
TZOFFSETFROM:-0500
TZOFFSETTO:-0400
TZNAME:EDT
DTSTART:20220313T070000
END:DAYLIGHT
BEGIN:STANDARD
TZOFFSETFROM:-0400
TZOFFSETTO:-0500
TZNAME:EST
DTSTART:20221106T060000
END:STANDARD
BEGIN:DAYLIGHT
TZOFFSETFROM:-0500
TZOFFSETTO:-0400
TZNAME:EDT
DTSTART:20230312T070000
END:DAYLIGHT
BEGIN:STANDARD
TZOFFSETFROM:-0400
TZOFFSETTO:-0500
TZNAME:EST
DTSTART:20231105T060000
END:STANDARD
BEGIN:DAYLIGHT
TZOFFSETFROM:-0500
TZOFFSETTO:-0400
TZNAME:EDT
DTSTART:20240310T070000
END:DAYLIGHT
BEGIN:STANDARD
TZOFFSETFROM:-0400
TZOFFSETTO:-0500
TZNAME:EST
DTSTART:20241103T060000
END:STANDARD
END:VTIMEZONE
BEGIN:VEVENT
DTSTART;TZID=America/New_York:20230524T090000
DTEND;TZID=America/New_York:20230524T150000
DTSTAMP:20260425T074427
CREATED:20230523T204410Z
LAST-MODIFIED:20230523T204410Z
UID:16846-1684918800-1684940400@www.cuc.edu.co
SUMMARY:Ya está abierta la convocatoria de créditos 2023-2 de ICETEX
DESCRIPTION:Ya está abierta la convocatoria de créditos 2023-2 de ICETEX  \nVen y acércate el día 24 de mayo en los horarios de 09:00 a.m. a 12:00 p.m. y de 01:00 p.m. a 04:00 p.m. donde te acompañaremos en el diligenciamiento del formulario de solicitud. Documentos solicitados: Estudiante y representante legal (en el caso de ser menor de edad el estudiante) \n\nDocumento de identidad del estudiante. Si es menor de edad tener a la mano el del representante legal adicionalmente\nCorreo\, teléfono\, factura del servicio de energía Resultados pruebas saber 11.\n\nDeudor solidario: \n\nDocumento de identidad del deudor.\nSi es independiente indicar cuánto es en el monto de sus ingresos y la actividad económica en la cual se dedica.\nSi es asalariado indicar: razón social de la empresa\, cargo\, tipo de contrato\, salario\, antigüedad laboral.\nPensionado: Extractos de pensión\, correo electrónico\, dirección y teléfono.
URL:https://www.cuc.edu.co/evento/ya-esta-abierta-la-convocatoria-de-creditos-2023-2-de-icetex
CATEGORIES:Eventos Principales
ATTACH;FMTTYPE=image/png:https://www.cuc.edu.co/wp-content/uploads/2023/05/sol6467a10271b57-1.png
END:VEVENT
END:VCALENDAR