BEGIN:VCALENDAR
VERSION:2.0
PRODID:-//Universidad de la Costa CUC - ECPv6.15.20//NONSGML v1.0//EN
CALSCALE:GREGORIAN
METHOD:PUBLISH
X-ORIGINAL-URL:https://www.cuc.edu.co
X-WR-CALDESC:Eventos para Universidad de la Costa CUC
REFRESH-INTERVAL;VALUE=DURATION:PT1H
X-Robots-Tag:noindex
X-PUBLISHED-TTL:PT1H
BEGIN:VTIMEZONE
TZID:America/New_York
BEGIN:DAYLIGHT
TZOFFSETFROM:-0500
TZOFFSETTO:-0400
TZNAME:EDT
DTSTART:20220313T070000
END:DAYLIGHT
BEGIN:STANDARD
TZOFFSETFROM:-0400
TZOFFSETTO:-0500
TZNAME:EST
DTSTART:20221106T060000
END:STANDARD
BEGIN:DAYLIGHT
TZOFFSETFROM:-0500
TZOFFSETTO:-0400
TZNAME:EDT
DTSTART:20230312T070000
END:DAYLIGHT
BEGIN:STANDARD
TZOFFSETFROM:-0400
TZOFFSETTO:-0500
TZNAME:EST
DTSTART:20231105T060000
END:STANDARD
BEGIN:DAYLIGHT
TZOFFSETFROM:-0500
TZOFFSETTO:-0400
TZNAME:EDT
DTSTART:20240310T070000
END:DAYLIGHT
BEGIN:STANDARD
TZOFFSETFROM:-0400
TZOFFSETTO:-0500
TZNAME:EST
DTSTART:20241103T060000
END:STANDARD
END:VTIMEZONE
BEGIN:VEVENT
DTSTART;VALUE=DATE:20230516
DTEND;VALUE=DATE:20230520
DTSTAMP:20260425T074426
CREATED:20230516T152702Z
LAST-MODIFIED:20230516T152702Z
UID:16782-1684195200-1684540799@www.cuc.edu.co
SUMMARY:¡Llegan las Mesas de trabajo con Biblioteca!
DESCRIPTION:En esta actividad\, tendremos la oportunidad de seleccionar los mejores materiales para fortalecer nuestras colecciones bibliográficas digitales e impresas. Durante las sesiones\, contaremos con la visita de distintos proveedores para el proceso de solicitudes y revisión de material. \nSi estás interesado en conocer las novedades que traen nuestros proveedores\, acércate a la sala de lectura principal. El último día estará dedicado a recursos electrónicos y literatura. \n \nLas fechas de las sesiones son del 16 hasta el 19 de mayo y tendremos dos modalidades: remota a través de Teams y presencial en la sala de lectura del bloque 2. \nNo pierdas la oportunidad de participar en las Mesas de trabajo con BiblioUnicosta. En las piezas adjuntas encontrarás nuestra programación por día. \n¡Agéndate y participa!
URL:https://www.cuc.edu.co/evento/llegan-las-mesas-de-trabajo-con-biblioteca
CATEGORIES:Eventos Principales
ATTACH;FMTTYPE=image/png:https://www.cuc.edu.co/wp-content/uploads/2023/05/sol645ea36ecfef7.png
END:VEVENT
BEGIN:VEVENT
DTSTART;TZID=America/New_York:20230518T110000
DTEND;TZID=America/New_York:20230522T110000
DTSTAMP:20260425T074426
CREATED:20230316T222420Z
LAST-MODIFIED:20230316T222420Z
UID:16339-1684407600-1684753200@www.cuc.edu.co
SUMMARY:Webinar ‘Relaciones no monogámicas consensuadas’
DESCRIPTION:Te invitamos a participar del webinar ‘Relaciones no monogámicas consensuadas’ este sábado 18 de marzo a partir de las 11:00 a.m. \nNos estará acompañando el conferencista: Bernardo Useche Aldana. Psicólogo\, de la Universidad Nacional de Colombia. PhD. En Sexualidad del IASHS\, San Francisco CA\, Estados Unidos. PhD en Salud Pública – Universidad de Texas en Houston\, Estados Unidos \nEntrada libre. Vía Teams. \nOrganiza: Maestría en Sexualidad y Relaciones Contemporáneas de la CUC \nInformes e inscripciones: WhatsApp: 3112031273. \nCorreo electrónico: cpineda10@cuc.edu.co \nInscríbete AQUÍ
URL:https://www.cuc.edu.co/evento/webinar-relaciones-no-monogamicas-consensuadas
CATEGORIES:Eventos Principales
ATTACH;FMTTYPE=image/jpeg:https://www.cuc.edu.co/wp-content/uploads/2023/03/RELACIONES-NO-MONOGAMICAS-V2_Mesa-de-trabajo-1-1.jpg
END:VEVENT
BEGIN:VEVENT
DTSTART;TZID=America/New_York:20230519T140000
DTEND;TZID=America/New_York:20230519T140000
DTSTAMP:20260425T074426
CREATED:20230516T152507Z
LAST-MODIFIED:20230516T152507Z
UID:16779-1684504800-1684504800@www.cuc.edu.co
SUMMARY:CUC Learning con Pintuco: Soluciones para interiores
DESCRIPTION:Te invitamos a participar en nuestro CUC Learning con Pintuco: Soluciones para interiores\, el próximo viernes 19 de mayo de 2023 a las 2:00 p.m. en la Sala de Conferencias 1\, bloque 11 piso 3. Con la participación de Isaias Arias Gonzalez\, arquitecto y asesor técnico de Pintuco. \n¡NO REQUIERE INSCRIPCIÓN PREVIA!  \nNo te pierdas esta gran oportunidad de ser visible profesionalmente a gran escala. \nEsperamos contar con tu valiosa participación. \nSeguimos conectados\, estamos contigo.
URL:https://www.cuc.edu.co/evento/cuc-learning-con-pintuco-soluciones-para-interiores
CATEGORIES:Eventos Principales
ATTACH;FMTTYPE=image/png:https://www.cuc.edu.co/wp-content/uploads/2023/05/sol645d0debd3df9.png
END:VEVENT
BEGIN:VEVENT
DTSTART;TZID=America/New_York:20230519T183000
DTEND;TZID=America/New_York:20230519T183000
DTSTAMP:20260425T074426
CREATED:20230511T225844Z
LAST-MODIFIED:20230511T225844Z
UID:16760-1684521000-1684521000@www.cuc.edu.co
SUMMARY:Online Workshop: ¿Qué buscan las empresas en los nuevos profesionales?
DESCRIPTION:Las empresas se mantienen en constante actualización en sus prácticas y los perfiles que buscan para sus cargos. Por eso\, te invitamos a participar en nuestro Online Workshop: ¿Qué buscan las empresas en los nuevos profesionales?\, el próximo viernes 19 de mayo a las 6:30 p.m. en modalidad remota\, vía Teams. \nContaremos con la participación de Julenys Ramírez\, psicóloga organizacional\, experta en atracción del talento humano\, selección por competencias\, assessment center y cultura organizacional. Inscríbete ingresando en el siguiente LINK \nNo te pierdas esta gran oportunidad de ser visible profesionalmente a gran escala. \nEsperamos contar con tu valiosa participación. \nSeguimos conectados\, estamos contigo.
URL:https://www.cuc.edu.co/evento/online-workshop-que-buscan-las-empresas-en-los-nuevos-profesionales
CATEGORIES:Eventos Principales
ATTACH;FMTTYPE=image/png:https://www.cuc.edu.co/wp-content/uploads/2023/05/sol645bccc7bf9d4.png
END:VEVENT
END:VCALENDAR