BEGIN:VCALENDAR
VERSION:2.0
PRODID:-//Universidad de la Costa CUC - ECPv6.15.20//NONSGML v1.0//EN
CALSCALE:GREGORIAN
METHOD:PUBLISH
X-ORIGINAL-URL:https://www.cuc.edu.co
X-WR-CALDESC:Eventos para Universidad de la Costa CUC
REFRESH-INTERVAL;VALUE=DURATION:PT1H
X-Robots-Tag:noindex
X-PUBLISHED-TTL:PT1H
BEGIN:VTIMEZONE
TZID:America/New_York
BEGIN:DAYLIGHT
TZOFFSETFROM:-0500
TZOFFSETTO:-0400
TZNAME:EDT
DTSTART:20220313T070000
END:DAYLIGHT
BEGIN:STANDARD
TZOFFSETFROM:-0400
TZOFFSETTO:-0500
TZNAME:EST
DTSTART:20221106T060000
END:STANDARD
BEGIN:DAYLIGHT
TZOFFSETFROM:-0500
TZOFFSETTO:-0400
TZNAME:EDT
DTSTART:20230312T070000
END:DAYLIGHT
BEGIN:STANDARD
TZOFFSETFROM:-0400
TZOFFSETTO:-0500
TZNAME:EST
DTSTART:20231105T060000
END:STANDARD
BEGIN:DAYLIGHT
TZOFFSETFROM:-0500
TZOFFSETTO:-0400
TZNAME:EDT
DTSTART:20240310T070000
END:DAYLIGHT
BEGIN:STANDARD
TZOFFSETFROM:-0400
TZOFFSETTO:-0500
TZNAME:EST
DTSTART:20241103T060000
END:STANDARD
END:VTIMEZONE
BEGIN:VEVENT
DTSTART;VALUE=DATE:20230508
DTEND;VALUE=DATE:20230513
DTSTAMP:20260425T074514
CREATED:20230314T160318Z
LAST-MODIFIED:20230314T160318Z
UID:16282-1683504000-1683935999@www.cuc.edu.co
SUMMARY:Misión Académica Internacional “CALIDAD DE LA EDUCACIÓN\, III Seminario internacional de políticas en Evaluación Educativa.”
DESCRIPTION:El Departamento de Posgrados de la Universidad de la Costa tiene el gusto de invitarlo a la Misión Académica Internacional “CALIDAD DE LA EDUCACIÓN\, III Seminario internacional de políticas en Evaluación Educativa.”\, el cual se llevará a cabo del 8 al 12 de mayo en la Universidad Estatal del Oeste de Santa Catarina Joacaba- Brasil \nOrganiza: \nDoctorado en Educación \nMayores informes: Alicia Inciarte – ainciart1@cuc.edu.co
URL:https://www.cuc.edu.co/evento/mision-academica-internacional-calidad-de-la-educacion-iii-seminario-internacional-de-politicas-en-evaluacion-educativa
CATEGORIES:Eventos Principales
ATTACH;FMTTYPE=image/png:https://www.cuc.edu.co/wp-content/uploads/2023/03/sol6408ab00b366a.png
END:VEVENT
BEGIN:VEVENT
DTSTART;VALUE=DATE:20230508
DTEND;VALUE=DATE:20230513
DTSTAMP:20260425T074514
CREATED:20230316T221905Z
LAST-MODIFIED:20230316T221953Z
UID:16331-1683504000-1683935999@www.cuc.edu.co
SUMMARY:Misión Académica Internacional “Infraestructura en Chile: Gerencia\, Construcción y Diseño en un contexto multiamenaza”
DESCRIPTION:El Departamento de Posgrados de la Universidad de la Costa tiene el gusto de invitarlo a la Misión Académica Internacional “Infraestructura en Chile: Gerencia\, Construcción y Diseño en un contexto multiamenaza”\, el cual se llevará a cabo del 3 al 7 de Julio de 2023\, en la Universidad Valparaiso\, Chile. \nOrganizan: \nEspecialización en Estructuras \nEspecialización en Gerencia de la Construcción de Obras Públicas de Infraestructura \nPrograma de Ingenieria Civil \nMayores informes: dabudine@cuc.edu.co  mdelrio1@cuc.edu.co
URL:https://www.cuc.edu.co/evento/mision-academica-internacional-calidad-de-la-educacion-iii-seminario-internacional-de-politicas-en-evaluacion-educativa-3
CATEGORIES:Eventos Principales
ATTACH;FMTTYPE=image/png:https://www.cuc.edu.co/wp-content/uploads/2023/03/sol6408af6cc9243-2.png
END:VEVENT
BEGIN:VEVENT
DTSTART;TZID=America/New_York:20230509T170000
DTEND;TZID=America/New_York:20230509T170000
DTSTAMP:20260425T074514
CREATED:20230504T202505Z
LAST-MODIFIED:20230504T202505Z
UID:16701-1683651600-1683651600@www.cuc.edu.co
SUMMARY:Pasos para tener un LinkedIn estelar
DESCRIPTION:¿Te gustaría tener un LinkedIn que resalte entre los demás? ¡No te preocupes! Por eso\, te invitamos a participar en nuestro Online Workshop: Pasos para tener un Linkedln estelar\, el próximo martes 9 de mayo a las 5:00 p.m. de forma remota\, vía Teams. \nContaremos con la participación de Rosa Leal\, ingeniera industrial y especialista en gestión humana\, con más de 13 años de trayectoria laboral liderando áreas de recursos humanos y 3 años realizando procesos de consultoría en empleabilidad acompañando a profesionales de diferentes áreas de conocimiento en la ubicación de nuevos retos laborales. \nInscríbete AQUÍ \nNo te pierdas esta gran oportunidad de ser visible profesionalmente a gran escala. \nEsperamos contar con tu valiosa participación. \nSeguimos conectados\, estamos contigo.
URL:https://www.cuc.edu.co/evento/pasos-para-tener-un-linkedin-estelar
CATEGORIES:Eventos Principales
ATTACH;FMTTYPE=image/png:https://www.cuc.edu.co/wp-content/uploads/2023/05/sol6452e8bcab77c-1.png
END:VEVENT
BEGIN:VEVENT
DTSTART;TZID=America/New_York:20230509T170000
DTEND;TZID=America/New_York:20230509T170000
DTSTAMP:20260425T074514
CREATED:20230509T205312Z
LAST-MODIFIED:20230509T205312Z
UID:16712-1683651600-1683651600@www.cuc.edu.co
SUMMARY:Pasos para tener un LinkedIn estelar
DESCRIPTION:Estimado graduado \n¿Te gustaría tener un LinkedIn que resalte entre los demás? ¡No te preocupes! Por eso\, te invitamos a participar en nuestro Online Workshop: Pasos para tener un Linkedln estelar\, el próximo martes 9 de mayo a las 5:00 p.m. de forma remota\, vía Teams. \nContaremos con la participación de Rosa Leal\, ingeniera industrial y especialista en gestión humana\, con más de 13 años de trayectoria laboral liderando áreas de recursos humanos y 3 años realizando procesos de consultoría en empleabilidad acompañando a profesionales de diferentes áreas de conocimiento en la ubicación de nuevos retos laborales. Inscríbete AQUÍ \nNo te pierdas esta gran oportunidad de ser visible profesionalmente a gran escala. \nEsperamos contar con tu valiosa participación. \nSeguimos conectados\, estamos contigo.
URL:https://www.cuc.edu.co/evento/pasos-para-tener-un-linkedin-estelar-2
CATEGORIES:Eventos Principales
ATTACH;FMTTYPE=image/png:https://www.cuc.edu.co/wp-content/uploads/2023/05/sol6452e8bcab77c-1-1.png
END:VEVENT
END:VCALENDAR