BEGIN:VCALENDAR
VERSION:2.0
PRODID:-//Universidad de la Costa CUC - ECPv6.15.20//NONSGML v1.0//EN
CALSCALE:GREGORIAN
METHOD:PUBLISH
X-ORIGINAL-URL:https://www.cuc.edu.co
X-WR-CALDESC:Eventos para Universidad de la Costa CUC
REFRESH-INTERVAL;VALUE=DURATION:PT1H
X-Robots-Tag:noindex
X-PUBLISHED-TTL:PT1H
BEGIN:VTIMEZONE
TZID:America/New_York
BEGIN:DAYLIGHT
TZOFFSETFROM:-0500
TZOFFSETTO:-0400
TZNAME:EDT
DTSTART:20220313T070000
END:DAYLIGHT
BEGIN:STANDARD
TZOFFSETFROM:-0400
TZOFFSETTO:-0500
TZNAME:EST
DTSTART:20221106T060000
END:STANDARD
BEGIN:DAYLIGHT
TZOFFSETFROM:-0500
TZOFFSETTO:-0400
TZNAME:EDT
DTSTART:20230312T070000
END:DAYLIGHT
BEGIN:STANDARD
TZOFFSETFROM:-0400
TZOFFSETTO:-0500
TZNAME:EST
DTSTART:20231105T060000
END:STANDARD
BEGIN:DAYLIGHT
TZOFFSETFROM:-0500
TZOFFSETTO:-0400
TZNAME:EDT
DTSTART:20240310T070000
END:DAYLIGHT
BEGIN:STANDARD
TZOFFSETFROM:-0400
TZOFFSETTO:-0500
TZNAME:EST
DTSTART:20241103T060000
END:STANDARD
END:VTIMEZONE
BEGIN:VEVENT
DTSTART;VALUE=DATE:20230503
DTEND;VALUE=DATE:20230505
DTSTAMP:20260425T074515
CREATED:20230503T135341Z
LAST-MODIFIED:20230503T135341Z
UID:16649-1683072000-1683244799@www.cuc.edu.co
SUMMARY:Feria de laboratorios de psicología 2023-1
DESCRIPTION:Te invitamos a participar de la Feria de laboratorios de psicología 2023-1 que se llevará a cabo este 3 y 4 de mayo de manera presencial remoto vía Teams y Presencial en Plazoleta Principal de la Universidad de la Costa. \nEste evento tiene como objetivo mostrar actividades teórico-prácticas de manera creativa e innovadora realizadas en los laboratorios aplicados o resultados de aprendizajes\, para fortalecer las competencias genéricas y específicas en los estudiantes de psicología. \nLink de inscripción estudiantes AQUÍ \nHorario:  \n8:00am a 12:00m y de 2:00pm a 8:00pm (día 1) \n8:00am a 12:00m y de 2:00pm a 9:00pm (día 2) \nOrganiza: Programa de Psicología \nMayores informes: Ronald Linero Racines rlinero1@cuc.edu.co \nCoordinador de Laboratorios de Psicología
URL:https://www.cuc.edu.co/evento/feria-de-laboratorios-de-psicologia-2023-1
CATEGORIES:Eventos Principales
ATTACH;FMTTYPE=image/png:https://www.cuc.edu.co/wp-content/uploads/2023/05/sol644c43008d1e1.png
END:VEVENT
BEGIN:VEVENT
DTSTART;TZID=America/New_York:20230503T173000
DTEND;TZID=America/New_York:20230503T173000
DTSTAMP:20260425T074515
CREATED:20230427T164744Z
LAST-MODIFIED:20230427T164744Z
UID:16623-1683135000-1683135000@www.cuc.edu.co
SUMMARY:Hojas de vida de alto impacto
DESCRIPTION:Tu hoja de vida es tu carta de presentación ante una empresa y una entrevista laboral. Por eso\, te invitamos a participar en nuestro Online Workshop: Hojas de vida de alto impacto\, el próximo miércoles 3 de mayo a las 5:30 p.m. en modalidad remota\, vía Teams. \nContaremos con la compañía de Lisbeth Gómez\, líder de la Unidad de Desarrollo Profesional del Departamento de Empleabilidad. \nNo te pierdas esta gran oportunidad de ser visible profesionalmente a gran escala. \n  \nEsperamos contar con tu valiosa participación. \nSeguimos conectados\, estamos contigo.
URL:https://www.cuc.edu.co/evento/hojas-de-vida-de-alto-impacto
CATEGORIES:Eventos Principales
ATTACH;FMTTYPE=image/png:https://www.cuc.edu.co/wp-content/uploads/2023/04/sol644831aee554b.png
END:VEVENT
END:VCALENDAR