BEGIN:VCALENDAR
VERSION:2.0
PRODID:-//Universidad de la Costa CUC - ECPv6.15.20//NONSGML v1.0//EN
CALSCALE:GREGORIAN
METHOD:PUBLISH
X-WR-CALNAME:Universidad de la Costa CUC
X-ORIGINAL-URL:https://www.cuc.edu.co
X-WR-CALDESC:Eventos para Universidad de la Costa CUC
REFRESH-INTERVAL;VALUE=DURATION:PT1H
X-Robots-Tag:noindex
X-PUBLISHED-TTL:PT1H
BEGIN:VTIMEZONE
TZID:America/New_York
BEGIN:DAYLIGHT
TZOFFSETFROM:-0500
TZOFFSETTO:-0400
TZNAME:EDT
DTSTART:20220313T070000
END:DAYLIGHT
BEGIN:STANDARD
TZOFFSETFROM:-0400
TZOFFSETTO:-0500
TZNAME:EST
DTSTART:20221106T060000
END:STANDARD
BEGIN:DAYLIGHT
TZOFFSETFROM:-0500
TZOFFSETTO:-0400
TZNAME:EDT
DTSTART:20230312T070000
END:DAYLIGHT
BEGIN:STANDARD
TZOFFSETFROM:-0400
TZOFFSETTO:-0500
TZNAME:EST
DTSTART:20231105T060000
END:STANDARD
BEGIN:DAYLIGHT
TZOFFSETFROM:-0500
TZOFFSETTO:-0400
TZNAME:EDT
DTSTART:20240310T070000
END:DAYLIGHT
BEGIN:STANDARD
TZOFFSETFROM:-0400
TZOFFSETTO:-0500
TZNAME:EST
DTSTART:20241103T060000
END:STANDARD
END:VTIMEZONE
BEGIN:VEVENT
DTSTART;VALUE=DATE:20230423
DTEND;VALUE=DATE:20230429
DTSTAMP:20260425T093442
CREATED:20230228T202217Z
LAST-MODIFIED:20230228T202217Z
UID:16183-1682208000-1682726399@www.cuc.edu.co
SUMMARY:Misión Académica Internacional - Argentina
DESCRIPTION:El Doctorado en Desarrollo Sostenible\, Maestría en Desarrollo Sostenible y la Especialización en Sistemas de Información Geográfica\, así como los programas de Ingeniería y Administración Ambiental de la Universidad de la Costa\, en el marco del fortalecimiento de sus procesos académicos y de internacionalización\, pone al servicio de la comunidad académica y empresarial de la Región Caribe su Misión Académica internacional “Articulación con la Universidad de Mar del Plata en los marcos del GIAL”. \nEsta misión se desarrollará como parte del convenio con la Universidad Nacional de Mar del Plata\, Argentina del 23 al 28 de abril de 2023. \n\nLos estudiantes de posgrados y pregrado que aprueben la misión académica podrán solicitar homologación de una asignatura electiva del plan de estudio de cada programa del cual forme parte.\nLa misión académica no tiene costos de inscripción al Congreso ni a las actividades asociadas para los estudiantes de la CUC.\nCada participante debe asumir gastos de tiquetes y estadía.\nLa misión también será homologable para estudiantes de diplomado en Sistemas de Información Geográfica. En este caso se homologará una asignatura de 3 créditos.\n\nMayores informes \nCelene Milanés Batista: cmilanes1@cuc.edu.co \nCelular: +57 318 855 9330 \nCoordinadora de la Maestría y el Doctorado en Desarrollo Sostenible. \nMaría P. Tejera González: mtejera1@cuc.edu.co \nCoordinador académico – Especialización en Sistemas de Información Geográfica \nKaren Muñoz Salas: kmunoz14@cuc.edu.co \nCoordinadora administrativa Maestría en Desarrollo Sostenible.
URL:https://www.cuc.edu.co/evento/mision-academica-internacional-argentina
CATEGORIES:Eventos Principales
ATTACH;FMTTYPE=image/png:https://www.cuc.edu.co/wp-content/uploads/2023/02/sol63f8d0bb3a659.png
END:VEVENT
BEGIN:VEVENT
DTSTART;VALUE=DATE:20230426
DTEND;VALUE=DATE:20230429
DTSTAMP:20260425T093442
CREATED:20230425T210419Z
LAST-MODIFIED:20230425T210419Z
UID:16590-1682467200-1682726399@www.cuc.edu.co
SUMMARY:IMMERSION WEEK 2023
DESCRIPTION:Invitamos a participar a toda la comunidad académica en esta actividad de formación integral\, liderada por los programas académicos de la facultad de ingeniería\, cuyo objetivo es promover el aprendizaje del inglés como segunda lengua. Las actividades de se realizarán los días 26\, 27 y 28 de abril en modalidad hibrida. \nApril 26Th Webinar: Opportunitiesand advantage of learn English a cargo de: \n\nMario Bayuelo graduado del programa de Ing. Ambiental de la Unicosta\, presentara su experiencia como becado en la Universidad de Manitoba Canadá.\nKaplan International Languages\, quienes ofrecen una oportunidad inmersiva para estudiar el inglés en Estados Unidos\, Canadá\, Autralia\, o Reino Unido\nEnglish School of Canadá\, ofrece curos de inglés intensivos o regulares y cuentan con un convenio vigente con la Universidad.\n\nHora: 09:30 a.m. a 11:30 a.m. \nPlataforma teams. \nApril 27th: Let’s talk about sustainability in schools \nLos estudiantes del grupo Juventud + Verde de los programas de Ing. Ambiental y Adm. Ambiental realizarán una jornada de sensibilización dirigida a niños y adolescentes de primaria y bachillerato de la IED la Luz tratando temas de sustentability con lo que estamos apoyando el bilingüismo en las escuelas y la educación ambiental. \nAbril 28 th\, Movie time: Earthstorm \nSe proyectará el primer episodio de este documental donde se relacionan los efectos devastadores de los tornados con el cambio climático\, al terminar la proyección se hará un foro acerca del documental. \nLugar: Bloque 11 piso 8 \nHora: 2:30 p.m. \nAbril 28 th : English Reading Club \nLiderado por el programa de Ing. Eléctrica \nHora: 05:00 p.m. \nLugar: Biblioteca (Sala de lectura 2 piso) \nMás información comunicarse con Liliana Lozano llozano2@cuc.edu.co \nLink de inscripción AQUÍ
URL:https://www.cuc.edu.co/evento/immersion-week-2023
CATEGORIES:Eventos Principales
ATTACH;FMTTYPE=image/jpeg:https://www.cuc.edu.co/wp-content/uploads/2023/04/sol6441b056d1787.jpg
END:VEVENT
BEGIN:VEVENT
DTSTART;TZID=America/New_York:20230427T140000
DTEND;TZID=America/New_York:20230427T140000
DTSTAMP:20260425T093442
CREATED:20230425T210940Z
LAST-MODIFIED:20230425T210940Z
UID:16597-1682604000-1682604000@www.cuc.edu.co
SUMMARY:Workshop: Evaluación de solicitudes de Aprovechamiento Forestal Único: Consejos y herramientas para la toma de decisiones
DESCRIPTION:Estimado estudiante \nTe invitamos a participar en nuestro Workshop: Evaluación de solicitudes de Aprovechamiento Forestal Único: Consejos y herramientas para la toma de decisiones\, el próximo jueves 27 de abril de 2023 a las 2:00 p.m. en bloque 11\, piso 3 Sala de conferencias 1. \nContaremos con la participación de Isidro Ángel Gaviria: Ingeniero Ambiental\, especialista en Gestión Pública\, candidato a Maestría en Biotecnología y funcionario de la CRA. \nNo te pierdas esta gran oportunidad de ser visible profesionalmente a gran escala. \nEsperamos contar con tu valiosa participación. \nSeguimos conectados\, estamos contigo.
URL:https://www.cuc.edu.co/evento/workshop-evaluacion-de-solicitudes-de-aprovechamiento-forestal-unico-consejos-y-herramientas-para-la-toma-de-decisiones
CATEGORIES:Eventos Principales
ATTACH;FMTTYPE=image/png:https://www.cuc.edu.co/wp-content/uploads/2023/04/sol6442ac69eaf7a.png
END:VEVENT
BEGIN:VEVENT
DTSTART;TZID=America/New_York:20230427T183000
DTEND;TZID=America/New_York:20230427T183000
DTSTAMP:20260425T093442
CREATED:20230418T222455Z
LAST-MODIFIED:20230418T222455Z
UID:16527-1682620200-1682620200@www.cuc.edu.co
SUMMARY:Retos de la logística 4.0
DESCRIPTION:Te invitamos a participar del webinar “Retos de la logística 4.0” que se llevará a cabo el próximo jueves 27 de abril a las 6:30 p.m. a través de la plataforma Teams. \nEste espacio tiene como objetivo dar a conocer los principales retos a los que se enfrentan las empresas aplicando las tecnologías 4\,0 en la gestión logística. \nInscríbete AQUÍ \nOrganiza: \nDpto. de Productividad e Innovación \nPrograma de Ingeniería Industrial \nÁrea de Analítica de Datos \nÁrea Gestión de Operaciones \nEspecialización en Logística Integral \n\nInformes: Aida Huyke Taboada – Coordinador Área Gestión de Operaciones ahuyke@cuc.edu.co
URL:https://www.cuc.edu.co/evento/retos-de-la-logistica-4-0
CATEGORIES:Eventos Principales
ATTACH;FMTTYPE=image/jpeg:https://www.cuc.edu.co/wp-content/uploads/2023/04/sol643962c8ee550.jpeg
END:VEVENT
END:VCALENDAR