BEGIN:VCALENDAR
VERSION:2.0
PRODID:-//Universidad de la Costa CUC - ECPv6.15.20//NONSGML v1.0//EN
CALSCALE:GREGORIAN
METHOD:PUBLISH
X-WR-CALNAME:Universidad de la Costa CUC
X-ORIGINAL-URL:https://www.cuc.edu.co
X-WR-CALDESC:Eventos para Universidad de la Costa CUC
REFRESH-INTERVAL;VALUE=DURATION:PT1H
X-Robots-Tag:noindex
X-PUBLISHED-TTL:PT1H
BEGIN:VTIMEZONE
TZID:America/New_York
BEGIN:DAYLIGHT
TZOFFSETFROM:-0500
TZOFFSETTO:-0400
TZNAME:EDT
DTSTART:20220313T070000
END:DAYLIGHT
BEGIN:STANDARD
TZOFFSETFROM:-0400
TZOFFSETTO:-0500
TZNAME:EST
DTSTART:20221106T060000
END:STANDARD
BEGIN:DAYLIGHT
TZOFFSETFROM:-0500
TZOFFSETTO:-0400
TZNAME:EDT
DTSTART:20230312T070000
END:DAYLIGHT
BEGIN:STANDARD
TZOFFSETFROM:-0400
TZOFFSETTO:-0500
TZNAME:EST
DTSTART:20231105T060000
END:STANDARD
BEGIN:DAYLIGHT
TZOFFSETFROM:-0500
TZOFFSETTO:-0400
TZNAME:EDT
DTSTART:20240310T070000
END:DAYLIGHT
BEGIN:STANDARD
TZOFFSETFROM:-0400
TZOFFSETTO:-0500
TZNAME:EST
DTSTART:20241103T060000
END:STANDARD
END:VTIMEZONE
BEGIN:VEVENT
DTSTART;VALUE=DATE:20230418
DTEND;VALUE=DATE:20230422
DTSTAMP:20260425T093351
CREATED:20230413T204413Z
LAST-MODIFIED:20230413T204413Z
UID:16509-1681776000-1682121599@www.cuc.edu.co
SUMMARY:Semana del derecho público y privado
DESCRIPTION:Comunidad UniCosta  \nTe invitamos a participar en la Semana del Derecho Público y Privado que se llevará a cabo del 18 al 21 de abril con diferentes espacios en los que se abordarán temáticas relacionadas a la tendencias nacionales e internacionales en las respectivas áreas de conocimiento. \nMayor información: agutierr75@cuc.edu.co
URL:https://www.cuc.edu.co/evento/semana-del-derecho-publico-y-privado
CATEGORIES:Eventos Principales
ATTACH;FMTTYPE=image/jpeg:https://www.cuc.edu.co/wp-content/uploads/2023/04/derecho.jpg
END:VEVENT
BEGIN:VEVENT
DTSTART;VALUE=DATE:20230418
DTEND;VALUE=DATE:20230422
DTSTAMP:20260425T093351
CREATED:20230418T222851Z
LAST-MODIFIED:20230418T222851Z
UID:16541-1681776000-1682121599@www.cuc.edu.co
SUMMARY:Semana del derecho público y privado
DESCRIPTION:Comunidad UniCosta  \nTe invitamos a participar en la Semana del Derecho Público y Privado que se llevará a cabo desde este 18 al 21 de abril con diferentes espacios en los que se abordarán temáticas relacionadas a la tendencias nacionales e internacionales en las respectivas áreas de conocimiento. \nMayor información: agutierr75@cuc.edu.co
URL:https://www.cuc.edu.co/evento/semana-del-derecho-publico-y-privado-2
CATEGORIES:Eventos Principales
ATTACH;FMTTYPE=image/jpeg:https://www.cuc.edu.co/wp-content/uploads/2023/04/derecho-1.jpg
END:VEVENT
BEGIN:VEVENT
DTSTART;TZID=America/New_York:20230420T170000
DTEND;TZID=America/New_York:20230420T170000
DTSTAMP:20260425T093351
CREATED:20230413T204021Z
LAST-MODIFIED:20230413T204021Z
UID:16501-1682010000-1682010000@www.cuc.edu.co
SUMMARY:Online Workshop - Cómo superar los filtros de ATS
DESCRIPTION:Estimado graduado \n¿Con dudas sobre los diferentes filtros que aplican las empresas en sus procesos de contratación? ¡No te preocupes! Por eso\, te invitamos a participar en nuestro Online Workshop: Cómo superar los filtros de ATS\, el próximo jueves 20 de abril de 2023 a las 5:00 p.m. de forma remota\, vía Teams. \nContaremos con la participación de Rosa Leal\, ingeniera industrial y especialista en gestión humana\, con más de 13 años de trayectoria laboral liderando áreas de recursos humanos y 3 años realizando procesos de consultoría en empleabilidad acompañando a profesionales de diferentes áreas de conocimiento en la ubicación de nuevos retos laborales. \n¡Inscríbete aquí! \nNo te pierdas esta gran oportunidad de ser visible profesionalmente a gran escala. \nEsperamos contar con tu valiosa participación. \nSeguimos conectados\, estamos contigo.
URL:https://www.cuc.edu.co/evento/online-workshop-como-superar-los-filtros-de-ats
CATEGORIES:Eventos Principales
ATTACH;FMTTYPE=image/png:https://www.cuc.edu.co/wp-content/uploads/2023/04/sol6436c9126a6ba.png
END:VEVENT
END:VCALENDAR