BEGIN:VCALENDAR
VERSION:2.0
PRODID:-//Universidad de la Costa CUC - ECPv6.15.20//NONSGML v1.0//EN
CALSCALE:GREGORIAN
METHOD:PUBLISH
X-WR-CALNAME:Universidad de la Costa CUC
X-ORIGINAL-URL:https://www.cuc.edu.co
X-WR-CALDESC:Eventos para Universidad de la Costa CUC
REFRESH-INTERVAL;VALUE=DURATION:PT1H
X-Robots-Tag:noindex
X-PUBLISHED-TTL:PT1H
BEGIN:VTIMEZONE
TZID:America/New_York
BEGIN:DAYLIGHT
TZOFFSETFROM:-0500
TZOFFSETTO:-0400
TZNAME:EDT
DTSTART:20220313T070000
END:DAYLIGHT
BEGIN:STANDARD
TZOFFSETFROM:-0400
TZOFFSETTO:-0500
TZNAME:EST
DTSTART:20221106T060000
END:STANDARD
BEGIN:DAYLIGHT
TZOFFSETFROM:-0500
TZOFFSETTO:-0400
TZNAME:EDT
DTSTART:20230312T070000
END:DAYLIGHT
BEGIN:STANDARD
TZOFFSETFROM:-0400
TZOFFSETTO:-0500
TZNAME:EST
DTSTART:20231105T060000
END:STANDARD
BEGIN:DAYLIGHT
TZOFFSETFROM:-0500
TZOFFSETTO:-0400
TZNAME:EDT
DTSTART:20240310T070000
END:DAYLIGHT
BEGIN:STANDARD
TZOFFSETFROM:-0400
TZOFFSETTO:-0500
TZNAME:EST
DTSTART:20241103T060000
END:STANDARD
END:VTIMEZONE
BEGIN:VEVENT
DTSTART;TZID=America/New_York:20230417T140000
DTEND;TZID=America/New_York:20230417T140000
DTSTAMP:20260425T094219
CREATED:20230413T203745Z
LAST-MODIFIED:20230413T203745Z
UID:16498-1681740000-1681740000@www.cuc.edu.co
SUMMARY:CUC Learning - Marketing sin teoría
DESCRIPTION:Estimado estudiante \nConocer el mercado es fundamental para muchas carreras. Por eso\, te invitamos a participar en nuestro CUCLearning con Pintuco: Marketing sin Teoría\, el próximo lunes 17 de abril de 2023 a las 2:00 p.m. en la Sala de Conferencias 1\, bloque 11 piso 3. \nContaremos con la participación de Wilfredo Díaz Machado\, Gerente Regional del Distrito Costa de Pintuco. \n¡NO REQUIERE INSCRIPCIÓN PREVIA! \nNo te pierdas esta gran oportunidad de ser visible profesionalmente a gran escala. \nEsperamos contar con tu valiosa participación. \nSeguimos conectados\, estamos contigo.
URL:https://www.cuc.edu.co/evento/cuc-learning-marketing-sin-teoria
CATEGORIES:Eventos Principales
ATTACH;FMTTYPE=image/png:https://www.cuc.edu.co/wp-content/uploads/2023/04/sol6436c512e7eeb.png
END:VEVENT
BEGIN:VEVENT
DTSTART;TZID=America/New_York:20230417T150000
DTEND;TZID=America/New_York:20230417T150000
DTSTAMP:20260425T094219
CREATED:20230413T204652Z
LAST-MODIFIED:20230413T204751Z
UID:16512-1681743600-1681743600@www.cuc.edu.co
SUMMARY:Webinar Internacional - Gobernanza ambiental y servicios ecosistématicos en Colombia
DESCRIPTION:En el marco de los programas de Maestría y Doctorado en Desarrollo Sostenible que se desarrollan en la Universidad de la Costa\, lo invitamos a participar en el webinar «Gobernanza ambiental y servicios ecosistémicos en Colombia»\, liderado por el MSc. Iván Duque. En este evento\, se discutirán temas fundamentales sobre la conservación y uso sostenible de los servicios ecosistémicos en Colombia. A través de la visión y experiencia de un ex-presidente\, conoceremos las políticas\, planes y estrategias en materia de gobernanza ambiental y servicios ecosistémicos en el país de los dos mares. Se analizarán los retos y oportunidades que se presentan en la actualidad en estos temas. \nRegístrate y únete a este importante diálogo académico.
URL:https://www.cuc.edu.co/evento/webinar-internacional-gobernanza-ambiental-y-servicios-ecosistematicos-en-colombia
CATEGORIES:Eventos Principales
ATTACH;FMTTYPE=image/png:https://www.cuc.edu.co/wp-content/uploads/2023/04/duque.png
END:VEVENT
END:VCALENDAR