BEGIN:VCALENDAR
VERSION:2.0
PRODID:-//Universidad de la Costa CUC - ECPv6.15.20//NONSGML v1.0//EN
CALSCALE:GREGORIAN
METHOD:PUBLISH
X-WR-CALNAME:Universidad de la Costa CUC
X-ORIGINAL-URL:https://www.cuc.edu.co
X-WR-CALDESC:Eventos para Universidad de la Costa CUC
REFRESH-INTERVAL;VALUE=DURATION:PT1H
X-Robots-Tag:noindex
X-PUBLISHED-TTL:PT1H
BEGIN:VTIMEZONE
TZID:America/New_York
BEGIN:DAYLIGHT
TZOFFSETFROM:-0500
TZOFFSETTO:-0400
TZNAME:EDT
DTSTART:20220313T070000
END:DAYLIGHT
BEGIN:STANDARD
TZOFFSETFROM:-0400
TZOFFSETTO:-0500
TZNAME:EST
DTSTART:20221106T060000
END:STANDARD
BEGIN:DAYLIGHT
TZOFFSETFROM:-0500
TZOFFSETTO:-0400
TZNAME:EDT
DTSTART:20230312T070000
END:DAYLIGHT
BEGIN:STANDARD
TZOFFSETFROM:-0400
TZOFFSETTO:-0500
TZNAME:EST
DTSTART:20231105T060000
END:STANDARD
BEGIN:DAYLIGHT
TZOFFSETFROM:-0500
TZOFFSETTO:-0400
TZNAME:EDT
DTSTART:20240310T070000
END:DAYLIGHT
BEGIN:STANDARD
TZOFFSETFROM:-0400
TZOFFSETTO:-0500
TZNAME:EST
DTSTART:20241103T060000
END:STANDARD
END:VTIMEZONE
BEGIN:VEVENT
DTSTART;VALUE=DATE:20230224
DTEND;VALUE=DATE:20230325
DTSTAMP:20260425T111940
CREATED:20230216T201434Z
LAST-MODIFIED:20230216T202116Z
UID:16109-1677196800-1679702399@www.cuc.edu.co
SUMMARY:¡Hola Colaborador Unicosta!
DESCRIPTION:¡Hola Colaborador UniCosta! \nDesde la Vicerrectoría de Bienestar Universitario a través de la Coordinación de Salud Integral queremos invitarte a participar en las siguientes actividades\, que se desarrollaran en el mes de febrero.
URL:https://www.cuc.edu.co/evento/hola-colaborador-unicosta
CATEGORIES:Eventos Principales
ATTACH;FMTTYPE=image/png:https://www.cuc.edu.co/wp-content/uploads/2023/02/sol63ec105526463.png
END:VEVENT
BEGIN:VEVENT
DTSTART;VALUE=DATE:20230301
DTEND;VALUE=DATE:20230401
DTSTAMP:20260425T111940
CREATED:20230314T155931Z
LAST-MODIFIED:20230314T160000Z
UID:16275-1677628800-1680307199@www.cuc.edu.co
SUMMARY:¡Agéndate con Salud Unicosta en marzo!
DESCRIPTION:Desde la Vicerrectoría de Bienestar Universitario a través de la Coordinación de Salud Integral queremos invitarte a participar de las siguientes actividades /servicio. Cupos limitados. \nLINK DEL EVENTO
URL:https://www.cuc.edu.co/evento/mision-intervencion-social-y-educativa-3
CATEGORIES:Eventos Principales
ATTACH;FMTTYPE=image/png:https://www.cuc.edu.co/wp-content/uploads/2023/03/sol63ffad0dd0079.png
END:VEVENT
BEGIN:VEVENT
DTSTART;TZID=America/New_York:20230324T140000
DTEND;TZID=America/New_York:20230324T140000
DTSTAMP:20260425T111940
CREATED:20230228T202434Z
LAST-MODIFIED:20230228T202434Z
UID:16186-1679666400-1679666400@www.cuc.edu.co
SUMMARY:III. Seminario Internacional - Retos Globales a la Sostenibilidad
DESCRIPTION:El Departamento de Derecho y Ciencias Políticas de la Universidad de la Costa\, el Doctorado en Desarrollo Sostenible de la Universidad de la Costa y la Universidad do Vale do Taquari UNIVATES\, tiene el gusto de invitar a la comunidad académica al III. SEMINARIO INTERNACIONAL RETOS GLOBALES A LA SOSTENIBILIDAD. Contará con un panel de expertos en justicia climática. \nInvitados: Axel Gosseries Université catholique de Louvain Chaire Hoover déthique économique et sociale Panelista central Mesa redonda interdisciplinar: Prof. Luciana Turatti Univates Prof. Milton Arrieta Universidad de la Costa Prof. Neuro Zambam Atitus Educação Prof. Felipe León Universidad Nacional de Colombia Prof. Sandro Fröhlich Univates Prof. Diego Hernández Universidad de la Costa. \nEl evento se desarrollará el próximo 24 de marzo de 2023 a las 14:00 Hora Colombia mediante la plataforma Teams. Para realizar el registro al evento ingresar al código QR. \nContacto: dhernand47@cuc.edu.co  o nreyes@cuc.edu.co
URL:https://www.cuc.edu.co/evento/iii-seminario-internacional-retos-globales-a-la-sostenibilidad
CATEGORIES:Eventos Principales
ATTACH;FMTTYPE=image/png:https://www.cuc.edu.co/wp-content/uploads/2023/02/sol63f92fcfd38bb.png
END:VEVENT
BEGIN:VEVENT
DTSTART;TZID=America/New_York:20230324T150000
DTEND;TZID=America/New_York:20230401T150000
DTSTAMP:20260425T111940
CREATED:20230323T221857Z
LAST-MODIFIED:20230323T221857Z
UID:16388-1679670000-1680361200@www.cuc.edu.co
SUMMARY:Desarrollo Sostenible: Visiones compartidas entre América y Europa
DESCRIPTION:La Universidad de la Costa tiene el gusto de invitarlo a participar a Evento PREFALC \nDesarrollo Sostenible: Visiones compartidas entre América y Europa el cual se llevará a cabo del 24 de marzo al 1 de abril\, en el Salón de Fundadores Bloque 11 piso 8 de la Universidad de la Costa. \nMayores informes: \nCelene Milanes – cmilanes@cuc.edu.co
URL:https://www.cuc.edu.co/evento/desarrollo-sostenible-visiones-compartidas-entre-america-y-europa
CATEGORIES:Eventos Principales
ATTACH;FMTTYPE=image/png:https://www.cuc.edu.co/wp-content/uploads/2023/03/MicrosoftTeams-image-1-copia.png
END:VEVENT
END:VCALENDAR