BEGIN:VCALENDAR
VERSION:2.0
PRODID:-//Universidad de la Costa CUC - ECPv6.15.20//NONSGML v1.0//EN
CALSCALE:GREGORIAN
METHOD:PUBLISH
X-WR-CALNAME:Universidad de la Costa CUC
X-ORIGINAL-URL:https://www.cuc.edu.co
X-WR-CALDESC:Eventos para Universidad de la Costa CUC
REFRESH-INTERVAL;VALUE=DURATION:PT1H
X-Robots-Tag:noindex
X-PUBLISHED-TTL:PT1H
BEGIN:VTIMEZONE
TZID:America/New_York
BEGIN:DAYLIGHT
TZOFFSETFROM:-0500
TZOFFSETTO:-0400
TZNAME:EDT
DTSTART:20220313T070000
END:DAYLIGHT
BEGIN:STANDARD
TZOFFSETFROM:-0400
TZOFFSETTO:-0500
TZNAME:EST
DTSTART:20221106T060000
END:STANDARD
BEGIN:DAYLIGHT
TZOFFSETFROM:-0500
TZOFFSETTO:-0400
TZNAME:EDT
DTSTART:20230312T070000
END:DAYLIGHT
BEGIN:STANDARD
TZOFFSETFROM:-0400
TZOFFSETTO:-0500
TZNAME:EST
DTSTART:20231105T060000
END:STANDARD
BEGIN:DAYLIGHT
TZOFFSETFROM:-0500
TZOFFSETTO:-0400
TZNAME:EDT
DTSTART:20240310T070000
END:DAYLIGHT
BEGIN:STANDARD
TZOFFSETFROM:-0400
TZOFFSETTO:-0500
TZNAME:EST
DTSTART:20241103T060000
END:STANDARD
END:VTIMEZONE
BEGIN:VEVENT
DTSTART;VALUE=DATE:20230224
DTEND;VALUE=DATE:20230325
DTSTAMP:20260425T111935
CREATED:20230216T201434Z
LAST-MODIFIED:20230216T202116Z
UID:16109-1677196800-1679702399@www.cuc.edu.co
SUMMARY:¡Hola Colaborador Unicosta!
DESCRIPTION:¡Hola Colaborador UniCosta! \nDesde la Vicerrectoría de Bienestar Universitario a través de la Coordinación de Salud Integral queremos invitarte a participar en las siguientes actividades\, que se desarrollaran en el mes de febrero.
URL:https://www.cuc.edu.co/evento/hola-colaborador-unicosta
CATEGORIES:Eventos Principales
ATTACH;FMTTYPE=image/png:https://www.cuc.edu.co/wp-content/uploads/2023/02/sol63ec105526463.png
END:VEVENT
BEGIN:VEVENT
DTSTART;VALUE=DATE:20230301
DTEND;VALUE=DATE:20230401
DTSTAMP:20260425T111935
CREATED:20230314T155931Z
LAST-MODIFIED:20230314T160000Z
UID:16275-1677628800-1680307199@www.cuc.edu.co
SUMMARY:¡Agéndate con Salud Unicosta en marzo!
DESCRIPTION:Desde la Vicerrectoría de Bienestar Universitario a través de la Coordinación de Salud Integral queremos invitarte a participar de las siguientes actividades /servicio. Cupos limitados. \nLINK DEL EVENTO
URL:https://www.cuc.edu.co/evento/mision-intervencion-social-y-educativa-3
CATEGORIES:Eventos Principales
ATTACH;FMTTYPE=image/png:https://www.cuc.edu.co/wp-content/uploads/2023/03/sol63ffad0dd0079.png
END:VEVENT
BEGIN:VEVENT
DTSTART;TZID=America/New_York:20230316T140000
DTEND;TZID=America/New_York:20230316T140000
DTSTAMP:20260425T111935
CREATED:20230307T214205Z
LAST-MODIFIED:20230307T214205Z
UID:16234-1678975200-1678975200@www.cuc.edu.co
SUMMARY:Oportunidades laborales y migratorias que Australia ofrece a Colombianos
DESCRIPTION:ESTIMADO ESTUDIANTE Y GRADUADO \n¿Te encuentras interesado en continuar tus estudios en otro país? ¿Tu propósito profesional es laborar en el extranjero? En esta oportunidad contaremos con la participación especial de STUNET\, actualmente consolidada como la primera agencia educativa que se enfoca en crear una comunidad estudiantil colaborativa que busca capacitar a sus clientes para que crezcan personal\, social\, cultural\, educativa\, profesional y financieramente en diferentes países. En el marco de nuestro CucJobs a tu alcance: Oportunidades Laborales y Migratorias que Australia Brinda a colombianos podrás conocer las distintas oportunidades académicas y laborales que STUNET ofrece para nuestro talento UniCosta. \nParticipa en nuestro CucJobs a tu alcance: \nOportunidades Laborales y Migratorias que Australia Brinda a colombianos \nel próximo 16 de marzo en la Sala de Conferencias #1 (Bloque 11 piso 3) a partir de las 2:00 p.m.
URL:https://www.cuc.edu.co/evento/oportunidades-laborales-y-migratorias-que-australia-ofrece-a-colombianos
CATEGORIES:Eventos Principales
ATTACH;FMTTYPE=image/png:https://www.cuc.edu.co/wp-content/uploads/2023/03/sol63ffcd09dd48d.png
END:VEVENT
BEGIN:VEVENT
DTSTART;TZID=America/New_York:20230316T143000
DTEND;TZID=America/New_York:20230316T143000
DTSTAMP:20260425T111935
CREATED:20230314T160605Z
LAST-MODIFIED:20230314T160605Z
UID:16288-1678977000-1678977000@www.cuc.edu.co
SUMMARY:"La importancia de las nuevas creaciones en el entorno académico e industrial"
DESCRIPTION:La Unidad de Propiedad Intelectual adscrita a la Vicerrectoría de Ciencia\, Tecnología e Innovación\, dentro del marco de la ruta de vinculación del programa CATI (El centro de Apoyo a la Tecnología y a la Innovación)\, tenemos como objetivo fortalecer la cultura de gestión y protección de propiedad industrial y fomentar el conocimiento del sistema de propiedad industrial entre todos los actores del sistema de Ciencia tecnología e Innovación y Productividad de la región. \nEs por esto\, que en alianza con el Centro de Innovación y Productividad – CREATIO y la Unidad de Propiedad Intelectual\, tenemos el gusto de invitarlo a esta capacitación la cual tiene como objetivo fortalecer la cultura de Propiedad Industrial dentro de nuestra la comunidad académica.
URL:https://www.cuc.edu.co/evento/la-importancia-de-las-nuevas-creaciones-en-el-entorno-academico-e-industrial
CATEGORIES:Eventos Principales
ATTACH;FMTTYPE=image/png:https://www.cuc.edu.co/wp-content/uploads/2023/03/sol640a4f7cea1be.png
END:VEVENT
BEGIN:VEVENT
DTSTART;TZID=America/New_York:20230316T160000
DTEND;TZID=America/New_York:20230316T180000
DTSTAMP:20260425T111935
CREATED:20230314T164058Z
LAST-MODIFIED:20230314T164058Z
UID:16313-1678982400-1678989600@www.cuc.edu.co
SUMMARY:Internacional webinar “History and current practices in neuropsychological evaluation”
DESCRIPTION:Internacional webinar “History and current practices in neuropsychological evaluation” \nEl programa de psicología de la Universidad de la Costa\, tiene el gusto de invitarlos al webinar “History and current practices in neuropsychological evaluation”\, el cual se llevará a cabo el día jueves 16 de marzo\, de 4:00 p.m. a 6:00 p.m.\, en la sala de conferencias 2 del bloque 11\, piso 5. Será trasmitido también por Teams para las personas que se encuentren fuera de la ciudad o el país. \nTendremos como conferencista invitado al Ph.D. Jorge Alfredo Herrera-Pino\, Director ejecutivo del Neurobehavioral Institute en Miami y Profesor de Psiquiatría y salud del comportamiento (Psychiatry and Behavioral health) en Florida International University. \nLa participación es gratuita y los interesados pueden inscribirse en el siguiente enlace \nMayor información: \nMaría Jesús Ramírez Ordóñez – mramirez8@cuc.edu.co \nLíder de internacionalización del programa de psicología
URL:https://www.cuc.edu.co/evento/internacional-webinar-history-and-current-practices-in-neuropsychological-evaluation
CATEGORIES:Eventos Principales
ATTACH;FMTTYPE=image/png:https://www.cuc.edu.co/wp-content/uploads/2023/03/sol64090a12289d7.png
END:VEVENT
END:VCALENDAR