BEGIN:VCALENDAR
VERSION:2.0
PRODID:-//Universidad de la Costa CUC - ECPv6.15.20//NONSGML v1.0//EN
CALSCALE:GREGORIAN
METHOD:PUBLISH
X-WR-CALNAME:Universidad de la Costa CUC
X-ORIGINAL-URL:https://www.cuc.edu.co
X-WR-CALDESC:Eventos para Universidad de la Costa CUC
REFRESH-INTERVAL;VALUE=DURATION:PT1H
X-Robots-Tag:noindex
X-PUBLISHED-TTL:PT1H
BEGIN:VTIMEZONE
TZID:America/New_York
BEGIN:DAYLIGHT
TZOFFSETFROM:-0500
TZOFFSETTO:-0400
TZNAME:EDT
DTSTART:20210314T070000
END:DAYLIGHT
BEGIN:STANDARD
TZOFFSETFROM:-0400
TZOFFSETTO:-0500
TZNAME:EST
DTSTART:20211107T060000
END:STANDARD
BEGIN:DAYLIGHT
TZOFFSETFROM:-0500
TZOFFSETTO:-0400
TZNAME:EDT
DTSTART:20220313T070000
END:DAYLIGHT
BEGIN:STANDARD
TZOFFSETFROM:-0400
TZOFFSETTO:-0500
TZNAME:EST
DTSTART:20221106T060000
END:STANDARD
BEGIN:DAYLIGHT
TZOFFSETFROM:-0500
TZOFFSETTO:-0400
TZNAME:EDT
DTSTART:20230312T070000
END:DAYLIGHT
BEGIN:STANDARD
TZOFFSETFROM:-0400
TZOFFSETTO:-0500
TZNAME:EST
DTSTART:20231105T060000
END:STANDARD
END:VTIMEZONE
BEGIN:VEVENT
DTSTART;VALUE=DATE:20221125
DTEND;VALUE=DATE:20221126
DTSTAMP:20260425T172917
CREATED:20221122T155339Z
LAST-MODIFIED:20221122T155339Z
UID:15650-1669334400-1669420799@www.cuc.edu.co
SUMMARY:Convocatoria Grupo Cerrado Sena 2023
DESCRIPTION:Si perteneces a alguno de nuestros programas académicos orientado a las ciencias económicas y empresariales o ingeniería industrial\, podrás participar de la convocatoria Grupo Cerrado SENA del Banco de Occidente. \nA continuación\, te presentamos los requisitos e información general para postularte: \nEstudiantes de 1ro a 5to semestre de programas de ciencias económicas e Ingeniería Industrial. \nInteresados en realizar con el SENA un programa técnico\, patrocinado por el banco desde el inicio de sus estudios. \nPráctica garantizada con el banco. \nLa intensidad horaria de este programa SENA es de lunes a sábado de 8:00 a.m. a 6:00p.m. \nLos interesados nos pueden hacer llegar sus hojas de vida al correo: icabrera@bancodeoccidente.com.co indicando su interés en participar de la convocatoria. \n¡Esperamos contar con tu valiosa participación!
URL:https://www.cuc.edu.co/evento/convocatoria-grupo-cerrado-sena-2023
CATEGORIES:Eventos Principales
ATTACH;FMTTYPE=image/png:https://www.cuc.edu.co/wp-content/uploads/2022/11/sol63781094104d0.png
END:VEVENT
BEGIN:VEVENT
DTSTART;TZID=America/New_York:20221125T090000
DTEND;TZID=America/New_York:20221125T090000
DTSTAMP:20260425T172917
CREATED:20221122T200801Z
LAST-MODIFIED:20221122T200801Z
UID:15675-1669366800-1669366800@www.cuc.edu.co
SUMMARY:Charla de Democracia - Presidente Iván Duque
DESCRIPTION:Estimada comunidad UniCosta  \nTe invitamos a participar en la charla de democracia con el presidente Iván Duque\, que se llevará a cabo este viernes 25 de noviembre en el Coliseo de Competencias de la Universidad de la Costa. \nLa apertura de puertas será a partir de las 8:00 a.m. y se solicitará presentar el carnet institucional para el ingreso. \nPor razones de seguridad estará prohibido el ingreso de bolsos y alimentos. \n¡Te esperamos!
URL:https://www.cuc.edu.co/evento/charla-de-democracia-presidente-ivan-duque
CATEGORIES:Eventos Principales
ATTACH;FMTTYPE=image/jpeg:https://www.cuc.edu.co/wp-content/uploads/2022/11/WhatsApp-Image-2022-11-22-at-10.41.54-AM.jpeg
END:VEVENT
BEGIN:VEVENT
DTSTART;TZID=America/New_York:20221125T143000
DTEND;TZID=America/New_York:20221125T143000
DTSTAMP:20260425T172917
CREATED:20221117T211204Z
LAST-MODIFIED:20221117T211204Z
UID:15598-1669386600-1669386600@www.cuc.edu.co
SUMMARY:ENSEÑAR EN AULAS HETEROGÉNEAS: Un nuevo horizonte formativo en la universidad
DESCRIPTION:Estimado profesor UniCosta  \nTe invitamos a seguir fortaleciendo tu gestión de aula\, asistiendo a la capacitación ENSEÑAR EN AULAS HETEROGÉNEAS: Un nuevo horizonte formativo en la universidad\, que se llevará a cabo el próximo viernes 25 de noviembre a las 2:30 p.m. en la sala de conferencias 2 del bloque 11. \n¡Te esperamos!
URL:https://www.cuc.edu.co/evento/ensenar-en-aulas-heterogeneas-un-nuevo-horizonte-formativo-en-la-universidad
CATEGORIES:Eventos Principales
ATTACH;FMTTYPE=image/jpeg:https://www.cuc.edu.co/wp-content/uploads/2022/11/sol637418c76b70a-1.jpg
END:VEVENT
END:VCALENDAR