BEGIN:VCALENDAR
VERSION:2.0
PRODID:-//Universidad de la Costa CUC - ECPv6.15.20//NONSGML v1.0//EN
CALSCALE:GREGORIAN
METHOD:PUBLISH
X-WR-CALNAME:Universidad de la Costa CUC
X-ORIGINAL-URL:https://www.cuc.edu.co
X-WR-CALDESC:Eventos para Universidad de la Costa CUC
REFRESH-INTERVAL;VALUE=DURATION:PT1H
X-Robots-Tag:noindex
X-PUBLISHED-TTL:PT1H
BEGIN:VTIMEZONE
TZID:America/New_York
BEGIN:DAYLIGHT
TZOFFSETFROM:-0500
TZOFFSETTO:-0400
TZNAME:EDT
DTSTART:20210314T070000
END:DAYLIGHT
BEGIN:STANDARD
TZOFFSETFROM:-0400
TZOFFSETTO:-0500
TZNAME:EST
DTSTART:20211107T060000
END:STANDARD
BEGIN:DAYLIGHT
TZOFFSETFROM:-0500
TZOFFSETTO:-0400
TZNAME:EDT
DTSTART:20220313T070000
END:DAYLIGHT
BEGIN:STANDARD
TZOFFSETFROM:-0400
TZOFFSETTO:-0500
TZNAME:EST
DTSTART:20221106T060000
END:STANDARD
BEGIN:DAYLIGHT
TZOFFSETFROM:-0500
TZOFFSETTO:-0400
TZNAME:EDT
DTSTART:20230312T070000
END:DAYLIGHT
BEGIN:STANDARD
TZOFFSETFROM:-0400
TZOFFSETTO:-0500
TZNAME:EST
DTSTART:20231105T060000
END:STANDARD
END:VTIMEZONE
BEGIN:VEVENT
DTSTART;VALUE=DATE:20221109
DTEND;VALUE=DATE:20221117
DTSTAMP:20260425T172950
CREATED:20221019T212234Z
LAST-MODIFIED:20221019T212234Z
UID:15139-1667952000-1668643199@www.cuc.edu.co
SUMMARY:Misión Académica internacional en “Sostenibilidad en Arquitectura y en Obras Públicas: otra óptica”.
DESCRIPTION:El departamento de Arquitectura y Diseño de la Universidad de la Costa\, de manera estratégica\, con sus programas de Pregrado en Arquitectura\, la Especialización en Gerencia de Proyectos de Obras Públicas y la Maestría en Construcción de Proyectos Sostenibles\, en el marco del fortalecimiento de sus procesos académicos y de internacionalización\, pone al servicio de la comunidad académica de la Región Caribe su Misión Académica internacional en “Sostenibilidad en Arquitectura y en Obras Públicas: otra óptica”. \nEste evento se llevará a cabo en las instalaciones de la sede Santiago de Chile campus recreativo Universidad Andrés Bello\, en la ciudad de Santiago de Chile\, República de Chile\, desde el 9 al 16 de noviembre del 2022. \nInscripciones ingresando al siguiente ENLACE \nConoce detalles en el PDF adjunto. \nMayor información \npdiaz9@cuc.edu.co \nsmountho@cuc.edu.co \nyurueta@cuc.edu.co
URL:https://www.cuc.edu.co/evento/mision-academica-internacional-en-sostenibilidad-en-arquitectura-y-en-obras-publicas-otra-optica
CATEGORIES:Eventos Principales
ATTACH;FMTTYPE=image/jpeg:https://www.cuc.edu.co/wp-content/uploads/2022/10/sol633e007c7b851.jpg
END:VEVENT
BEGIN:VEVENT
DTSTART;VALUE=DATE:20221109
DTEND;VALUE=DATE:20221120
DTSTAMP:20260425T172950
CREATED:20221103T214340Z
LAST-MODIFIED:20221103T214347Z
UID:15427-1667952000-1668902399@www.cuc.edu.co
SUMMARY:Feria de empleabilidad - Unicosta Virtual
DESCRIPTION:Estimado Estudiante \nLos días 9\, 15 y 19 de noviembre del 2022 a partir de las 8:00 a.m. se realizará la Feria de Empleabilidad UniCosta Virtual donde realizaremos nuestro LinkedIn Local: Una forma estratégica para potencializar tu perfil laboral. Será un espacio virtual diseñado para apoyar a graduados y estudiantes de posgrados a potencializar su perfil en la plataforma de búsqueda de empleo más importante de nuestros tiempos. \nEl objetivo principal es potencializar tu perfil laboral por medio del diseño estratégico de tu curriculum en LinkedIn\, además\, ayudarte generar mayor visualización e impacto en los procesos de selección. Contaremos con: \n\nTalleres dictados por Daniel Campos Garzón (Líder de la comunidad de LinkedIn Local Colombia).\nEspacios para interactuar con los reclutadores.\nDemás actividades en las que podrás tener un acercamiento real a tu mercado laboral.\n\nAdemás\, puedes participar de forma de gratuita y registrarte en nuestro portal de empleo CUCJOBS a través de EMMA en el siguiente ENLACE \n  \n¡Te esperamos!
URL:https://www.cuc.edu.co/evento/feria-de-empleabilidad-unicosta-virtual
CATEGORIES:Eventos Principales
ATTACH;FMTTYPE=image/png:https://www.cuc.edu.co/wp-content/uploads/2022/11/emplead.png
END:VEVENT
BEGIN:VEVENT
DTSTART;VALUE=DATE:20221109
DTEND;VALUE=DATE:20221120
DTSTAMP:20260425T172950
CREATED:20221108T223834Z
LAST-MODIFIED:20221108T223834Z
UID:15477-1667952000-1668902399@www.cuc.edu.co
SUMMARY:Feria de Empleabilidad UniCosta Virtual
DESCRIPTION:Estimado Estudiante \nLos días 9\, 15 y 19 de noviembre del 2022 a partir de las 8:00 a.m. se realizará la Feria de Empleabilidad UniCosta Virtual donde realizaremos nuestro LinkedIn Local: Una forma estratégica para potencializar tu perfil laboral. Será un espacio virtual diseñado para apoyar a graduados y estudiantes de posgrados a potencializar su perfil en la plataforma de búsqueda de empleo más importante de nuestros tiempos. \nEl objetivo principal es potencializar tu perfil laboral por medio del diseño estratégico de tu curriculum en LinkedIn\, además\, ayudarte generar mayor visualización e impacto en los procesos de selección. Contaremos con: \n\nTalleres dictados por Daniel Campos Garzón (Líder de la comunidad de LinkedIn Local Colombia).\nEspacios para interactuar con los reclutadores.\nDemás actividades en las que podrás tener un acercamiento real a tu mercado laboral.\n\nAdemás\, puedes participar de forma de gratuita y registrarte en nuestro portal de empleo CUCJOBS a través de EMMA en el siguiente ENLACE \n¡Te esperamos!
URL:https://www.cuc.edu.co/evento/feria-de-empleabilidad-unicosta-virtual-2
CATEGORIES:Eventos Principales
ATTACH;FMTTYPE=image/png:https://www.cuc.edu.co/wp-content/uploads/2022/11/sol6363e3d03c57f.png
END:VEVENT
BEGIN:VEVENT
DTSTART;TZID=America/New_York:20221115T080000
DTEND;TZID=America/New_York:20221115T170000
DTSTAMP:20260425T172950
CREATED:20221110T203317Z
LAST-MODIFIED:20221110T203317Z
UID:15494-1668499200-1668531600@www.cuc.edu.co
SUMMARY:Planes de Gestión de Residuos  Sólidos
DESCRIPTION:El próximo 15 de Noviembre se desarrollará el sexto precongreso Planes de Gestión de Residuos  Sólidos\, enfocado al aprovechamiento\, tratamiento y valorización en el marco de la economía circular\, es organizado por la Red Colombiana de Formación Ambiental\,_ RCFA\, en asocio con el Nodo Caribe de la Red el cual es liderado por los programas de Ingeniería y Administración Ambiental de la Universidad de la Costa y la Corporación Autónoma Regional del Caribe – CRA\, contará con la participación de ponentes nacionales e internacionales en modalidad hibrida. \nEl evento se llevará a cabo en la Sala de conferencias 2 piso 5 bloque 11 UniCosta de 08:00 a.m. a 5:30 p.m. Transmisión vía teams. Es certificable y este tendrá un módico costo para estudiantes $30\,000 y profesionales $70\,000\, no obstante\, la entrada al evento es libre. \nLink de inscripción AQUÍ \nMayor información : precongresopgirsenec@gmail.com
URL:https://www.cuc.edu.co/evento/planes-de-gestion-de-residuos-solidos
CATEGORIES:Eventos Principales
ATTACH;FMTTYPE=image/jpeg:https://www.cuc.edu.co/wp-content/uploads/2022/11/sol636c0018d12f8.jpeg
END:VEVENT
BEGIN:VEVENT
DTSTART;TZID=America/New_York:20221115T130000
DTEND;TZID=America/New_York:20221118T130000
DTSTAMP:20260425T172950
CREATED:20221027T191240Z
LAST-MODIFIED:20221027T191240Z
UID:15256-1668517200-1668776400@www.cuc.edu.co
SUMMARY:Feria de Emprendimiento\, Negocios Internacionales y Comercio Exterior
DESCRIPTION:El departamento de Ciencias Empresariales y el Programa de Negocios Internacionales desarrollará FENIX – Feria de emprendimiento\, Negocios Internacionales y Comercio Exterior\, la cual\, tiene como enfoque incentivar las competencias en emprendimiento e innovación mediante la feria empresarial. \nDurante su desarrollo\, los participantes podrán dar a conocer los diferentes proyectos trabajados en las asignaturas del área de marketing\, logística\, comercio exterior y emprendimiento\, participar con los suyos propios posicionando su marca. Este año se contará con la participación de empresarios como pares evaluadores con el objetivo de retroalimentar a los estudiantes desde una perspectiva empresarial. \nOBJETIVO: Promover una iniciativa académico-empresarial que integre las competencias genéricas y específicas de los negocios internacionales a partir de proyectos de aula aplicados que incentiven a la cultura emprendedora. \nORGANIZA: \n Programa de Negocios Internacionales y Departamento de Ciencias.
URL:https://www.cuc.edu.co/evento/feria-de-emprendimiento-negocios-internacionales-y-comercio-exterior
CATEGORIES:Eventos Principales
ATTACH;FMTTYPE=image/png:https://www.cuc.edu.co/wp-content/uploads/2022/10/FENIX-Feria-de-Emprendimiento-Negocios-Internacionales-y-Comercio-Exterior-Recuperado-04.png
END:VEVENT
BEGIN:VEVENT
DTSTART;TZID=America/New_York:20221115T130000
DTEND;TZID=America/New_York:20221118T130000
DTSTAMP:20260425T172950
CREATED:20221115T191838Z
LAST-MODIFIED:20221115T191838Z
UID:15553-1668517200-1668776400@www.cuc.edu.co
SUMMARY:Feria de Emprendimiento\, Negocios Internacionales y Comercio Exterior
DESCRIPTION:El departamento de Ciencias Empresariales y el Programa de Negocios Internacionales desarrollará FENIX – Feria de emprendimiento\, Negocios Internacionales y Comercio Exterior\, la cual\, tiene como enfoque incentivar las competencias en emprendimiento e innovación mediante la feria empresarial. \nDurante su desarrollo\, los participantes podrán dar a conocer los diferentes proyectos trabajados en las asignaturas del área de marketing\, logística\, comercio exterior y emprendimiento\, participar con los suyos propios posicionando su marca. Este año se contará con la participación de empresarios como pares evaluadores con el objetivo de retroalimentar a los estudiantes desde una perspectiva empresarial. \nOBJETIVO: Promover una iniciativa académico-empresarial que integre las competencias genéricas y específicas de los negocios internacionales a partir de proyectos de aula aplicados que incentiven a la cultura emprendedora. \nORGANIZA \n Programa de Negocios Internacionales y Departamento de Ciencias.
URL:https://www.cuc.edu.co/evento/feria-de-emprendimiento-negocios-internacionales-y-comercio-exterior-2
CATEGORIES:Eventos Principales
ATTACH;FMTTYPE=image/jpeg:https://www.cuc.edu.co/wp-content/uploads/2022/11/fenix.jpg
END:VEVENT
END:VCALENDAR