BEGIN:VCALENDAR
VERSION:2.0
PRODID:-//Universidad de la Costa CUC - ECPv6.15.20//NONSGML v1.0//EN
CALSCALE:GREGORIAN
METHOD:PUBLISH
X-WR-CALNAME:Universidad de la Costa CUC
X-ORIGINAL-URL:https://www.cuc.edu.co
X-WR-CALDESC:Eventos para Universidad de la Costa CUC
REFRESH-INTERVAL;VALUE=DURATION:PT1H
X-Robots-Tag:noindex
X-PUBLISHED-TTL:PT1H
BEGIN:VTIMEZONE
TZID:America/New_York
BEGIN:DAYLIGHT
TZOFFSETFROM:-0500
TZOFFSETTO:-0400
TZNAME:EDT
DTSTART:20210314T070000
END:DAYLIGHT
BEGIN:STANDARD
TZOFFSETFROM:-0400
TZOFFSETTO:-0500
TZNAME:EST
DTSTART:20211107T060000
END:STANDARD
BEGIN:DAYLIGHT
TZOFFSETFROM:-0500
TZOFFSETTO:-0400
TZNAME:EDT
DTSTART:20220313T070000
END:DAYLIGHT
BEGIN:STANDARD
TZOFFSETFROM:-0400
TZOFFSETTO:-0500
TZNAME:EST
DTSTART:20221106T060000
END:STANDARD
BEGIN:DAYLIGHT
TZOFFSETFROM:-0500
TZOFFSETTO:-0400
TZNAME:EDT
DTSTART:20230312T070000
END:DAYLIGHT
BEGIN:STANDARD
TZOFFSETFROM:-0400
TZOFFSETTO:-0500
TZNAME:EST
DTSTART:20231105T060000
END:STANDARD
END:VTIMEZONE
BEGIN:VEVENT
DTSTART;VALUE=DATE:20221003
DTEND;VALUE=DATE:20221030
DTSTAMP:20260425T192119
CREATED:20220927T201956Z
LAST-MODIFIED:20220927T201956Z
UID:14992-1664755200-1667087999@www.cuc.edu.co
SUMMARY:Diplomado en Innovación Cultural
DESCRIPTION:El mes de octubre el Atlántico es más educación. La Organización de Estados Iberoamericanos (OEI) junto a la Secretaría de Cultura y Patrimonio departamental ofrecen el diplomado en Innovación Cultural en el marco de la Ruta de Innovación del Atlántico. \nEl programa ha sido creado para que los gestores\, creadores\, cultores y demás interesados para el crecimiento del sector cultural desde la implementación de estrategias y herramientas innovadoras logrando impactar sus comunidades\, municipios\, departamentos\, el contexto nacional e internacional. \nLa OEI y la Secretaría de Cultura y Patrimonio departamental ofrecen 200 becas para el programa académico que se desarrollará durante todo el mes de octubre. La innovación cultural es la puerta para impactar con nuestras manifestaciones\, patrimonio y creaciones al mundo entero. \nLa Vicerrectoría de Bienestar Institucional UNICOSTA y el Centro de Creación e Innovación – CREATIO\, han venido trabajando en pro de incrementar la visibilidad de las diferentes expresiones artísticas y culturales en la región Caribe\, por lo que serán el epicentro de la innovación cultural en el Atlántico\, en nuestras instalaciones se darán cita más de 250 exponentes y responsables de la Cultura del departamento cuyo fin ser el impacto a través de la innovación en las Industrias creativas y Culturales. \nMayores informes en el siguiente  \nRicardo E. Peña Ruiz \nInnovación Institucional \nrpena14@cuc.edu.co
URL:https://www.cuc.edu.co/evento/diplomado-en-innovacion-cultural
CATEGORIES:Eventos Principales
ATTACH;FMTTYPE=image/jpeg:https://www.cuc.edu.co/wp-content/uploads/2022/09/sol632c9d9163421.jpeg
END:VEVENT
BEGIN:VEVENT
DTSTART;VALUE=DATE:20221028
DTEND;VALUE=DATE:20221030
DTSTAMP:20260425T192119
CREATED:20221025T191648Z
LAST-MODIFIED:20221025T191648Z
UID:15228-1666915200-1667087999@www.cuc.edu.co
SUMMARY:II SIMPOSIO INTERNACIONAL DE GERENCIA E INVESTIGACIÓN EN SALUD - Gestión y Humanización en servicios de Salud
DESCRIPTION:Los departamentos de Ciencias de la Salud de la Universidad de la Costa y la Universidad Galileo (Guatemala) invitan a la comunidad académica a participar del II SIMPOSIO INTERNACIONAL DE GERENCIA E INVESTIGACIÓN EN SALUD a desarrollarse el 28 y 29 de octubre del 2022\, el tema a tratar es GESTIÓN Y HUMANIZACIÓN EN SERVICIOS DE SALUD. Con la participación de ponentes y conferencistas nacionales e internacionales \nPresencial para Universidad de la costa – Coliseo de competencias \nTransmisión vía Teams para el resto de los países \n28 de octubre 2022 Hora Colombia: 6:30 pm – 9:00 pm    Hora Guatemala: 5:30 pm – 8:00 pm \n29 de octubre 2022 Hora Colombia: 7:30 am – 12:00 m     Hora Guatemala: 6:30 am – 11:00 am \n\nLos interesados inscribirse AQUÍ \nOrganiza:  \nPrograma Administración de servicios de salud. \nLicenciatura de servicios de salud (Guatemala) \nEspecialización en gerencia en servicios de salud \nMaestría en gestión de servicios de salud \nÁmbito: Externo \nMayor información: \nymarin3@cuc.edu.co \ntbeltran1@cuc\,.edu.co \nvilmapop@galileo.edu
URL:https://www.cuc.edu.co/evento/ii-simposio-internacional-de-gerencia-e-investigacion-en-salud-gestion-y-humanizacion-en-servicios-de-salud
CATEGORIES:Eventos Principales
ATTACH;FMTTYPE=image/jpeg:https://www.cuc.edu.co/wp-content/uploads/2022/10/sol63569f504d212.jpg
END:VEVENT
BEGIN:VEVENT
DTSTART;TZID=America/New_York:20221029T140000
DTEND;TZID=America/New_York:20221029T140000
DTSTAMP:20260425T192119
CREATED:20221021T203320Z
LAST-MODIFIED:20221021T203320Z
UID:15181-1667052000-1667052000@www.cuc.edu.co
SUMMARY:Webinar “Patrimonio y turismo sostenible: centros históricos\, paisajes y rutas culturales. Ejemplos cruzados Francia\, Europa\, América Latina”
DESCRIPTION:El Departamento de Posgrados de la Universidad de la Costa tiene el gusto de invitarlo al Webinar “Patrimonio y turismo sostenible: centros históricos\, paisajes y rutas culturales. Ejemplos cruzados Francia\, Europa\, América Latina”\, el cual se llevará a cabo el 29 de octubre a partir de las 2:00 p.m. Vía Teams. \nLa participación es gratuita. Link de inscripción AQUI \nOrganiza \nMaestría en Desarrollo Sostenible \nDoctorado en Desarrollo Sostenible \nMayores informes: \ncmilanes1@cuc.edu.co
URL:https://www.cuc.edu.co/evento/webinar-patrimonio-y-turismo-sostenible-centros-historicos-paisajes-y-rutas-culturales-ejemplos-cruzados-francia-europa-america-latina
CATEGORIES:Eventos Principales
ATTACH;FMTTYPE=image/jpeg:https://www.cuc.edu.co/wp-content/uploads/2022/10/sol63501ec255753.jpg
END:VEVENT
END:VCALENDAR