BEGIN:VCALENDAR
VERSION:2.0
PRODID:-//Universidad de la Costa CUC - ECPv6.15.20//NONSGML v1.0//EN
CALSCALE:GREGORIAN
METHOD:PUBLISH
X-ORIGINAL-URL:https://www.cuc.edu.co
X-WR-CALDESC:Eventos para Universidad de la Costa CUC
REFRESH-INTERVAL;VALUE=DURATION:PT1H
X-Robots-Tag:noindex
X-PUBLISHED-TTL:PT1H
BEGIN:VTIMEZONE
TZID:America/New_York
BEGIN:DAYLIGHT
TZOFFSETFROM:-0500
TZOFFSETTO:-0400
TZNAME:EDT
DTSTART:20210314T070000
END:DAYLIGHT
BEGIN:STANDARD
TZOFFSETFROM:-0400
TZOFFSETTO:-0500
TZNAME:EST
DTSTART:20211107T060000
END:STANDARD
BEGIN:DAYLIGHT
TZOFFSETFROM:-0500
TZOFFSETTO:-0400
TZNAME:EDT
DTSTART:20220313T070000
END:DAYLIGHT
BEGIN:STANDARD
TZOFFSETFROM:-0400
TZOFFSETTO:-0500
TZNAME:EST
DTSTART:20221106T060000
END:STANDARD
BEGIN:DAYLIGHT
TZOFFSETFROM:-0500
TZOFFSETTO:-0400
TZNAME:EDT
DTSTART:20230312T070000
END:DAYLIGHT
BEGIN:STANDARD
TZOFFSETFROM:-0400
TZOFFSETTO:-0500
TZNAME:EST
DTSTART:20231105T060000
END:STANDARD
END:VTIMEZONE
BEGIN:VEVENT
DTSTART;VALUE=DATE:20221003
DTEND;VALUE=DATE:20221030
DTSTAMP:20260425T193110
CREATED:20220927T201956Z
LAST-MODIFIED:20220927T201956Z
UID:14992-1664755200-1667087999@www.cuc.edu.co
SUMMARY:Diplomado en Innovación Cultural
DESCRIPTION:El mes de octubre el Atlántico es más educación. La Organización de Estados Iberoamericanos (OEI) junto a la Secretaría de Cultura y Patrimonio departamental ofrecen el diplomado en Innovación Cultural en el marco de la Ruta de Innovación del Atlántico. \nEl programa ha sido creado para que los gestores\, creadores\, cultores y demás interesados para el crecimiento del sector cultural desde la implementación de estrategias y herramientas innovadoras logrando impactar sus comunidades\, municipios\, departamentos\, el contexto nacional e internacional. \nLa OEI y la Secretaría de Cultura y Patrimonio departamental ofrecen 200 becas para el programa académico que se desarrollará durante todo el mes de octubre. La innovación cultural es la puerta para impactar con nuestras manifestaciones\, patrimonio y creaciones al mundo entero. \nLa Vicerrectoría de Bienestar Institucional UNICOSTA y el Centro de Creación e Innovación – CREATIO\, han venido trabajando en pro de incrementar la visibilidad de las diferentes expresiones artísticas y culturales en la región Caribe\, por lo que serán el epicentro de la innovación cultural en el Atlántico\, en nuestras instalaciones se darán cita más de 250 exponentes y responsables de la Cultura del departamento cuyo fin ser el impacto a través de la innovación en las Industrias creativas y Culturales. \nMayores informes en el siguiente  \nRicardo E. Peña Ruiz \nInnovación Institucional \nrpena14@cuc.edu.co
URL:https://www.cuc.edu.co/evento/diplomado-en-innovacion-cultural
CATEGORIES:Eventos Principales
ATTACH;FMTTYPE=image/jpeg:https://www.cuc.edu.co/wp-content/uploads/2022/09/sol632c9d9163421.jpeg
END:VEVENT
BEGIN:VEVENT
DTSTART;VALUE=DATE:20221024
DTEND;VALUE=DATE:20221029
DTSTAMP:20260425T193110
CREATED:20221021T203836Z
LAST-MODIFIED:20221021T203956Z
UID:15190-1666569600-1667001599@www.cuc.edu.co
SUMMARY:Semana de las Ciencias Empresariales
DESCRIPTION:Cada año la Universidad de la Costa desde el Departamento de Ciencias Empresariales realiza la “Semana de las Ciencias Empresariales”\, este año\, en nuestra tercera versión “Una mirada a la innovación y el liderazgo social” tiene como propósito desarrollar competencias de investigación\, comunicación\, liderazgo e interculturalidad mediante la interdisciplinariedad. \nPara nosotros será un placer que los estudiantes y docentes puedan participar en nuestra Semana de las Ciencias Empresariales. \n¡Inscríbete y participa! Inscripción gratuita en el siguiente ENLACE. \nConoce la programación completa en el PDF adjunto.
URL:https://www.cuc.edu.co/evento/semana-de-las-ciencias-empresariales
CATEGORIES:Eventos Principales
ATTACH;FMTTYPE=image/png:https://www.cuc.edu.co/wp-content/uploads/2022/10/sol6352c6eb5e731.png
END:VEVENT
BEGIN:VEVENT
DTSTART;VALUE=DATE:20221024
DTEND;VALUE=DATE:20221029
DTSTAMP:20260425T193110
CREATED:20221025T191040Z
LAST-MODIFIED:20221025T191040Z
UID:15219-1666569600-1667001599@www.cuc.edu.co
SUMMARY:SEMANA DE LAS CIENCIAS EMPRESARIALES
DESCRIPTION:Cada año la Universidad de la Costa desde el Departamento de Ciencias Empresariales realiza la “Semana de las Ciencias Empresariales”\, este 2022 en su tercera versión “Una mirada a la innovación y el liderazgo social” tiene como propósito desarrollar competencias de investigación\, comunicación\, liderazgo e interculturalidad mediante la interdisciplinariedad. \nPara nosotros será un placer que los estudiantes y docentes puedan participar en nuestra Semana de las Ciencias Empresariales. \n¡Inscríbete y participa! \nInscripción gratuita a través de este ENLACE
URL:https://www.cuc.edu.co/evento/semana-de-las-ciencias-empresariales-2
CATEGORIES:Eventos Principales
ATTACH;FMTTYPE=image/png:https://www.cuc.edu.co/wp-content/uploads/2022/10/sol6352c6eb5e731-1.png
END:VEVENT
END:VCALENDAR