BEGIN:VCALENDAR
VERSION:2.0
PRODID:-//Universidad de la Costa CUC - ECPv6.15.20//NONSGML v1.0//EN
CALSCALE:GREGORIAN
METHOD:PUBLISH
X-ORIGINAL-URL:https://www.cuc.edu.co
X-WR-CALDESC:Eventos para Universidad de la Costa CUC
REFRESH-INTERVAL;VALUE=DURATION:PT1H
X-Robots-Tag:noindex
X-PUBLISHED-TTL:PT1H
BEGIN:VTIMEZONE
TZID:America/New_York
BEGIN:DAYLIGHT
TZOFFSETFROM:-0500
TZOFFSETTO:-0400
TZNAME:EDT
DTSTART:20210314T070000
END:DAYLIGHT
BEGIN:STANDARD
TZOFFSETFROM:-0400
TZOFFSETTO:-0500
TZNAME:EST
DTSTART:20211107T060000
END:STANDARD
BEGIN:DAYLIGHT
TZOFFSETFROM:-0500
TZOFFSETTO:-0400
TZNAME:EDT
DTSTART:20220313T070000
END:DAYLIGHT
BEGIN:STANDARD
TZOFFSETFROM:-0400
TZOFFSETTO:-0500
TZNAME:EST
DTSTART:20221106T060000
END:STANDARD
BEGIN:DAYLIGHT
TZOFFSETFROM:-0500
TZOFFSETTO:-0400
TZNAME:EDT
DTSTART:20230312T070000
END:DAYLIGHT
BEGIN:STANDARD
TZOFFSETFROM:-0400
TZOFFSETTO:-0500
TZNAME:EST
DTSTART:20231105T060000
END:STANDARD
END:VTIMEZONE
BEGIN:VEVENT
DTSTART;VALUE=DATE:20221003
DTEND;VALUE=DATE:20221030
DTSTAMP:20260425T192228
CREATED:20220927T201956Z
LAST-MODIFIED:20220927T201956Z
UID:14992-1664755200-1667087999@www.cuc.edu.co
SUMMARY:Diplomado en Innovación Cultural
DESCRIPTION:El mes de octubre el Atlántico es más educación. La Organización de Estados Iberoamericanos (OEI) junto a la Secretaría de Cultura y Patrimonio departamental ofrecen el diplomado en Innovación Cultural en el marco de la Ruta de Innovación del Atlántico. \nEl programa ha sido creado para que los gestores\, creadores\, cultores y demás interesados para el crecimiento del sector cultural desde la implementación de estrategias y herramientas innovadoras logrando impactar sus comunidades\, municipios\, departamentos\, el contexto nacional e internacional. \nLa OEI y la Secretaría de Cultura y Patrimonio departamental ofrecen 200 becas para el programa académico que se desarrollará durante todo el mes de octubre. La innovación cultural es la puerta para impactar con nuestras manifestaciones\, patrimonio y creaciones al mundo entero. \nLa Vicerrectoría de Bienestar Institucional UNICOSTA y el Centro de Creación e Innovación – CREATIO\, han venido trabajando en pro de incrementar la visibilidad de las diferentes expresiones artísticas y culturales en la región Caribe\, por lo que serán el epicentro de la innovación cultural en el Atlántico\, en nuestras instalaciones se darán cita más de 250 exponentes y responsables de la Cultura del departamento cuyo fin ser el impacto a través de la innovación en las Industrias creativas y Culturales. \nMayores informes en el siguiente  \nRicardo E. Peña Ruiz \nInnovación Institucional \nrpena14@cuc.edu.co
URL:https://www.cuc.edu.co/evento/diplomado-en-innovacion-cultural
CATEGORIES:Eventos Principales
ATTACH;FMTTYPE=image/jpeg:https://www.cuc.edu.co/wp-content/uploads/2022/09/sol632c9d9163421.jpeg
END:VEVENT
BEGIN:VEVENT
DTSTART;TZID=America/New_York:20221021T070000
DTEND;TZID=America/New_York:20221021T130000
DTSTAMP:20260425T192228
CREATED:20220913T220436Z
LAST-MODIFIED:20221020T223218Z
UID:14744-1666335600-1666357200@www.cuc.edu.co
SUMMARY:Cierre de inscripciones - CUC Innova
DESCRIPTION:El Departamento de Laboratorios te invita a la 2da Feria en Ciencia\, Tecnología e Innovación CUC-INNOVA 2022\, un espacio para compartir experiencias de las actividades desarrolladas en los laboratorios y donde tendrás la oportunidad de participar exhibiendo proyectos innovadores que den respuesta a los focos temáticos de la Misión Sabios. \nParticipa con tu equipo de trabajo (máximo 4 personas)\, y sé uno de los ganadores de los diferentes concursos. \nSi deseas inscribirte podrás hacerlo hasta este 21 de octubre a través del siguiente formulario. \n\nPara conocer información detallada del evento ingrese AQUÍ.
URL:https://www.cuc.edu.co/evento/cuc-innova-2da-feria-en-cti
CATEGORIES:Eventos Principales
ATTACH;FMTTYPE=image/jpeg:https://www.cuc.edu.co/wp-content/uploads/2022/09/sol634e9c773c259.jpg
END:VEVENT
BEGIN:VEVENT
DTSTART;TZID=America/New_York:20221021T103000
DTEND;TZID=America/New_York:20221021T103000
DTSTAMP:20260425T192228
CREATED:20221004T213347Z
LAST-MODIFIED:20221005T001838Z
UID:15096-1666348200-1666348200@www.cuc.edu.co
SUMMARY:Masterclass de Kangoo Jumps
DESCRIPTION:¡Anímate y disfruta de una Masterclass de Kangoo Jumps! \nNo te quedes sin participar de este espacio el próximo viernes 21 de octubre a partir de las 10:30 a.m. en la cancha múltiple de la Universidad de la Costa. El cupo incluye equipo de kangoo jumps y la asistencia de instructores certificados para el desarrollo de la actividad. \nLas inscripciones estarán habilitadas hasta el martes 18 de octubre. \n¡Inscríbete AQUÍ! \n Dirige: @alvarosototrainer \nMayor información: aromero48@cuc.edu.co \nApoya: @bienestarunicosta 
URL:https://www.cuc.edu.co/evento/masterclass-de-kangoo-jumps
CATEGORIES:Eventos Principales
ATTACH;FMTTYPE=image/jpeg:https://www.cuc.edu.co/wp-content/uploads/2022/10/photo1664898456.jpeg
END:VEVENT
END:VCALENDAR