BEGIN:VCALENDAR
VERSION:2.0
PRODID:-//Universidad de la Costa CUC - ECPv6.15.20//NONSGML v1.0//EN
CALSCALE:GREGORIAN
METHOD:PUBLISH
X-WR-CALNAME:Universidad de la Costa CUC
X-ORIGINAL-URL:https://www.cuc.edu.co
X-WR-CALDESC:Eventos para Universidad de la Costa CUC
REFRESH-INTERVAL;VALUE=DURATION:PT1H
X-Robots-Tag:noindex
X-PUBLISHED-TTL:PT1H
BEGIN:VTIMEZONE
TZID:America/New_York
BEGIN:DAYLIGHT
TZOFFSETFROM:-0500
TZOFFSETTO:-0400
TZNAME:EDT
DTSTART:20210314T070000
END:DAYLIGHT
BEGIN:STANDARD
TZOFFSETFROM:-0400
TZOFFSETTO:-0500
TZNAME:EST
DTSTART:20211107T060000
END:STANDARD
BEGIN:DAYLIGHT
TZOFFSETFROM:-0500
TZOFFSETTO:-0400
TZNAME:EDT
DTSTART:20220313T070000
END:DAYLIGHT
BEGIN:STANDARD
TZOFFSETFROM:-0400
TZOFFSETTO:-0500
TZNAME:EST
DTSTART:20221106T060000
END:STANDARD
BEGIN:DAYLIGHT
TZOFFSETFROM:-0500
TZOFFSETTO:-0400
TZNAME:EDT
DTSTART:20230312T070000
END:DAYLIGHT
BEGIN:STANDARD
TZOFFSETFROM:-0400
TZOFFSETTO:-0500
TZNAME:EST
DTSTART:20231105T060000
END:STANDARD
END:VTIMEZONE
BEGIN:VEVENT
DTSTART;VALUE=DATE:20221003
DTEND;VALUE=DATE:20221030
DTSTAMP:20260425T192818
CREATED:20220927T201956Z
LAST-MODIFIED:20220927T201956Z
UID:14992-1664755200-1667087999@www.cuc.edu.co
SUMMARY:Diplomado en Innovación Cultural
DESCRIPTION:El mes de octubre el Atlántico es más educación. La Organización de Estados Iberoamericanos (OEI) junto a la Secretaría de Cultura y Patrimonio departamental ofrecen el diplomado en Innovación Cultural en el marco de la Ruta de Innovación del Atlántico. \nEl programa ha sido creado para que los gestores\, creadores\, cultores y demás interesados para el crecimiento del sector cultural desde la implementación de estrategias y herramientas innovadoras logrando impactar sus comunidades\, municipios\, departamentos\, el contexto nacional e internacional. \nLa OEI y la Secretaría de Cultura y Patrimonio departamental ofrecen 200 becas para el programa académico que se desarrollará durante todo el mes de octubre. La innovación cultural es la puerta para impactar con nuestras manifestaciones\, patrimonio y creaciones al mundo entero. \nLa Vicerrectoría de Bienestar Institucional UNICOSTA y el Centro de Creación e Innovación – CREATIO\, han venido trabajando en pro de incrementar la visibilidad de las diferentes expresiones artísticas y culturales en la región Caribe\, por lo que serán el epicentro de la innovación cultural en el Atlántico\, en nuestras instalaciones se darán cita más de 250 exponentes y responsables de la Cultura del departamento cuyo fin ser el impacto a través de la innovación en las Industrias creativas y Culturales. \nMayores informes en el siguiente  \nRicardo E. Peña Ruiz \nInnovación Institucional \nrpena14@cuc.edu.co
URL:https://www.cuc.edu.co/evento/diplomado-en-innovacion-cultural
CATEGORIES:Eventos Principales
ATTACH;FMTTYPE=image/jpeg:https://www.cuc.edu.co/wp-content/uploads/2022/09/sol632c9d9163421.jpeg
END:VEVENT
BEGIN:VEVENT
DTSTART;TZID=America/New_York:20221007T083000
DTEND;TZID=America/New_York:20221007T183000
DTSTAMP:20260425T192818
CREATED:20221004T212000Z
LAST-MODIFIED:20221004T212000Z
UID:15069-1665131400-1665167400@www.cuc.edu.co
SUMMARY:II Encuentro de Derecho Laboral y de la Seguridad Social
DESCRIPTION:La Universidad de la Costa te invita a participar en el II Encuentro de Derecho Laboral y de la Seguridad Social\, que se llevará a cabo el próximo viernes 7 de octubre de 8:30 a.m. a 6:00 p.m. en la sala de conferencia 2 en el bloque 11. \n¡Te esperamos! \nOrganiza \nDepartamento de Derecho y Ciencias Políticas
URL:https://www.cuc.edu.co/evento/ii-encuentro-de-derecho-laboral-y-de-la-seguridad-social-2
CATEGORIES:Eventos Principales
ATTACH;FMTTYPE=image/jpeg:https://www.cuc.edu.co/wp-content/uploads/2022/10/WhatsApp-Image-2022-09-30-at-4.21.58-PM.jpeg
END:VEVENT
BEGIN:VEVENT
DTSTART;TZID=America/New_York:20221007T090000
DTEND;TZID=America/New_York:20221007T090000
DTSTAMP:20260425T192818
CREATED:20221004T213159Z
LAST-MODIFIED:20221005T003356Z
UID:15093-1665133200-1665133200@www.cuc.edu.co
SUMMARY:Workshop “Tecnología LIDAR\, Adquisición y procesamiento de plataformas aéreas y terrestres”
DESCRIPTION:Estimada comunidad UniCosta \nExtendemos la invitación a participar en el Workshop “Tecnología LIDAR\, Adquisición y procesamiento de plataformas aéreas y terrestres”\, que se estará llevando a cabo este 7 de octubre a partir de las 9:00 a.m. en el Coliseo de Competencias. \nConozca el cronograma del evento en el PDF adjunto. \n¡Te esperamos!
URL:https://www.cuc.edu.co/evento/workshop-tecnologia-lidar-adquisicion-y-procesamiento-de-plataformas-aereas-y-terrestres
CATEGORIES:Eventos Principales
ATTACH;FMTTYPE=image/png:https://www.cuc.edu.co/wp-content/uploads/2022/10/MicrosoftTeams-image.png
END:VEVENT
BEGIN:VEVENT
DTSTART;TZID=America/New_York:20221007T153000
DTEND;TZID=America/New_York:20221007T153000
DTSTAMP:20260425T192818
CREATED:20220930T151807Z
LAST-MODIFIED:20220930T151807Z
UID:15028-1665156600-1665156600@www.cuc.edu.co
SUMMARY:CUCJOBS a tu alcance
DESCRIPTION:ESTIMADO ESTUDIANTE  \nLinkedIn se ha convertido con el paso de los años en la red profesional número uno en el mundo. Su objetivo principal es conectar empresas\, buscadores de empleo y emprendedores. En ella puedes construir tu red de contactos de cara a darle una mayor visibilidad a tu ejercicio laboral\, por lo tanto\, en el marco de nuestro CucJobs a tu Alcance titulado: “LinkedIn: una forma estratégica para acceder al mercado laboral”\, podrás conocer la mejor forma para potencializar tu perfil de cara al cumplimiento de tus metas profesionales. \nParticipa en este espacio el próximo 7 de octubre a partir de las 3:30 p.m. a través de Teams. En este espacio virtual contaremos con la participación de Andrés Felipe Gutiérrez Ramírez\, profesional especializado en el área de Reclutamiento y Selección de Personal de la reconocida empresa del sector portuario COREMAR. \nInscríbete ingresando al siguiente LINK.
URL:https://www.cuc.edu.co/evento/cucjobs-a-tu-alcance
CATEGORIES:Eventos Principales
ATTACH;FMTTYPE=image/png:https://www.cuc.edu.co/wp-content/uploads/2022/09/sol6333556128680.png
END:VEVENT
END:VCALENDAR