BEGIN:VCALENDAR
VERSION:2.0
PRODID:-//Universidad de la Costa CUC - ECPv6.15.20//NONSGML v1.0//EN
CALSCALE:GREGORIAN
METHOD:PUBLISH
X-WR-CALNAME:Universidad de la Costa CUC
X-ORIGINAL-URL:https://www.cuc.edu.co
X-WR-CALDESC:Eventos para Universidad de la Costa CUC
REFRESH-INTERVAL;VALUE=DURATION:PT1H
X-Robots-Tag:noindex
X-PUBLISHED-TTL:PT1H
BEGIN:VTIMEZONE
TZID:America/New_York
BEGIN:DAYLIGHT
TZOFFSETFROM:-0500
TZOFFSETTO:-0400
TZNAME:EDT
DTSTART:20210314T070000
END:DAYLIGHT
BEGIN:STANDARD
TZOFFSETFROM:-0400
TZOFFSETTO:-0500
TZNAME:EST
DTSTART:20211107T060000
END:STANDARD
BEGIN:DAYLIGHT
TZOFFSETFROM:-0500
TZOFFSETTO:-0400
TZNAME:EDT
DTSTART:20220313T070000
END:DAYLIGHT
BEGIN:STANDARD
TZOFFSETFROM:-0400
TZOFFSETTO:-0500
TZNAME:EST
DTSTART:20221106T060000
END:STANDARD
BEGIN:DAYLIGHT
TZOFFSETFROM:-0500
TZOFFSETTO:-0400
TZNAME:EDT
DTSTART:20230312T070000
END:DAYLIGHT
BEGIN:STANDARD
TZOFFSETFROM:-0400
TZOFFSETTO:-0500
TZNAME:EST
DTSTART:20231105T060000
END:STANDARD
END:VTIMEZONE
BEGIN:VEVENT
DTSTART;TZID=America/New_York:20220923T080000
DTEND;TZID=America/New_York:20220924T080000
DTSTAMP:20260425T210318
CREATED:20220816T211455Z
LAST-MODIFIED:20220817T195151Z
UID:14285-1663920000-1664006400@www.cuc.edu.co
SUMMARY:PhD Days: Para estudiantes de doctorado en estudios y dinámicas en Innovación
DESCRIPTION:Desde el programa de Doctorado en Innovación\, se invita al PhD Days\, evento que tendrá lugar los días 23 y 24 de septiembre del 2022 en la Universidad de la Costa CUC\, y el cual tiene como objetivo principal la creación de una red de estudiantes de doctorado que permita el intercambio de conocimientos y prácticas. Los participantes podrán beneficiarse de recibir comentarios y preguntas de investigadores experimentados sobre sus tesis doctorales y trabajos en curso\, así como de evaluadores expertos en la temática. Se adjunta documento de presentación del evento. \n  \nPhD Days: Para estudiantes de doctorado en estudios y dinámicas en Innovación \nCall for Abstracts \nNos complace anunciar el evento PhD Days para estudiantes de doctorados en estudios y dinámicas en Innovación\, que tendrá lugar los días 23 y 24 de septiembre del 2022 en la Universidad de la Costa. El Evento se llevará a cabo de forma híbrida para que los investigadores interesados en asistir que no se encuentren en la ciudad de Barranquilla puedan participar de forma remota. \nEl objetivo principal del PhD Days es crear una red de estudiantes de doctorado que permita el intercambio de conocimientos y prácticas. Los participantes podrán beneficiarse de recibir comentarios y preguntas de investigadores experimentados sobre sus tesis doctorales y trabajos en curso\, así como de evaluadores expertos en la temática. Además\, se entregará premio a la mejor propuesta de Doctorado expuesta en los dos días de evento. \nEl alcance del evento incluye\, pero no se limita a los temas relacionados en estudios y dinámicas en Innovación\, basado en los siguientes ejes: \nEje 1: Innovación para la competitividad de los territorios \nEsta temática aborda el análisis de la innovación como elemento de desarrollo territorial\, destacándose el análisis de los factores que conllevan al fortalecimiento de ecosistemas de innovación y el diseño de políticas públicas que fomenten los procesos de producción\, difusión y explotación de conocimiento por parte de los diferentes actores sociales. \n\nPolíticas de ciencia tecnología e innovación\nInnovación y accesibilidad a los mercados\nSistemas nacionales\, regionales y sectoriales de ciencia\, tecnología e innovación\nAspectos legales y éticos sobre la innovación\nRedes y enlaces entre los agentes de los sistemas de Innovación\nRelaciones de Industria\nEcoinnovación\n\n  \nEje 2: Innovación en las organizaciones \nEsta temática aborda la gestión y desarrollo de la innovación en las organizaciones\, analizando los elementos estratégicos y operativos asociados con estos procesos. Se estudian los procesos organizacionales\, las prácticas de gestión y las decisiones que sustentan y facilitan la innovación\, así como las capacidades empresariales para el desarrollo y adopción de tecnologías que fomenten la mejora en el desempeño empresarial. \n\nInnovación y estrategia empresarial\nPrácticas de gestión\, incluyen aspectos como la interrelación entre actores internos y externos de las organizaciones y las decisiones que facilitan la innovación\nInnovación y performance empresarial\nInnovación en las funciones del negocio (logística\, producción\, marketing\, Talento humano\, entre otros)\nCultura\, rutinas y capacidades de generación de investigación y desarrollo\nCapacidades de diseño y adopción de tecnologías\n\n¡Te invitamos a participar en el PhD Days y a animar a los estudiantes de doctorado para enviar sus contribuciones antes del 2 de septiembre del 2022! \nInformación importante \nFechas del Evento PhD Days: 23 y 24 de septiembre del 2022 \nFecha límite de inscripción: 2 de septiembre del 2022 \nFecha límite de envío de extended abstracts: 2 de Septiembre del 2022 \nNotificación de aceptación: Del 12 al 16 de septiembre del 2022 \nInscripción AQUÍ \nPrecio: Inscripción gratuita \n  \nComité Organizador \nLiney Manjarrez\, Nohora Mercado\, Katherinne Salas y Thalia Obredor.
URL:https://www.cuc.edu.co/evento/phd-days-para-estudiantes-de-doctorado-en-estudios-y-dinamicas-en-innovacion
CATEGORIES:Eventos Principales
ATTACH;FMTTYPE=image/png:https://www.cuc.edu.co/wp-content/uploads/2022/08/1.png
END:VEVENT
BEGIN:VEVENT
DTSTART;TZID=America/New_York:20220924T110000
DTEND;TZID=America/New_York:20220924T110000
DTSTAMP:20260425T210318
CREATED:20220915T215916Z
LAST-MODIFIED:20220915T215916Z
UID:14766-1664017200-1664017200@www.cuc.edu.co
SUMMARY:Webinar Internacional “Homosexualidad y Derechos Humanos”
DESCRIPTION:El Departamento de Posgrados de la Universidad de la Costa tiene el gusto de invitarlo al Webinar Internacional “Homosexualidad y Derechos Humanos”\, el cual se llevará a cabo el 24 de Septiembre a partir de las 11:00 a.m.\, a través de la plataforma Zoom. \nLa participación es gratuita y los interesados pueden inscribirse ingresando al siguiente LINK. \nOrganizan: \nDoctorado en Neurociencia Cognitiva Aplicada \nMayores informes: cpineda10@cuc.edu.co
URL:https://www.cuc.edu.co/evento/webinar-internacional-homosexualidad-y-derechos-humanos
CATEGORIES:Eventos Principales
ATTACH;FMTTYPE=image/png:https://www.cuc.edu.co/wp-content/uploads/2022/09/sol6321f0b98d787.png
END:VEVENT
BEGIN:VEVENT
DTSTART;TZID=America/New_York:20220924T110000
DTEND;TZID=America/New_York:20220924T110000
DTSTAMP:20260425T210318
CREATED:20220922T213604Z
LAST-MODIFIED:20220922T213604Z
UID:14867-1664017200-1664017200@www.cuc.edu.co
SUMMARY:Webinar: Derechos Humanos y Orientación Sexual
DESCRIPTION:El Departamento de Posgrados de la Universidad de la Costa tiene el gusto de invitarlo al Webinar Internacional “Homosexualidad y Derechos Humanos”\, el cual se llevará a cabo el 24 de septiembre a partir de las 11:00 a.m.\, a través de la plataforma Zoom. \nLa participación es gratuita y los interesados pueden inscribirse en el siguiente ENLACE. \nOrganizan: \nDoctorado en Neurociencia Cognitiva Aplicada \nMayores informes: cpineda10@cuc.edu.co
URL:https://www.cuc.edu.co/evento/webinar-derechos-humanos-y-orientacion-sexual
CATEGORIES:Eventos Principales
ATTACH;FMTTYPE=image/png:https://www.cuc.edu.co/wp-content/uploads/2022/09/sol632337b379e6a.png
END:VEVENT
END:VCALENDAR