BEGIN:VCALENDAR
VERSION:2.0
PRODID:-//Universidad de la Costa CUC - ECPv6.15.20//NONSGML v1.0//EN
CALSCALE:GREGORIAN
METHOD:PUBLISH
X-WR-CALNAME:Universidad de la Costa CUC
X-ORIGINAL-URL:https://www.cuc.edu.co
X-WR-CALDESC:Eventos para Universidad de la Costa CUC
REFRESH-INTERVAL;VALUE=DURATION:PT1H
X-Robots-Tag:noindex
X-PUBLISHED-TTL:PT1H
BEGIN:VTIMEZONE
TZID:America/New_York
BEGIN:DAYLIGHT
TZOFFSETFROM:-0500
TZOFFSETTO:-0400
TZNAME:EDT
DTSTART:20210314T070000
END:DAYLIGHT
BEGIN:STANDARD
TZOFFSETFROM:-0400
TZOFFSETTO:-0500
TZNAME:EST
DTSTART:20211107T060000
END:STANDARD
BEGIN:DAYLIGHT
TZOFFSETFROM:-0500
TZOFFSETTO:-0400
TZNAME:EDT
DTSTART:20220313T070000
END:DAYLIGHT
BEGIN:STANDARD
TZOFFSETFROM:-0400
TZOFFSETTO:-0500
TZNAME:EST
DTSTART:20221106T060000
END:STANDARD
BEGIN:DAYLIGHT
TZOFFSETFROM:-0500
TZOFFSETTO:-0400
TZNAME:EDT
DTSTART:20230312T070000
END:DAYLIGHT
BEGIN:STANDARD
TZOFFSETFROM:-0400
TZOFFSETTO:-0500
TZNAME:EST
DTSTART:20231105T060000
END:STANDARD
END:VTIMEZONE
BEGIN:VEVENT
DTSTART;TZID=America/New_York:20220920T150000
DTEND;TZID=America/New_York:20220920T150000
DTSTAMP:20260425T205735
CREATED:20220908T211332Z
LAST-MODIFIED:20220908T211332Z
UID:14528-1663686000-1663686000@www.cuc.edu.co
SUMMARY:CUC Learning “Acabados exteriores en obra nueva”
DESCRIPTION:Estimado Estudiante \nSi asististe al 1er taller con Pintuco sabes que fue una gran oportunidad para aprender muchísimo más sobre técnicas que te ayudarán en tu vida profesional y personal\, por lo que te invitamos al segundo taller de CUC Learning “Acabados exteriores en obra nueva” el próximo martes 20 de septiembre desde las 3:00pm a en la Sala de Conferencia 1\, bloque 11 piso 3. \nSi no estuviste en el 1er taller te estaremos esperando en este\, no te arrepentirás. \nContaremos con la compañía del equipo de Pintuco. \nNo te pierdas esta gran oportunidad de ser visible profesionalmente a gran escala. \nEsperamos contar con tu valiosa participación. \nSeguimos conectados\, estamos contigo.
URL:https://www.cuc.edu.co/evento/cuc-learning-acabados-exteriores-en-obra-nueva
CATEGORIES:Eventos Principales
ATTACH;FMTTYPE=image/png:https://www.cuc.edu.co/wp-content/uploads/2022/09/sol6317aa14e0853.png
END:VEVENT
END:VCALENDAR