BEGIN:VCALENDAR
VERSION:2.0
PRODID:-//Universidad de la Costa CUC - ECPv6.15.20//NONSGML v1.0//EN
CALSCALE:GREGORIAN
METHOD:PUBLISH
X-ORIGINAL-URL:https://www.cuc.edu.co
X-WR-CALDESC:Eventos para Universidad de la Costa CUC
REFRESH-INTERVAL;VALUE=DURATION:PT1H
X-Robots-Tag:noindex
X-PUBLISHED-TTL:PT1H
BEGIN:VTIMEZONE
TZID:America/New_York
BEGIN:DAYLIGHT
TZOFFSETFROM:-0500
TZOFFSETTO:-0400
TZNAME:EDT
DTSTART:20210314T070000
END:DAYLIGHT
BEGIN:STANDARD
TZOFFSETFROM:-0400
TZOFFSETTO:-0500
TZNAME:EST
DTSTART:20211107T060000
END:STANDARD
BEGIN:DAYLIGHT
TZOFFSETFROM:-0500
TZOFFSETTO:-0400
TZNAME:EDT
DTSTART:20220313T070000
END:DAYLIGHT
BEGIN:STANDARD
TZOFFSETFROM:-0400
TZOFFSETTO:-0500
TZNAME:EST
DTSTART:20221106T060000
END:STANDARD
BEGIN:DAYLIGHT
TZOFFSETFROM:-0500
TZOFFSETTO:-0400
TZNAME:EDT
DTSTART:20230312T070000
END:DAYLIGHT
BEGIN:STANDARD
TZOFFSETFROM:-0400
TZOFFSETTO:-0500
TZNAME:EST
DTSTART:20231105T060000
END:STANDARD
END:VTIMEZONE
BEGIN:VEVENT
DTSTART;TZID=America/New_York:20220917T083000
DTEND;TZID=America/New_York:20220917T083000
DTSTAMP:20260425T210404
CREATED:20220915T215723Z
LAST-MODIFIED:20220915T215723Z
UID:14763-1663403400-1663403400@www.cuc.edu.co
SUMMARY:Webinar del Master Class “El camino hacia el carbono: Neutralidad de las organizaciones en Colombia”
DESCRIPTION:El Departamento de Posgrados de la Universidad de la Costa tiene el gusto de invitarlo al 4to Webinar del Master Class “El camino hacia el carbono: Neutralidad de las organizaciones en Colombia”\, el cual se llevará a cabo el 17 de Septiembre a partir de las 8:30 a.m.\, a través de Teams. \nLa participación es gratuita y los interesados pueden inscribirse en el siguiente ENLACE \nOrganizan: \nEspecialización en Gestion Territorial Sostenible. \nMaestría en Gestion Integral de Recursos hídricos. \nPrograma de Derecho \nPrograma de Administración Ambiental e Ingeniería Ambiental. \nMayores informes: dgoethe1@cuc.edu.co
URL:https://www.cuc.edu.co/evento/webinar-del-master-class-el-camino-hacia-el-carbono-neutralidad-de-las-organizaciones-en-colombia
CATEGORIES:Eventos Principales
ATTACH;FMTTYPE=image/png:https://www.cuc.edu.co/wp-content/uploads/2022/09/sol6320e93eded98.png
END:VEVENT
END:VCALENDAR