BEGIN:VCALENDAR
VERSION:2.0
PRODID:-//Universidad de la Costa CUC - ECPv6.15.20//NONSGML v1.0//EN
CALSCALE:GREGORIAN
METHOD:PUBLISH
X-WR-CALNAME:Universidad de la Costa CUC
X-ORIGINAL-URL:https://www.cuc.edu.co
X-WR-CALDESC:Eventos para Universidad de la Costa CUC
REFRESH-INTERVAL;VALUE=DURATION:PT1H
X-Robots-Tag:noindex
X-PUBLISHED-TTL:PT1H
BEGIN:VTIMEZONE
TZID:America/New_York
BEGIN:DAYLIGHT
TZOFFSETFROM:-0500
TZOFFSETTO:-0400
TZNAME:EDT
DTSTART:20210314T070000
END:DAYLIGHT
BEGIN:STANDARD
TZOFFSETFROM:-0400
TZOFFSETTO:-0500
TZNAME:EST
DTSTART:20211107T060000
END:STANDARD
BEGIN:DAYLIGHT
TZOFFSETFROM:-0500
TZOFFSETTO:-0400
TZNAME:EDT
DTSTART:20220313T070000
END:DAYLIGHT
BEGIN:STANDARD
TZOFFSETFROM:-0400
TZOFFSETTO:-0500
TZNAME:EST
DTSTART:20221106T060000
END:STANDARD
BEGIN:DAYLIGHT
TZOFFSETFROM:-0500
TZOFFSETTO:-0400
TZNAME:EDT
DTSTART:20230312T070000
END:DAYLIGHT
BEGIN:STANDARD
TZOFFSETFROM:-0400
TZOFFSETTO:-0500
TZNAME:EST
DTSTART:20231105T060000
END:STANDARD
END:VTIMEZONE
BEGIN:VEVENT
DTSTART;TZID=America/New_York:20220914T150000
DTEND;TZID=America/New_York:20220914T150000
DTSTAMP:20260425T210319
CREATED:20220906T212114Z
LAST-MODIFIED:20220906T212114Z
UID:14499-1663167600-1663167600@www.cuc.edu.co
SUMMARY:Design Talks Globant 2.0 ‘Diseñando un MVP con Figma y Material Design’
DESCRIPTION:Estimada comunidad UniCosta \nTe invitamos a participar en el Design Talks Globant 2.0 ‘Diseñando un MVP con Figma y Material Design’ el próximo miércoles 14 de septiembre desde las 3:00 p.m. a través de Zoom. \nContaremos con el acompañamiento de David Obando y María del Mar Martínez\, equipo de Globant. \n \nNo te pierdas esta gran oportunidad de ser visible profesionalmente a gran escala. \nEsperamos contar con tu valiosa participación. \nSeguimos conectados\, estamos contigo.
URL:https://www.cuc.edu.co/evento/design-talks-globant-2-0-disenando-un-mvp-con-figma-y-material-design
CATEGORIES:Eventos Principales
ATTACH;FMTTYPE=image/png:https://www.cuc.edu.co/wp-content/uploads/2022/09/sol6310ec3081e38.png
END:VEVENT
END:VCALENDAR