BEGIN:VCALENDAR
VERSION:2.0
PRODID:-//Universidad de la Costa CUC - ECPv6.15.20//NONSGML v1.0//EN
CALSCALE:GREGORIAN
METHOD:PUBLISH
X-ORIGINAL-URL:https://www.cuc.edu.co
X-WR-CALDESC:Eventos para Universidad de la Costa CUC
REFRESH-INTERVAL;VALUE=DURATION:PT1H
X-Robots-Tag:noindex
X-PUBLISHED-TTL:PT1H
BEGIN:VTIMEZONE
TZID:America/New_York
BEGIN:DAYLIGHT
TZOFFSETFROM:-0500
TZOFFSETTO:-0400
TZNAME:EDT
DTSTART:20210314T070000
END:DAYLIGHT
BEGIN:STANDARD
TZOFFSETFROM:-0400
TZOFFSETTO:-0500
TZNAME:EST
DTSTART:20211107T060000
END:STANDARD
BEGIN:DAYLIGHT
TZOFFSETFROM:-0500
TZOFFSETTO:-0400
TZNAME:EDT
DTSTART:20220313T070000
END:DAYLIGHT
BEGIN:STANDARD
TZOFFSETFROM:-0400
TZOFFSETTO:-0500
TZNAME:EST
DTSTART:20221106T060000
END:STANDARD
BEGIN:DAYLIGHT
TZOFFSETFROM:-0500
TZOFFSETTO:-0400
TZNAME:EDT
DTSTART:20230312T070000
END:DAYLIGHT
BEGIN:STANDARD
TZOFFSETFROM:-0400
TZOFFSETTO:-0500
TZNAME:EST
DTSTART:20231105T060000
END:STANDARD
END:VTIMEZONE
BEGIN:VEVENT
DTSTART;TZID=America/New_York:20220913T180000
DTEND;TZID=America/New_York:20220913T180000
DTSTAMP:20260425T210414
CREATED:20220908T211552Z
LAST-MODIFIED:20220908T211602Z
UID:14535-1663092000-1663092000@www.cuc.edu.co
SUMMARY:Workshop Online “Tendencias en el mercado laboral”
DESCRIPTION:Estimado graduado y estudiante de posgrado\, el mercado laboral está en constante cambio y requiere de nuevas habilidades\, por lo que te invitamos a participar en nuestro próximo Workshop Online “Tendencias en el mercado laboral” este martes 13 de septiembre desde las 6:00pm a través de Teams. \nContaremos con la compañía de José Dulcey Ospino\, miembro del equipo de Desarrollo Regional de la Cámara de Comercio de Barranquilla.
URL:https://www.cuc.edu.co/evento/industria-4-0-impacto-sobre-la-sostenibilidad-y-mejora-de-procesos-5
CATEGORIES:Eventos Principales
ATTACH;FMTTYPE=image/png:https://www.cuc.edu.co/wp-content/uploads/2022/09/sol6317a7ae9a5b3.png
END:VEVENT
END:VCALENDAR