BEGIN:VCALENDAR
VERSION:2.0
PRODID:-//Universidad de la Costa CUC - ECPv6.15.20//NONSGML v1.0//EN
CALSCALE:GREGORIAN
METHOD:PUBLISH
X-ORIGINAL-URL:https://www.cuc.edu.co
X-WR-CALDESC:Eventos para Universidad de la Costa CUC
REFRESH-INTERVAL;VALUE=DURATION:PT1H
X-Robots-Tag:noindex
X-PUBLISHED-TTL:PT1H
BEGIN:VTIMEZONE
TZID:America/New_York
BEGIN:DAYLIGHT
TZOFFSETFROM:-0500
TZOFFSETTO:-0400
TZNAME:EDT
DTSTART:20210314T070000
END:DAYLIGHT
BEGIN:STANDARD
TZOFFSETFROM:-0400
TZOFFSETTO:-0500
TZNAME:EST
DTSTART:20211107T060000
END:STANDARD
BEGIN:DAYLIGHT
TZOFFSETFROM:-0500
TZOFFSETTO:-0400
TZNAME:EDT
DTSTART:20220313T070000
END:DAYLIGHT
BEGIN:STANDARD
TZOFFSETFROM:-0400
TZOFFSETTO:-0500
TZNAME:EST
DTSTART:20221106T060000
END:STANDARD
BEGIN:DAYLIGHT
TZOFFSETFROM:-0500
TZOFFSETTO:-0400
TZNAME:EDT
DTSTART:20230312T070000
END:DAYLIGHT
BEGIN:STANDARD
TZOFFSETFROM:-0400
TZOFFSETTO:-0500
TZNAME:EST
DTSTART:20231105T060000
END:STANDARD
END:VTIMEZONE
BEGIN:VEVENT
DTSTART;TZID=America/New_York:20220907T083000
DTEND;TZID=America/New_York:20220907T150000
DTSTAMP:20260425T210437
CREATED:20220906T212254Z
LAST-MODIFIED:20220906T212254Z
UID:14502-1662539400-1662562800@www.cuc.edu.co
SUMMARY:Jornada de vacunación contra el COVID-19
DESCRIPTION:Apreciada comunidad: \nSi aún no te has vacunado o completado tu esquema\, ¡es el momento de hacerlo! \nDesde la Vicerrectoría de Bienestar Universitario a través de la Dirección de Bienestar laboral y la Coordinación de salud\, queremos invitarte a participar de la gran jornada de vacunación contra el COVID-19 que se llevará a cabo el día 7 de septiembre en la plazoleta verde (frente a central) cumpliendo con todos los protocolos de bioseguridad\, de 8:30 a.m. a 3:00 p.m. (jornada continua) \nSe estarán aplicando dosis: primeras y segundas dosis\, así como primera y segunda dosis de refuerzo (habilitado para los mayores de 12 años) \nSujeto a disponibilidad de biológicos. Recuerda llevar tu carnet de vacunación. \nSi tienes alguna duda\, puedes escribir vía teams a enfermeria@cuc.edu.co \n#EnUniCostaNosCuidamos
URL:https://www.cuc.edu.co/evento/jornada-de-vacunacion-contra-el-covid-19
CATEGORIES:Eventos Principales
ATTACH;FMTTYPE=image/jpeg:https://www.cuc.edu.co/wp-content/uploads/2022/09/sol631128698547f.jpg
END:VEVENT
BEGIN:VEVENT
DTSTART;TZID=America/New_York:20220907T150000
DTEND;TZID=America/New_York:20220907T150000
DTSTAMP:20260425T210437
CREATED:20220906T215932Z
LAST-MODIFIED:20220906T215932Z
UID:14524-1662562800-1662562800@www.cuc.edu.co
SUMMARY:Webinar “Infraestructura de Medición Avanzada (AMI): Restos y logros en Colombia.”
DESCRIPTION:El Departamento de Posgrados de la Universidad de la Costa tiene el gusto de invitarlo al Webinar “Infraestructura de Medición Avanzada (AMI): Restos y logros en Colombia.”\, el cual se llevará a cabo el 7 de Septiembre a partir de las 3:00 p.m.\, a través de la plataforma Teams. \nLa participación es gratuita y los interesados pueden inscribirse AQUI \nOrganizan:\nDepartamento de Energía\nMayores informes:\nkberdugo2@cuc.edu.co
URL:https://www.cuc.edu.co/evento/webinar-infraestructura-de-medicion-avanzada-ami-restos-y-logros-en-colombia
CATEGORIES:Eventos Principales
ATTACH;FMTTYPE=image/png:https://www.cuc.edu.co/wp-content/uploads/2022/09/sol63174e0315fb3-1.png
END:VEVENT
BEGIN:VEVENT
DTSTART;TZID=America/New_York:20220907T180000
DTEND;TZID=America/New_York:20220907T180000
DTSTAMP:20260425T210437
CREATED:20220825T212937Z
LAST-MODIFIED:20220825T212937Z
UID:14438-1662573600-1662573600@www.cuc.edu.co
SUMMARY:Workshop Virtual ‘Aprende todo sobre el LinkedIn’
DESCRIPTION:Estimado graduado Unicosta \nEsta es tu oportunidad para aprender todo sobre LinkedIn y crear presencia en esta red social profesional. \nParticipa en el Workshop Virtual ‘Aprende todo sobre el LinkedIn’ el próximo miércoles 07 de septiembre desde las 6:00 p.m. a través de Teams. \nContaremos con el acompañamiento de Lisbeth Gómez\, actual líder de la Unidad de Desarrollo Profesional del departamento de Empleabilidad de la Universidad de la Costa; psicóloga y quien cuenta con más de 7 años de experiencia en el sector organizacional en multinacionales. \n \nNo te pierdas esta gran oportunidad de ser visible profesionalmente a gran escala. \nEsperamos contar con tu valiosa participación.
URL:https://www.cuc.edu.co/evento/workshop-virtual-aprende-todo-sobre-el-linkedin
CATEGORIES:Eventos Principales
ATTACH;FMTTYPE=image/png:https://www.cuc.edu.co/wp-content/uploads/2022/08/sol63068997709a9.png
END:VEVENT
END:VCALENDAR