BEGIN:VCALENDAR
VERSION:2.0
PRODID:-//Universidad de la Costa CUC - ECPv6.15.20//NONSGML v1.0//EN
CALSCALE:GREGORIAN
METHOD:PUBLISH
X-ORIGINAL-URL:https://www.cuc.edu.co
X-WR-CALDESC:Eventos para Universidad de la Costa CUC
REFRESH-INTERVAL;VALUE=DURATION:PT1H
X-Robots-Tag:noindex
X-PUBLISHED-TTL:PT1H
BEGIN:VTIMEZONE
TZID:America/New_York
BEGIN:DAYLIGHT
TZOFFSETFROM:-0500
TZOFFSETTO:-0400
TZNAME:EDT
DTSTART:20210314T070000
END:DAYLIGHT
BEGIN:STANDARD
TZOFFSETFROM:-0400
TZOFFSETTO:-0500
TZNAME:EST
DTSTART:20211107T060000
END:STANDARD
BEGIN:DAYLIGHT
TZOFFSETFROM:-0500
TZOFFSETTO:-0400
TZNAME:EDT
DTSTART:20220313T070000
END:DAYLIGHT
BEGIN:STANDARD
TZOFFSETFROM:-0400
TZOFFSETTO:-0500
TZNAME:EST
DTSTART:20221106T060000
END:STANDARD
BEGIN:DAYLIGHT
TZOFFSETFROM:-0500
TZOFFSETTO:-0400
TZNAME:EDT
DTSTART:20230312T070000
END:DAYLIGHT
BEGIN:STANDARD
TZOFFSETFROM:-0400
TZOFFSETTO:-0500
TZNAME:EST
DTSTART:20231105T060000
END:STANDARD
END:VTIMEZONE
BEGIN:VEVENT
DTSTART;VALUE=DATE:20220827
DTEND;VALUE=DATE:20220902
DTSTAMP:20260425T210437
CREATED:20220825T211335Z
LAST-MODIFIED:20220825T213434Z
UID:14414-1661558400-1662076799@www.cuc.edu.co
SUMMARY:Máster Class “Comunidades y Organizaciones resilientes al Cambio Climático.”
DESCRIPTION:El Departamento de Posgrados de la Universidad de la Costa tiene el gusto de invitarlo a la Máster Class “Comunidades y Organizaciones resilientes al Cambio Climático.”\, la cual se llevará a cabo en las siguientes fechas: \n27 de Agosto \n3 de Septiembre \n10 de Septiembre \n17 de Septiembre \n24 de Septiembre \n1 de Octubre \nLa participación es gratuita y los interesados pueden inscribirse en el siguiente ENLACE \nOrganizan: \nEspecialización en Gestión Territorial Sostenible. \nMaestría en Gestión Integral de Recursos hídricos. \nPrograma de Derecho \nPrograma de Administración Ambiental e Ingeniería Ambiental. \nMayores informes: dgoethe1@cuc.edu.co
URL:https://www.cuc.edu.co/evento/master-class-comunidades-y-organizaciones-resilientes-al-cambio-climatico
CATEGORIES:Eventos Principales
ATTACH;FMTTYPE=image/png:https://www.cuc.edu.co/wp-content/uploads/2022/08/sol63063d28d9580-1.png
END:VEVENT
BEGIN:VEVENT
DTSTART;VALUE=DATE:20220901
DTEND;VALUE=DATE:20220903
DTSTAMP:20260425T210437
CREATED:20220823T220848Z
LAST-MODIFIED:20220823T220848Z
UID:14390-1661990400-1662163199@www.cuc.edu.co
SUMMARY:Taller práctico ‘Las Patentes y la Innovación’
DESCRIPTION:La Unidad de Propiedad Intelectual adscrita a la Vicerrectoría de Ciencia\, Tecnología e Innovación\, dentro del marco de la ruta de vinculación del programa CATI (El centro de Apoyo a la Tecnología y a la Innovación)\, tenemos como objetivo fortalecer la cultura de gestión y protección de propiedad industrial y fomentar el conocimiento del sistema de propiedad industrial entre los demás actores del sistema de Ciencia tecnología e Innovación y Productividad de la región. \nEs por esto\, que tenemos el gusto de invitarlo a participar en el taller práctico ‘Las Patentes y la Innovación’\, el cual está dirigido a al público interesado en el mundo de la Propiedad Industrial. \nFecha: 1 y 2 de septiembre a través de Microsoft Teams (cupos limitados) \nPrimera sesión: Uso alternativo de documentos de Patentes\, estrategias de búsqueda y análisis del estado de la técnica. \nSegunda sesión: Herramientas de analítica. \nConferencista invitado: Gustavo Vergara – Business Development Manager de Minesoft. \nInscripciones AQUÍ \nMayor información: unidaddepropiedadintelectual@cuc.edu.co
URL:https://www.cuc.edu.co/evento/taller-practico-las-patentes-y-la-innovacion
CATEGORIES:Eventos Principales
ATTACH;FMTTYPE=image/png:https://www.cuc.edu.co/wp-content/uploads/2022/08/sol6303f7bd4772c.png
END:VEVENT
END:VCALENDAR