BEGIN:VCALENDAR
VERSION:2.0
PRODID:-//Universidad de la Costa CUC - ECPv6.15.20//NONSGML v1.0//EN
CALSCALE:GREGORIAN
METHOD:PUBLISH
X-WR-CALNAME:Universidad de la Costa CUC
X-ORIGINAL-URL:https://www.cuc.edu.co
X-WR-CALDESC:Eventos para Universidad de la Costa CUC
REFRESH-INTERVAL;VALUE=DURATION:PT1H
X-Robots-Tag:noindex
X-PUBLISHED-TTL:PT1H
BEGIN:VTIMEZONE
TZID:America/New_York
BEGIN:DAYLIGHT
TZOFFSETFROM:-0500
TZOFFSETTO:-0400
TZNAME:EDT
DTSTART:20210314T070000
END:DAYLIGHT
BEGIN:STANDARD
TZOFFSETFROM:-0400
TZOFFSETTO:-0500
TZNAME:EST
DTSTART:20211107T060000
END:STANDARD
BEGIN:DAYLIGHT
TZOFFSETFROM:-0500
TZOFFSETTO:-0400
TZNAME:EDT
DTSTART:20220313T070000
END:DAYLIGHT
BEGIN:STANDARD
TZOFFSETFROM:-0400
TZOFFSETTO:-0500
TZNAME:EST
DTSTART:20221106T060000
END:STANDARD
BEGIN:DAYLIGHT
TZOFFSETFROM:-0500
TZOFFSETTO:-0400
TZNAME:EDT
DTSTART:20230312T070000
END:DAYLIGHT
BEGIN:STANDARD
TZOFFSETFROM:-0400
TZOFFSETTO:-0500
TZNAME:EST
DTSTART:20231105T060000
END:STANDARD
END:VTIMEZONE
BEGIN:VEVENT
DTSTART;VALUE=DATE:20220827
DTEND;VALUE=DATE:20220902
DTSTAMP:20260425T223118
CREATED:20220825T211335Z
LAST-MODIFIED:20220825T213434Z
UID:14414-1661558400-1662076799@www.cuc.edu.co
SUMMARY:Máster Class “Comunidades y Organizaciones resilientes al Cambio Climático.”
DESCRIPTION:El Departamento de Posgrados de la Universidad de la Costa tiene el gusto de invitarlo a la Máster Class “Comunidades y Organizaciones resilientes al Cambio Climático.”\, la cual se llevará a cabo en las siguientes fechas: \n27 de Agosto \n3 de Septiembre \n10 de Septiembre \n17 de Septiembre \n24 de Septiembre \n1 de Octubre \nLa participación es gratuita y los interesados pueden inscribirse en el siguiente ENLACE \nOrganizan: \nEspecialización en Gestión Territorial Sostenible. \nMaestría en Gestión Integral de Recursos hídricos. \nPrograma de Derecho \nPrograma de Administración Ambiental e Ingeniería Ambiental. \nMayores informes: dgoethe1@cuc.edu.co
URL:https://www.cuc.edu.co/evento/master-class-comunidades-y-organizaciones-resilientes-al-cambio-climatico
CATEGORIES:Eventos Principales
ATTACH;FMTTYPE=image/png:https://www.cuc.edu.co/wp-content/uploads/2022/08/sol63063d28d9580-1.png
END:VEVENT
BEGIN:VEVENT
DTSTART;TZID=America/New_York:20220827T083000
DTEND;TZID=America/New_York:20220827T083000
DTSTAMP:20260425T223118
CREATED:20220825T212239Z
LAST-MODIFIED:20220825T212239Z
UID:14424-1661589000-1661589000@www.cuc.edu.co
SUMMARY:Webinar del Máster Class “Retos de las ciudades y organizaciones frente al camino a cero: una perspectiva desde la legislación colombiana.”
DESCRIPTION:El Departamento de Posgrados de La Universidad de la Costa tiene el gusto de invitarlo al 1er Webinar del Máster Class “Retos de las ciudades y organizaciones frente al camino a cero: una perspectiva desde la legislación colombiana.”\, el cual se llevará a cabo el 27 de agosto a partir de las 8:30 a.m. en la Sala de Conferencias 2\, Bloque 11. \nLa participación es gratuita y los interesados pueden inscribirse  AQUÍ \nOrganizan: \nEspecialización en Gestión Territorial Sostenible. \nMaestría en Gestión Integral de Recursos hídricos. \nPrograma de Derecho \nPrograma de Administración Ambiental e Ingeniería Ambiental. \nMayores informes: \ndgoethe1@cuc.edu.co
URL:https://www.cuc.edu.co/evento/webinar-del-master-class-retos-de-las-ciudades-y-organizaciones-frente-al-camino-a-cero-una-perspectiva-desde-la-legislacion-colombiana
CATEGORIES:Eventos Principales
ATTACH;FMTTYPE=image/png:https://www.cuc.edu.co/wp-content/uploads/2022/08/sol63067bd22f618.png
END:VEVENT
BEGIN:VEVENT
DTSTART;TZID=America/New_York:20220827T100000
DTEND;TZID=America/New_York:20220827T100000
DTSTAMP:20260425T223118
CREATED:20220825T212032Z
LAST-MODIFIED:20220825T212032Z
UID:14421-1661594400-1661594400@www.cuc.edu.co
SUMMARY:Webinar Internacional “Aplicaciones de la teledetección ambiental.”
DESCRIPTION:El Departamento de Posgrados de La Universidad de la Costa tiene el gusto de invitarlo al Webinar Internacional “Aplicaciones de la teledetección ambiental.”\, el cual se llevará a cabo el 27 de agosto a partir de las 10:00 a.m. (hora colombiana)\, 5: 00 p.m. (hora España) Vía Teams. \nLa participación es gratuita. \nOrganiza: \nEspecialización en Sistemas de Información Geográfica \nMaestría en Desarrollo Sostenible \nDoctorado en Desarrollo Sostenible \nMayores informes: \ncmilanes1@cuc.edu.co
URL:https://www.cuc.edu.co/evento/webinar-internacional-aplicaciones-de-la-teledeteccion-ambiental
CATEGORIES:Eventos Principales
ATTACH;FMTTYPE=image/png:https://www.cuc.edu.co/wp-content/uploads/2022/08/sol63065abd27705-1.png
END:VEVENT
END:VCALENDAR