BEGIN:VCALENDAR
VERSION:2.0
PRODID:-//Universidad de la Costa CUC - ECPv6.15.20//NONSGML v1.0//EN
CALSCALE:GREGORIAN
METHOD:PUBLISH
X-ORIGINAL-URL:https://www.cuc.edu.co
X-WR-CALDESC:Eventos para Universidad de la Costa CUC
REFRESH-INTERVAL;VALUE=DURATION:PT1H
X-Robots-Tag:noindex
X-PUBLISHED-TTL:PT1H
BEGIN:VTIMEZONE
TZID:America/New_York
BEGIN:DAYLIGHT
TZOFFSETFROM:-0500
TZOFFSETTO:-0400
TZNAME:EDT
DTSTART:20210314T070000
END:DAYLIGHT
BEGIN:STANDARD
TZOFFSETFROM:-0400
TZOFFSETTO:-0500
TZNAME:EST
DTSTART:20211107T060000
END:STANDARD
BEGIN:DAYLIGHT
TZOFFSETFROM:-0500
TZOFFSETTO:-0400
TZNAME:EDT
DTSTART:20220313T070000
END:DAYLIGHT
BEGIN:STANDARD
TZOFFSETFROM:-0400
TZOFFSETTO:-0500
TZNAME:EST
DTSTART:20221106T060000
END:STANDARD
BEGIN:DAYLIGHT
TZOFFSETFROM:-0500
TZOFFSETTO:-0400
TZNAME:EDT
DTSTART:20230312T070000
END:DAYLIGHT
BEGIN:STANDARD
TZOFFSETFROM:-0400
TZOFFSETTO:-0500
TZNAME:EST
DTSTART:20231105T060000
END:STANDARD
END:VTIMEZONE
BEGIN:VEVENT
DTSTART;TZID=America/New_York:20220825T080000
DTEND;TZID=America/New_York:20220826T180000
DTSTAMP:20260425T223129
CREATED:20220818T190454Z
LAST-MODIFIED:20220818T190454Z
UID:14340-1661414400-1661536800@www.cuc.edu.co
SUMMARY:Feria de Empleabilidad UniCosta
DESCRIPTION:Entre el 25 y 26 de agosto del 2022 se realizará en la institución la Feria de Empleabilidad UniCosta\, será un espacio diseñado para apoyar a los graduados y estudiantes que se encuentran en búsqueda de empleo a tener un contacto directo con empresas reconocidas del sector público y privado. \nEl objetivo principal es colocar a tu disposición oportunidades laborales a las que puedas postularte\, además de ayudarte a potencializar tu perfil profesional y tu competitividad en los procesos de selección en los que participes\, contaremos con: \n\nLa presencia de más de 30 empresas invitadas\nConferencias con invitados locales y nacionales\nEspacios para interactuar con los reclutadores\nActividades en las que podrás tener un acercamiento real a tu mercado laboral\n\nAdemás\, puedes participar de forma de gratuita y registrarte en nuestro portal de empleo CUCJOBS a través de EMMA en este ENLACE. \nContaremos con puntos de encuentros para el dialogo y la vinculación entre estudiantes\, graduados y organizaciones empleadoras. En este contexto se llevarán a cabo paneles\, talleres y conferencias que se realizarán ambos días. \n¡Te esperamos! \nMayor información: \nJoyce Montero – jmontero16@cuc.edu.co \nAndrés Pacheco – apacheco21@cuc.edu.co \nVía Teams
URL:https://www.cuc.edu.co/evento/feria-de-empleabilidad-unicosta
CATEGORIES:Eventos Principales
ATTACH;FMTTYPE=image/png:https://www.cuc.edu.co/wp-content/uploads/2022/08/sol62fd6bff1bb2b.png
END:VEVENT
BEGIN:VEVENT
DTSTART;TZID=America/New_York:20220825T083000
DTEND;TZID=America/New_York:20220826T180000
DTSTAMP:20260425T223129
CREATED:20220823T220256Z
LAST-MODIFIED:20220823T220256Z
UID:14378-1661416200-1661536800@www.cuc.edu.co
SUMMARY:Feria Empresarial Unicosta
DESCRIPTION:Apreciada comunidad Unicosta \nDesde el Departamento de Empleabilidad te invitamos a nuestra Feria Empresarial UNICOSTA que se desarrollará el próximo 25 y 26 de agosto en cafetería Central\, será un espacio que te permitirá entrar al mercado laboral\, capacitarte y generar contacto con muchas empresas. \nNo te pierdas esta gran oportunidad de ser visible profesionalmente a gran escala. \nEsperamos contar con tu valiosa participación. \nSeguimos conectados\, estamos contigo
URL:https://www.cuc.edu.co/evento/feria-empresarial-unicosta
CATEGORIES:Eventos Principales
ATTACH;FMTTYPE=image/png:https://www.cuc.edu.co/wp-content/uploads/2022/08/Imagen1-1.png
END:VEVENT
END:VCALENDAR