BEGIN:VCALENDAR
VERSION:2.0
PRODID:-//Universidad de la Costa CUC - ECPv6.15.20//NONSGML v1.0//EN
CALSCALE:GREGORIAN
METHOD:PUBLISH
X-WR-CALNAME:Universidad de la Costa CUC
X-ORIGINAL-URL:https://www.cuc.edu.co
X-WR-CALDESC:Eventos para Universidad de la Costa CUC
REFRESH-INTERVAL;VALUE=DURATION:PT1H
X-Robots-Tag:noindex
X-PUBLISHED-TTL:PT1H
BEGIN:VTIMEZONE
TZID:America/New_York
BEGIN:DAYLIGHT
TZOFFSETFROM:-0500
TZOFFSETTO:-0400
TZNAME:EDT
DTSTART:20210314T070000
END:DAYLIGHT
BEGIN:STANDARD
TZOFFSETFROM:-0400
TZOFFSETTO:-0500
TZNAME:EST
DTSTART:20211107T060000
END:STANDARD
BEGIN:DAYLIGHT
TZOFFSETFROM:-0500
TZOFFSETTO:-0400
TZNAME:EDT
DTSTART:20220313T070000
END:DAYLIGHT
BEGIN:STANDARD
TZOFFSETFROM:-0400
TZOFFSETTO:-0500
TZNAME:EST
DTSTART:20221106T060000
END:STANDARD
BEGIN:DAYLIGHT
TZOFFSETFROM:-0500
TZOFFSETTO:-0400
TZNAME:EDT
DTSTART:20230312T070000
END:DAYLIGHT
BEGIN:STANDARD
TZOFFSETFROM:-0400
TZOFFSETTO:-0500
TZNAME:EST
DTSTART:20231105T060000
END:STANDARD
END:VTIMEZONE
BEGIN:VEVENT
DTSTART;TZID=America/New_York:20220818T183000
DTEND;TZID=America/New_York:20220818T203000
DTSTAMP:20260425T224139
CREATED:20220818T185611Z
LAST-MODIFIED:20220818T185611Z
UID:14328-1660847400-1660854600@www.cuc.edu.co
SUMMARY:Conversatorio “Productividad y Eficiencia en las Organizaciones.”
DESCRIPTION:El Departamento de Posgrados de la Universidad de la Costa tiene el gusto de invitarlo al Conversatorio “Productividad y Eficiencia en las Organizaciones.”\, el cual se llevará a cabo el 18 de agosto a partir de las 6:30 p.m. en la Sala de Conferencias 2- Bloque 11. \nLa participación es gratuita y los interesados pueden inscribirse en el siguiente ENLACE \nOrganiza: \nMaestria en Administración \nMayores informes: \nechang1@cuc.edu.co
URL:https://www.cuc.edu.co/evento/conversatorio-productividad-y-eficiencia-en-las-organizaciones
CATEGORIES:Eventos Principales
ATTACH;FMTTYPE=image/png:https://www.cuc.edu.co/wp-content/uploads/2022/08/INSCRIBETE-13-1.png
END:VEVENT
END:VCALENDAR