BEGIN:VCALENDAR
VERSION:2.0
PRODID:-//Universidad de la Costa CUC - ECPv6.15.20//NONSGML v1.0//EN
CALSCALE:GREGORIAN
METHOD:PUBLISH
X-ORIGINAL-URL:https://www.cuc.edu.co
X-WR-CALDESC:Eventos para Universidad de la Costa CUC
REFRESH-INTERVAL;VALUE=DURATION:PT1H
X-Robots-Tag:noindex
X-PUBLISHED-TTL:PT1H
BEGIN:VTIMEZONE
TZID:America/New_York
BEGIN:DAYLIGHT
TZOFFSETFROM:-0500
TZOFFSETTO:-0400
TZNAME:EDT
DTSTART:20210314T070000
END:DAYLIGHT
BEGIN:STANDARD
TZOFFSETFROM:-0400
TZOFFSETTO:-0500
TZNAME:EST
DTSTART:20211107T060000
END:STANDARD
BEGIN:DAYLIGHT
TZOFFSETFROM:-0500
TZOFFSETTO:-0400
TZNAME:EDT
DTSTART:20220313T070000
END:DAYLIGHT
BEGIN:STANDARD
TZOFFSETFROM:-0400
TZOFFSETTO:-0500
TZNAME:EST
DTSTART:20221106T060000
END:STANDARD
BEGIN:DAYLIGHT
TZOFFSETFROM:-0500
TZOFFSETTO:-0400
TZNAME:EDT
DTSTART:20230312T070000
END:DAYLIGHT
BEGIN:STANDARD
TZOFFSETFROM:-0400
TZOFFSETTO:-0500
TZNAME:EST
DTSTART:20231105T060000
END:STANDARD
END:VTIMEZONE
BEGIN:VEVENT
DTSTART;TZID=America/New_York:20220817T080000
DTEND;TZID=America/New_York:20220817T160000
DTSTAMP:20260425T223114
CREATED:20220804T181900Z
LAST-MODIFIED:20220804T181900Z
UID:14213-1660723200-1660752000@www.cuc.edu.co
SUMMARY:¡Salud a tu Ofi!
DESCRIPTION:Desde la Vicerrectoría de Bienestar Universitario\, a través de la Coordinación de salud invitamos a los colaboradores a realizarse el examen de optometría con la Óptica Pracso. \nRecuerda que tu salud visual es muy importante y su revisión debe hacerse por lo menos una vez al año. \nTe esperamos el próximo 17 de agosto de manera presencial en el bloque 11 salón 307. Cupos limitados. \nPara participar inscríbete. AQUÍ
URL:https://www.cuc.edu.co/evento/salud-a-tu-ofi-2
CATEGORIES:Eventos Principales
ATTACH;FMTTYPE=image/jpeg:https://www.cuc.edu.co/wp-content/uploads/2022/08/sol62ea7cdf46cc7.jpg
END:VEVENT
BEGIN:VEVENT
DTSTART;TZID=America/New_York:20220817T150000
DTEND;TZID=America/New_York:20220817T150000
DTSTAMP:20260425T223114
CREATED:20220816T210556Z
LAST-MODIFIED:20220817T133328Z
UID:14271-1660748400-1660748400@www.cuc.edu.co
SUMMARY:CUC Learning: Acabados Exteriores\, conceptos básicos de Pinturas y preparación de Superficies
DESCRIPTION:Estimados estudiantes \nSi perteneces a los programas de Ingeniería Civil y Arquitectura esta información es para ti. Desde el Departamento de Empleabilidad se pensó en un espacio en el que puedas poner en práctica tus conocimientos y aprender mucho más\, es por eso que te invitamos a participar en el CUC Learning: Acabados Exteriores\, conceptos básicos de Pinturas y preparación de Superficies\, el próximo miércoles 17 de agosto a las 3:00 pm en la Sala de conferencia 1\, Bloque 11 Piso 3. \nContaremos con la presencia especial de la empresa PINTUCO \nNo te pierdas esta gran oportunidad de ser visible profesionalmente a gran escala. \nEsperamos contar con tu valiosa participación. \nSeguimos conectados\, estamos contigo.
URL:https://www.cuc.edu.co/evento/cuc-learning-acabados-exteriores-conceptos-basicos-de-pinturas-y-preparacion-de-superficies
CATEGORIES:Eventos Principales
ATTACH;FMTTYPE=image/png:https://www.cuc.edu.co/wp-content/uploads/2022/08/Pieza-n3-1.png
END:VEVENT
END:VCALENDAR