BEGIN:VCALENDAR
VERSION:2.0
PRODID:-//Universidad de la Costa CUC - ECPv6.15.20//NONSGML v1.0//EN
CALSCALE:GREGORIAN
METHOD:PUBLISH
X-WR-CALNAME:Universidad de la Costa CUC
X-ORIGINAL-URL:https://www.cuc.edu.co
X-WR-CALDESC:Eventos para Universidad de la Costa CUC
REFRESH-INTERVAL;VALUE=DURATION:PT1H
X-Robots-Tag:noindex
X-PUBLISHED-TTL:PT1H
BEGIN:VTIMEZONE
TZID:America/New_York
BEGIN:DAYLIGHT
TZOFFSETFROM:-0500
TZOFFSETTO:-0400
TZNAME:EDT
DTSTART:20210314T070000
END:DAYLIGHT
BEGIN:STANDARD
TZOFFSETFROM:-0400
TZOFFSETTO:-0500
TZNAME:EST
DTSTART:20211107T060000
END:STANDARD
BEGIN:DAYLIGHT
TZOFFSETFROM:-0500
TZOFFSETTO:-0400
TZNAME:EDT
DTSTART:20220313T070000
END:DAYLIGHT
BEGIN:STANDARD
TZOFFSETFROM:-0400
TZOFFSETTO:-0500
TZNAME:EST
DTSTART:20221106T060000
END:STANDARD
BEGIN:DAYLIGHT
TZOFFSETFROM:-0500
TZOFFSETTO:-0400
TZNAME:EDT
DTSTART:20230312T070000
END:DAYLIGHT
BEGIN:STANDARD
TZOFFSETFROM:-0400
TZOFFSETTO:-0500
TZNAME:EST
DTSTART:20231105T060000
END:STANDARD
END:VTIMEZONE
BEGIN:VEVENT
DTSTART;VALUE=DATE:20220809
DTEND;VALUE=DATE:20220812
DTSTAMP:20260425T223016
CREATED:20220616T223112Z
LAST-MODIFIED:20220616T225540Z
UID:13771-1660003200-1660262399@www.cuc.edu.co
SUMMARY:XIX Encuentro Departamental de Semilleros de Investigación – RedCOLSI Nodo Atlántico
DESCRIPTION:XIX Encuentro Departamental de Semilleros de Investigación – RedCOLSI Nodo Atlántico \nSe realizará en modalidad presencial del 9 al 11 de agosto del 2022. \nLa Universidad de la Costa te invita a participar del ‘XIX Encuentro Departamental de Semilleros de Investigación – RedCOLSI Nodo Atlántico’ que busca propiciar un espacio dinámico e integral de socialización\, aprendizaje y discusión de la investigación de los semilleros para valorar su labor\, fortalecer el trabajo en red y el intercambio de actividades de formación de estudiantes investigadores. \nRealizarán actividades como: \n• Socialización de proyectos modalidad presencial.\n• Talleres y conferencias modalidad presencial y virtual.\n• Espacio de Infancias Investigadoras \nLa participación se podrá realizar en calidad de Ponente\, Talleristas y Evaluadores y se llevará a cabo del 9 al 11 de agosto del 2022\, la fecha limite de recepción de proyectos será hasta el 31 de mayo del año en curso. \nPara más información ingresa al PDF ADJUNTO
URL:https://www.cuc.edu.co/evento/xix-encuentro-departamental-de-semilleros-de-investigacion-redcolsi-nodo-atlantico
CATEGORIES:Eventos Principales
ATTACH;FMTTYPE=image/png:https://www.cuc.edu.co/wp-content/uploads/2022/06/sol626b2cb0781a7_1-1-1.png
END:VEVENT
END:VCALENDAR