BEGIN:VCALENDAR
VERSION:2.0
PRODID:-//Universidad de la Costa CUC - ECPv6.15.20//NONSGML v1.0//EN
CALSCALE:GREGORIAN
METHOD:PUBLISH
X-ORIGINAL-URL:https://www.cuc.edu.co
X-WR-CALDESC:Eventos para Universidad de la Costa CUC
REFRESH-INTERVAL;VALUE=DURATION:PT1H
X-Robots-Tag:noindex
X-PUBLISHED-TTL:PT1H
BEGIN:VTIMEZONE
TZID:America/New_York
BEGIN:DAYLIGHT
TZOFFSETFROM:-0500
TZOFFSETTO:-0400
TZNAME:EDT
DTSTART:20210314T070000
END:DAYLIGHT
BEGIN:STANDARD
TZOFFSETFROM:-0400
TZOFFSETTO:-0500
TZNAME:EST
DTSTART:20211107T060000
END:STANDARD
BEGIN:DAYLIGHT
TZOFFSETFROM:-0500
TZOFFSETTO:-0400
TZNAME:EDT
DTSTART:20220313T070000
END:DAYLIGHT
BEGIN:STANDARD
TZOFFSETFROM:-0400
TZOFFSETTO:-0500
TZNAME:EST
DTSTART:20221106T060000
END:STANDARD
BEGIN:DAYLIGHT
TZOFFSETFROM:-0500
TZOFFSETTO:-0400
TZNAME:EDT
DTSTART:20230312T070000
END:DAYLIGHT
BEGIN:STANDARD
TZOFFSETFROM:-0400
TZOFFSETTO:-0500
TZNAME:EST
DTSTART:20231105T060000
END:STANDARD
END:VTIMEZONE
BEGIN:VEVENT
DTSTART;TZID=America/New_York:20220729T180000
DTEND;TZID=America/New_York:20220729T180000
DTSTAMP:20260426T000456
CREATED:20220712T153603Z
LAST-MODIFIED:20220712T153603Z
UID:14034-1659117600-1659117600@www.cuc.edu.co
SUMMARY:Inducción y bienvenida padres Unicosta 2022-2
DESCRIPTION:La Vicerrectoría de Bienestar a través de la Coordinación de Servicios Familiares\, invita a los padres de familia de nuestros estudiantes admitidos de primer semestre a participar de la Inducción y Bienvenida a padres de familia\, evento donde recibirás información de gran interés referente a los servicios que ofrece la institución para ellos y sus hijos\, permitiendo así involucrarlos como corresponsables de su educación y generando un vínculo con la universidad.
URL:https://www.cuc.edu.co/evento/induccion-y-bienvenida-padres-unicosta-2022-2
CATEGORIES:Eventos Principales
ATTACH;FMTTYPE=image/png:https://www.cuc.edu.co/wp-content/uploads/2022/07/PIEZA-UNDUCCION-PADRES-UNICOSTA-1-1.png
END:VEVENT
END:VCALENDAR